BEGIN:VCALENDAR
VERSION:2.0
PRODID:-//Roma Revealed - ECPv5.4.0//NONSGML v1.0//EN
CALSCALE:GREGORIAN
METHOD:PUBLISH
X-WR-CALNAME:Roma Revealed
X-ORIGINAL-URL:https://romarevealed.com.au
X-WR-CALDESC:Events for Roma Revealed
BEGIN:VTIMEZONE
TZID:Australia/Brisbane
BEGIN:STANDARD
TZOFFSETFROM:+1000
TZOFFSETTO:+1000
TZNAME:AEST
DTSTART:20210101T000000
END:STANDARD
END:VTIMEZONE
BEGIN:VEVENT
DTSTART;TZID=Australia/Brisbane:20211231T170000
DTEND;TZID=Australia/Brisbane:20211231T233000
DTSTAMP:20210228T030350
CREATED:20201210T010051Z
LAST-MODIFIED:20201210T012414Z
UID:1721-1640970000-1640993400@romarevealed.com.au
SUMMARY:Mitchell New Year’s Eve Night Pro Rodeo
DESCRIPTION:Save the date and lock yourself in for a great night out in Mitchel\, there is no better place to welcome in a new year that at a Pro Rodeo!! Top class 8 event pro rodeo\, DJ & Big screen\, bar\, food stalls\, jumping castle\, water slide and lots of fun!!  \nContact the Booringa Action Group https://www.mitchellqld.com/booringa-action-group for further details.
URL:https://romarevealed.com.au/event/mitchell-new-years-eve-night-pro-rodeo/
ATTACH;FMTTYPE=image/jpeg:https://romarevealed.com.au/wp-content/uploads/2020/11/Pro-Rodeo.jpg
END:VEVENT
BEGIN:VEVENT
DTSTART;TZID=Australia/Brisbane:20211001T080000
DTEND;TZID=Australia/Brisbane:20211001T170000
DTSTAMP:20210228T030350
CREATED:20201106T035236Z
LAST-MODIFIED:20201106T035236Z
UID:1717-1633075200-1633107600@romarevealed.com.au
SUMMARY:Injune Rodeo
DESCRIPTION:The Injune Rodeo will offer all the thrills and spills you come to expect at this exciting event. There will be a bar and canteen will be running throughout the day.  Action will kick off at 2pm followed by live music that night.
URL:https://romarevealed.com.au/event/injune-rodeo/
ATTACH;FMTTYPE=image/jpeg:https://romarevealed.com.au/wp-content/uploads/2020/11/Tooloombilla.jpg
END:VEVENT
BEGIN:VEVENT
DTSTART;TZID=Australia/Brisbane:20210904T110000
DTEND;TZID=Australia/Brisbane:20210904T170000
DTSTAMP:20210228T030350
CREATED:20201106T034731Z
LAST-MODIFIED:20210127T225719Z
UID:1711-1630753200-1630774800@romarevealed.com.au
SUMMARY:Surat Digger’s Races
DESCRIPTION:Experience the thrill of thoroughbred racing with a 5-race programme\, featuring the Surat Diggers VJ Butler Memorial Cup..  Enjoy all-day access to ATM\, bar & canteen facilities – treat yourself to one of Wendy’s Pies! There is a jumping castle\, playground\, and face-painting for the young ones. Of course\, no race day would be complete without a hotly-contested Fashions-on-the-Field competition with fabulous prizes on offer and the Charity Luncheon is always a highlight.
URL:https://romarevealed.com.au/event/surat-diggers-races/
ATTACH;FMTTYPE=image/jpeg:https://romarevealed.com.au/wp-content/uploads/2020/11/Surat-Races.jpg
ORGANIZER;CN="Surat%20Diggers%20Race%20Club":MAILTO:suratraces@gmail.com
END:VEVENT
BEGIN:VEVENT
DTSTART;VALUE=DATE:20210702
DTEND;VALUE=DATE:20210912
DTSTAMP:20210228T030350
CREATED:20210225T014710Z
LAST-MODIFIED:20210225T014710Z
UID:2239-1625184000-1631404799@romarevealed.com.au
SUMMARY:Sculptures Out Back
DESCRIPTION:Sculptures Out Back is an outdoor sculpture exhibition that runs annually from 02 July through to the 11 September 2021.  Artists are invited to display their works by contacting the Roma on Bungil Gallery Committee. \nSculptures Out Back will be positioned adjacent to the Warrego Highway between The Big Rig and Explorers Inn.  It will provide a welcoming feature to both residents and visitors alike.  Visitors will be able to park at The Big Rig and walk through the sculptures to get an up close view of the artists work.
URL:https://romarevealed.com.au/event/sculptures-out-back/
LOCATION:Warrago Highway Roma\, 2 Riggers Road\, Roma\, Australia
ATTACH;FMTTYPE=image/jpeg:https://romarevealed.com.au/wp-content/uploads/2021/02/mrc-airport-5-scaled.jpg
ORGANIZER;CN="Roma%20on%20Bungil%20Gallery":MAILTO:secretary@romaonbungil.com.au
END:VEVENT
BEGIN:VEVENT
DTSTART;TZID=Australia/Brisbane:20210626T110000
DTEND;TZID=Australia/Brisbane:20210626T180000
DTSTAMP:20210228T030350
CREATED:20201106T033955Z
LAST-MODIFIED:20210127T055659Z
UID:1706-1624705200-1624730400@romarevealed.com.au
SUMMARY:Roma Rugby Races
DESCRIPTION:A smorgasbord of race action and footy is the order of the day when the Roma Turf Club and Roma Rugby Club join forces at Bassett Park. The event combines rugby union and horse racing on one day at one venue. Visitors get to enjoy a day of live sport\, and the ladies get to dress up in winter fashion.
URL:https://romarevealed.com.au/event/roma-rugby-races/
LOCATION:Roma Turf Club\, Bassett Park\, Northern Road\, Roma\, Queensland\, 4455\, Australia
ATTACH;FMTTYPE=image/jpeg:https://romarevealed.com.au/wp-content/uploads/2020/11/Rugby-Day-Race.jpg
ORGANIZER;CN="Roma%20Turf%20Club":MAILTO:info@romaturfclub.org.au
END:VEVENT
BEGIN:VEVENT
DTSTART;TZID=Australia/Brisbane:20210605T110000
DTEND;TZID=Australia/Brisbane:20210605T180000
DTSTAMP:20210228T030350
CREATED:20201106T014550Z
LAST-MODIFIED:20210127T042605Z
UID:1676-1622890800-1622916000@romarevealed.com.au
SUMMARY:Injune Cup Races
DESCRIPTION:Injune signature racing event gets bigger and better each year. Traditionally the town comes together for a day of children’s entertainment\, delicious food\, a bar and live music – not to mention the horse racing! The thrilling Injune Hotel Calcutta during the main race is a highlight with plenty of prizes up for grabs for enthusiastic racegoers.
URL:https://romarevealed.com.au/event/injune-cup-races/
LOCATION:Possum Park Injune
ATTACH;FMTTYPE=image/png:https://romarevealed.com.au/wp-content/uploads/2020/08/roma-cup.png
END:VEVENT
BEGIN:VEVENT
DTSTART;VALUE=DATE:20210529
DTEND;VALUE=DATE:20210712
DTSTAMP:20210228T030350
CREATED:20210204T043048Z
LAST-MODIFIED:20210204T043048Z
UID:2216-1622246400-1626047999@romarevealed.com.au
SUMMARY:Light in the Landscape Art Exhibition
DESCRIPTION:Inspired by her ‘plein air’ travels and an Australian light that is a light like no other\, Tricia brings you an exhibition that captures this light in pastel\, oil and pen & wash.  From the outback\, to the expansive mountain ranges\, to coastline Australia. \nGallery opening times:\nMonday – Friday 9am to 4.30pm\nSaturday – Sunday 10am to 4pm
URL:https://romarevealed.com.au/event/light-in-the-landscape-art-exhibition/
LOCATION:Surat on Balonne Gallery\, 62 Burrowes Street\, Surat\, QLD\, 4417\, Australia
ATTACH;FMTTYPE=image/jpeg:https://romarevealed.com.au/wp-content/uploads/2021/02/Tricia-Taylor-First-Light-45cm-x-35cm_.jpg
END:VEVENT
BEGIN:VEVENT
DTSTART;TZID=Australia/Brisbane:20210508T193000
DTEND;TZID=Australia/Brisbane:20210508T213000
DTSTAMP:20210228T030350
CREATED:20201210T225848Z
LAST-MODIFIED:20201210T225848Z
UID:2106-1620502200-1620509400@romarevealed.com.au
SUMMARY:A Taste of Ireland
DESCRIPTION:A performance that is ‘Celtic―for this generation’. Laugh\, cry and jig into the night with a show that has entertained thousands. \n‘A Taste of Ireland’ features acclaimed Irish dancers\, dazzling folk musicians and contemporary vocalists. Experience the raw\, rhythmic passion that is the original story of the Celtic motherland. \nWith revamped classics like ‘Danny Boy’ and ‘Tell Me Ma’\, the show’s live\, energetic blend of well-known tunes\, jaw-dropping acapella tap battles\, melodic folk music mash-ups and craic galore transports you through the story of Ireland’s tumultuous history\, complimented by stunning production and lighting. \nExperience one of the best Irish Dance shows in the world today. With all new sets\, costumes\, tunes and effects\, we promise you haven’t seen anything like this year’s show!
URL:https://romarevealed.com.au/event/a-taste-of-ireland/
LOCATION:Roma Cultural Centre\, 57 Bungil Street\, Roma\, QLD\, 4455\, Australia
ATTACH;FMTTYPE=image/png:https://romarevealed.com.au/wp-content/uploads/2020/12/A-Taste-Of-Ireland.png
END:VEVENT
BEGIN:VEVENT
DTSTART;TZID=Australia/Brisbane:20210507T070000
DTEND;TZID=Australia/Brisbane:20210508T233000
DTSTAMP:20210228T030350
CREATED:20210127T023404Z
LAST-MODIFIED:20210127T023404Z
UID:2175-1620370800-1620516600@romarevealed.com.au
SUMMARY:Roma Show
DESCRIPTION:Agricultural shows have played a leading role in the development of agriculture and communities\, they are one of the oldest continuous events in Australia.  \n  \nThe Roma Show has been running since 1873 and it displays a lively mix of competitions and demonstrations; displays of farming and commercial goods; arts and crafts; educational information; entertainment\, sideshows and amusement rides.
URL:https://romarevealed.com.au/event/roma-show/
LOCATION:Bassett Park Showgrounds\, Northern Road\, Roma\, QLD\, 4455\, Australia
ATTACH;FMTTYPE=image/jpeg:https://romarevealed.com.au/wp-content/uploads/2021/01/Roma-Show-2.jpg
ORGANIZER;CN="Roma%20Show%20Society":MAILTO:roma.show.society@bigpond.com
END:VEVENT
BEGIN:VEVENT
DTSTART;TZID=Australia/Brisbane:20210502T110000
DTEND;TZID=Australia/Brisbane:20210502T180000
DTSTAMP:20210228T030350
CREATED:20210215T235903Z
LAST-MODIFIED:20210215T235903Z
UID:2228-1619953200-1619978400@romarevealed.com.au
SUMMARY:Plough Day
DESCRIPTION:Calling all tractor and vehicle enthusiasts! \nThe Plough Day is an event not to be missed. Join them for a great day enjoying tractors in action ploughing and pulling. There will be tractors\, vehicle and machinery displays and markets.
URL:https://romarevealed.com.au/event/plough-day/
LOCATION:Roma Polocrosse Grounds\, 520 Carnarvon Highway\, Roma\, QLD\, 4455\, Australia
ATTACH;FMTTYPE=image/jpeg:https://romarevealed.com.au/wp-content/uploads/2021/02/Plough-Day.jpg
END:VEVENT
BEGIN:VEVENT
DTSTART;VALUE=DATE:20210430
DTEND;VALUE=DATE:20210502
DTSTAMP:20210228T030350
CREATED:20210221T234041Z
LAST-MODIFIED:20210221T234041Z
UID:2180-1619740800-1619913599@romarevealed.com.au
SUMMARY:Wallumbilla Show
DESCRIPTION:The Wallumbilla show celebrates our rural traditions\, the community and produce of the area. The Show entails Cattle\, Horse\, Poultry\, Produce\, Cooking\, Arts\, Handicraft\, Horticulture and Photography competitions. Along with a Ute and Car show competition\, Sideshow alley and a variety of stalls and displays. \nThere’s plenty of food and drinks\, live music and fireworks so come along with the family and celebrate with the community.
URL:https://romarevealed.com.au/event/wallumbilla-show/
LOCATION:Wallumbilla Show Grounds\, Showgrounds Road\, Wallumbilla\, QLD\, 4428\, Australia
ATTACH;FMTTYPE=image/jpeg:https://romarevealed.com.au/wp-content/uploads/2021/01/wallumbilla-Show-2.jpg
ORGANIZER;CN="Wallumbilla%20Agricultural%20Pastoral%20Association":MAILTO:wallumbillashow@gmail.com
END:VEVENT
BEGIN:VEVENT
DTSTART;VALUE=DATE:20210423
DTEND;VALUE=DATE:20210426
DTSTAMP:20210228T030350
CREATED:20210127T064529Z
LAST-MODIFIED:20210127T064529Z
UID:2187-1619136000-1619395199@romarevealed.com.au
SUMMARY:Injune Golden Bit Campdraft
DESCRIPTION:Locals and visitors pack out the Possum Park Racecourse as the annual Injune Golden Bit Campdraft gets under way. This unique Australian sport showcases a horse and rider working cattle and requires consummate skill and horsemanship. You will see the best of the region compete for the coveted Golden Bit Trophy.
URL:https://romarevealed.com.au/event/injune-golden-bit-campdraft-2/
LOCATION:Injune Campdraft Grounds\, Racecourse Road\, Injune\, QLD\, 4454\, Australia
ATTACH;FMTTYPE=image/jpeg:https://romarevealed.com.au/wp-content/uploads/2020/11/Horse-Butts.jpg
END:VEVENT
BEGIN:VEVENT
DTSTART;TZID=Australia/Brisbane:20210401T080000
DTEND;TZID=Australia/Brisbane:20210405T170000
DTSTAMP:20210228T030350
CREATED:20201106T032905Z
LAST-MODIFIED:20201106T032905Z
UID:1697-1617264000-1617642000@romarevealed.com.au
SUMMARY:Easter in the Country
DESCRIPTION:Roma is set for a huge Easter in 2021. Roma’s famous\, five-day Easter in the Country festival is of all things country.  The long running event encapsulates everything unique that outback Queensland’s lifestyle has to offer. The festival offers a range of activities for the thrill-seeker\, the cultural and culinary buff\, those who like to take things a little more leisurely and to top it off – 2021 will see Roma showcase some of the best country music on the planet featuring a concert extravaganza with Lee Kernaghan and The Wolfe Brothers!
URL:https://romarevealed.com.au/event/easter-in-the-country/
ATTACH;FMTTYPE=image/jpeg:https://romarevealed.com.au/wp-content/uploads/2020/11/Easter-in-the-Country.jpg
END:VEVENT
BEGIN:VEVENT
DTSTART;VALUE=DATE:20210327
DTEND;VALUE=DATE:20210524
DTSTAMP:20210228T030350
CREATED:20210204T045759Z
LAST-MODIFIED:20210204T045759Z
UID:2218-1616803200-1621814399@romarevealed.com.au
SUMMARY:Die Gedanken Sind Frei (Thoughts are free) Art Exhibition
DESCRIPTION:Die Gedanken Sind Frei (Thoughts are Free) is an exhibition of works by David Carson. \nGallery opening times:\nMonday – Friday 9am to 4.30pm\nSaturday – Sunday 10am to 4pm
URL:https://romarevealed.com.au/event/die-gedanken-sind-frei-thoughts-are-free-art-exhibition/
LOCATION:Surat on Balonne Gallery\, 62 Burrowes Street\, Surat\, QLD\, 4417\, Australia
ATTACH;FMTTYPE=image/jpeg:https://romarevealed.com.au/wp-content/uploads/2021/02/Girl-in-a-Red-Hat_David-Carson.jpg
END:VEVENT
BEGIN:VEVENT
DTSTART;TZID=Australia/Brisbane:20210326T183000
DTEND;TZID=Australia/Brisbane:20210327T180000
DTSTAMP:20210228T030350
CREATED:20201106T013948Z
LAST-MODIFIED:20210127T065215Z
UID:1673-1616783400-1616868000@romarevealed.com.au
SUMMARY:Roma Picnic Races
DESCRIPTION:A weekend of racing\, wining\, dining and dancing. The event has been running since 1901 and is fondly known as the locals’ favourite Roma race meeting. The Friday Night Black Tie Ball features pre-dinner drinks and canapés on the lawn on arrival at Bassett Park\, full table service for a three course dinner and a live band with dancing until midnight. On Saturday there is a five race program\, Fashions on the Field\, Art & Tea in the Wool Court and Live entertainment.
URL:https://romarevealed.com.au/event/roma-picnic-races/
LOCATION:Roma Picninc Race Club\, PO Box 532 Roma\, Roma\, Queensland\, 4455
ATTACH;FMTTYPE=image/png:https://romarevealed.com.au/wp-content/uploads/2020/08/roma-cup.png
END:VEVENT
BEGIN:VEVENT
DTSTART;TZID=Australia/Brisbane:20210319T100000
DTEND;TZID=Australia/Brisbane:20210321T180000
DTSTAMP:20210228T030350
CREATED:20201106T032507Z
LAST-MODIFIED:20210125T034104Z
UID:1693-1616148000-1616349600@romarevealed.com.au
SUMMARY:Tooloombilla Rodeo and Campdraft
DESCRIPTION:Kick back\, enjoy the action and get behind the cowboys and cowgirls as they slog it out in one of the worlds toughest sports. Watch the professionals competitors and stationhands trying the make the 8 second bell\, showing nerves of steel. Bull and Steer riding\, saddleride and bareback plus the timed barrel racing and steer wrestling tends to get the whole crowd leaning with the competitor and hat’s off to the ropers as they manage horse\, beast\, gate and rope. \nTooloombilla Station is located between the two towns of Mitchell and Injune so it is the ideal location to be truly immersed in this authentic outback experience.
URL:https://romarevealed.com.au/event/tooloombilla-rodeo-and-campdraft/
LOCATION:Tooloombilla Rodeo\, Campdraft and Gymkhana
ATTACH;FMTTYPE=image/jpeg:https://romarevealed.com.au/wp-content/uploads/2020/11/Tooloombilla.jpg
END:VEVENT
BEGIN:VEVENT
DTSTART;TZID=Australia/Brisbane:20210313T180000
DTEND;TZID=Australia/Brisbane:20210313T235900
DTSTAMP:20210228T030350
CREATED:20210112T055348Z
LAST-MODIFIED:20210125T001418Z
UID:2111-1615658400-1615679940@romarevealed.com.au
SUMMARY:Dancing Under the Stars Gala Ball
DESCRIPTION:Proudly supporting Dolly’s Dream\, Dancing Under the Stars presents their third annual Black-Tie Gala Ball in Roma. \nCome along to help raise awareness and remember Amy ‘Dolly’ Everett\, who in 2018 tragically left us too early. \nThe evening will include a delicious sit-down meal\, live music by Reckless\, bar\, raffles\, and silent auctions. \nJoining us this year is special guest Clinton Toopi\, NRL State of Mind. \n  \nOur Sponsors for our amazing event: \n Gold – Mounts Machinery and Roma Glass & Aluminium \nSilver – Enzed Surat\, Banks Bolts & Fasteners\, Western Downs PHN\, Queensland Health\, Maranoa Council\, Roma Explorers Inn\, and Stapleton Carpentry & Concreating Services. \nBronze – Dusty Creek and Crawfo’s Tyres \nSpecial mention – Condon Noller\, Roma Performing Arts Society\, and SignaSaurus Roma. \n  \nTickets can be purchased from www.trybooking.com/BOIAV
URL:https://romarevealed.com.au/event/dancing-under-the-stars-gala-ball/
LOCATION:Roma Explorers Inn\, 44778 Warrego Highway\, Roma\, QLD\, 4455\, Australia
ATTACH;FMTTYPE=image/png:https://romarevealed.com.au/wp-content/uploads/2021/01/DUTS-Event-listing.png
END:VEVENT
BEGIN:VEVENT
DTSTART;TZID=Australia/Brisbane:20210313T150000
DTEND;TZID=Australia/Brisbane:20210313T233000
DTSTAMP:20210228T030350
CREATED:20210222T003741Z
LAST-MODIFIED:20210222T003741Z
UID:2236-1615647600-1615678200@romarevealed.com.au
SUMMARY:Wallumbilla Bulls\, Broncs & Barrels Rodeo
DESCRIPTION:Bring the family and friends along for an exciting evening at the Wallumbilla Bulls\, Broncs and Barrels Rodeo. There will be a bar & canteen\, live music and jumping castle.
URL:https://romarevealed.com.au/event/wallumbilla-bulls-broncs-barrels-rodeo/
LOCATION:Wallumbilla Show Grounds\, Showgrounds Road\, Wallumbilla\, QLD\, 4428\, Australia
ATTACH;FMTTYPE=image/jpeg:https://romarevealed.com.au/wp-content/uploads/2021/02/bull-ride-scaled.jpg
ORGANIZER;CN="Wallumbilla%20Agricultural%20Pastoral%20Association":MAILTO:wallumbillashow@gmail.com
END:VEVENT
BEGIN:VEVENT
DTSTART;TZID=Australia/Brisbane:20210306T120000
DTEND;TZID=Australia/Brisbane:20210307T203000
DTSTAMP:20210228T030350
CREATED:20210119T001618Z
LAST-MODIFIED:20210212T035538Z
UID:2162-1615032000-1615149000@romarevealed.com.au
SUMMARY:Road to Roma County Music Festival
DESCRIPTION:Road to Roma will take place over two incredible music filled days and feature some of Australian Country music’s most exciting starts. \nHeadlining the event is hot new band\, Darlinghurst.  The Melbourne quartet have had a huge 18 months with their first four singles hitting #1 on the charts and scoring their first Golden Guitar nomination for New Talent of the Year \nOther not to be missed artists include Andrew Swift\, Jayne Denham\, Bec Lavelle\, Ben Ransom\, Kaitlyn Thomas and many more!
URL:https://romarevealed.com.au/event/road-to-roma-county-music-festival/
LOCATION:The Club Hotel Roma\, 42 McDowall Street\, Roma\, QLD\, 4455\, Australia
ATTACH;FMTTYPE=image/jpeg:https://romarevealed.com.au/wp-content/uploads/2021/01/RTR1.jpg
END:VEVENT
END:VCALENDAR