BEGIN:VCALENDAR
VERSION:2.0
PRODID:-//Roma Revealed - ECPv6.15.20//NONSGML v1.0//EN
CALSCALE:GREGORIAN
METHOD:PUBLISH
X-ORIGINAL-URL:https://romarevealed.com.au
X-WR-CALDESC:Events for Roma Revealed
REFRESH-INTERVAL;VALUE=DURATION:PT1H
X-Robots-Tag:noindex
X-PUBLISHED-TTL:PT1H
BEGIN:VTIMEZONE
TZID:Australia/Brisbane
BEGIN:STANDARD
TZOFFSETFROM:+1000
TZOFFSETTO:+1000
TZNAME:AEST
DTSTART:20230101T000000
END:STANDARD
END:VTIMEZONE
BEGIN:VEVENT
DTSTART;TZID=Australia/Brisbane:20240704T190000
DTEND;TZID=Australia/Brisbane:20240704T220000
DTSTAMP:20260426T135812
CREATED:20240408T233032Z
LAST-MODIFIED:20240617T035856Z
UID:3476-1720119600-1720130400@romarevealed.com.au
SUMMARY:Graeme Connors - My Lyrical Life 50 Years
DESCRIPTION:Master singer-songwriter Graeme Connors is opening his vast catalogue of songs and heading a little further north\, south\, east and west\, bringing his new book and concert ‘My Lyrical Life’ to Roma as part of celebrations for his half century in the music industry. \nGraeme and his musicians are looking forward to being on the road and visiting as many places as possible in 2024/2025 and Roma is on that list. Drawing together the 217 songs represented in My Lyrical Life has given Graeme the chance to rediscover many gems from the past alongside the fan favourites – so see you in Roma you just might recognise your town in a Graeme Connors song.
URL:https://romarevealed.com.au/event/graeme-connors-my-lyrical-life-50-years/
LOCATION:Roma Cultural Centre
CATEGORIES:Arts & Culture,Music, Performance & Entertainment,Performing Arts
ATTACH;FMTTYPE=image/jpeg:https://romarevealed.com.au/wp-content/uploads/2024/04/Connors.jpeg
END:VEVENT
BEGIN:VEVENT
DTSTART;TZID=Australia/Brisbane:20240707T100000
DTEND;TZID=Australia/Brisbane:20240707T140000
DTSTAMP:20260426T135812
CREATED:20230828T062219Z
LAST-MODIFIED:20240628T054725Z
UID:3243-1720346400-1720360800@romarevealed.com.au
SUMMARY:Roma Showground Markets
DESCRIPTION:The Roma Showground Markets offers a mix of local produce\, handcrafted goods\, unique artisan products\, and delicious food stalls. \nHeld on the first Sunday of every month\, the markets provide a perfect opportunity to support local vendors and discover what they have to offer.
URL:https://romarevealed.com.au/event/roma-showground-markets-5/
LOCATION:Bassett Park Showgrounds\, Northern Road\, Roma\, QLD\, 4455\, Australia
CATEGORIES:Arts & Culture,Food & Drink
ATTACH;FMTTYPE=image/jpeg:https://romarevealed.com.au/wp-content/uploads/2022/08/Markets-e1666656539713.jpg
END:VEVENT
BEGIN:VEVENT
DTSTART;VALUE=DATE:20240722
DTEND;VALUE=DATE:20240726
DTSTAMP:20260426T135812
CREATED:20240708T230643Z
LAST-MODIFIED:20240716T051200Z
UID:3693-1721606400-1721951999@romarevealed.com.au
SUMMARY:Meet the Cast: The Sunshine Club
DESCRIPTION:Swing into The Sunshine Club\, where everyone is welcome and romances bloom!  \nThe talented cast of Queensland Theatre production\, The Sunshine Club will be performing free mini concerts across the Roma region with songs from the musical\, followed by a meet & greet. Don’t miss this opportunity to get a sneak peek of the vibrant and powerful story before the main performance on September 21. \n\nDates and Venues:\n\n\n• Monday\, 22 July | 10am | Surat Shire Hall\n• Monday\, 22 July | 4pm| Roma Cultural Centre\n• Tuesday\, 23 July | 10am | Mitchell Shire Hall\n\n\n\nDuration: Each event will last 1 hour. These events will not be ticketed\, so there is no need to register – simply turn up!\n\n\n\n\n\nFor more information\, contact Kate Mulcahy at 0450 054 174 or katemulcahy@hotmail.com.
URL:https://romarevealed.com.au/event/meet-the-cast-the-sunshine-club/
LOCATION:Various Locations – Roma\, Roma\, QLD\, Australia
CATEGORIES:Arts & Culture,Performing Arts
ATTACH;FMTTYPE=image/jpeg:https://romarevealed.com.au/wp-content/uploads/2024/07/Sunshine_Header_2400x1200.jpg
END:VEVENT
END:VCALENDAR