BEGIN:VCALENDAR
VERSION:2.0
PRODID:-//Roma Revealed - ECPv6.15.20//NONSGML v1.0//EN
CALSCALE:GREGORIAN
METHOD:PUBLISH
X-WR-CALNAME:Roma Revealed
X-ORIGINAL-URL:https://romarevealed.com.au
X-WR-CALDESC:Events for Roma Revealed
REFRESH-INTERVAL;VALUE=DURATION:PT1H
X-Robots-Tag:noindex
X-PUBLISHED-TTL:PT1H
BEGIN:VTIMEZONE
TZID:Australia/Brisbane
BEGIN:STANDARD
TZOFFSETFROM:+1000
TZOFFSETTO:+1000
TZNAME:AEST
DTSTART:20230101T000000
END:STANDARD
END:VTIMEZONE
BEGIN:VEVENT
DTSTART;TZID=Australia/Brisbane:20240901T100000
DTEND;TZID=Australia/Brisbane:20240901T140000
DTSTAMP:20260426T105748
CREATED:20240805T034224Z
LAST-MODIFIED:20240828T000555Z
UID:3731-1725184800-1725199200@romarevealed.com.au
SUMMARY:Roma Showground Markets
DESCRIPTION:The Roma Showground Markets offers a mix of local produce\, handcrafted goods\, unique artisan products\, and delicious food stalls. \nHeld on the first Sunday of every month\, the markets provide a perfect opportunity to support local vendors and discover what they have to offer.
URL:https://romarevealed.com.au/event/roma-showground-markets-7/
LOCATION:Bassett Park Showgrounds\, Northern Road\, Roma\, QLD\, 4455\, Australia
CATEGORIES:Arts & Culture,Community & Family,Food & Drink
ATTACH;FMTTYPE=image/png:https://romarevealed.com.au/wp-content/uploads/2024/08/Roma-Showground-Markets-1.png
END:VEVENT
BEGIN:VEVENT
DTSTART;TZID=Australia/Brisbane:20240908T090000
DTEND;TZID=Australia/Brisbane:20240908T130000
DTSTAMP:20260426T105748
CREATED:20240801T033124Z
LAST-MODIFIED:20240828T001042Z
UID:3725-1725786000-1725800400@romarevealed.com.au
SUMMARY:Roma Butter Factory Markets
DESCRIPTION:Head to the Roma Butter Factory Markets for lovely products from local artisans\, hand sewing\, wool spinning and leatherwork demonstrations as well as light entertainment. Food available to purchase!
URL:https://romarevealed.com.au/event/roma-butter-factory-markets-2/
LOCATION:Roma Butter Factory\, 18 Station Street\, Roma\, QLD\, 4455\, Australia
CATEGORIES:Arts & Culture,Community & Family,Food & Drink
ATTACH;FMTTYPE=image/png:https://romarevealed.com.au/wp-content/uploads/2024/08/Roma-Butter-Factory.png
END:VEVENT
BEGIN:VEVENT
DTSTART;VALUE=DATE:20240913
DTEND;VALUE=DATE:20240915
DTSTAMP:20260426T105748
CREATED:20240816T014248Z
LAST-MODIFIED:20240828T002219Z
UID:3817-1726185600-1726358399@romarevealed.com.au
SUMMARY:Paint & Sip at the Queens Arms
DESCRIPTION:Come celebrate with the ultimate party experience!\n\nPaint Parties are fun group painting sessions that provide the opportunity to gather your friends and wine while you design\, regardless of your artistic ability or skill. Your expert teacher guides you step-by-step. It’s that easy!\n\nThis is NOT an art workshop- so put on your drinking boots and let’s have some fun!\n\nAdults ONLY event\, 18 years and over.
URL:https://romarevealed.com.au/event/paint-sip-at-the-queens-arms/
LOCATION:Queens Arms Hotel Roma\, McDowall Street\, Roma\, QLD\, 4455
CATEGORIES:Arts & Culture,Food & Drink
ATTACH;FMTTYPE=image/png:https://romarevealed.com.au/wp-content/uploads/2024/08/Paint-and-Sip.png
END:VEVENT
BEGIN:VEVENT
DTSTART;TZID=Australia/Brisbane:20240914T190000
DTEND;TZID=Australia/Brisbane:20240914T233000
DTSTAMP:20260426T105748
CREATED:20240805T035346Z
LAST-MODIFIED:20240828T003024Z
UID:3732-1726340400-1726356600@romarevealed.com.au
SUMMARY:Gatsby Casino
DESCRIPTION:Get ready to party like Gatsby at this swanky casino event – it’s gonna be a night to remember! \n\n18+ Event\nDoors open 7pm\nPrice includes 1x drink on arrival and Finger food during the night\nBar operating with EFTPOS available\nLive Band – Two Way Active\n8 Gambling Tables on offer\nBankers Booth\n\n 
URL:https://romarevealed.com.au/event/gatsby-casino/
LOCATION:Roma Cultural Centre
CATEGORIES:Arts & Culture,Community & Family
ATTACH;FMTTYPE=image/png:https://romarevealed.com.au/wp-content/uploads/2024/08/Casino.png
ORGANIZER;CN="Roma Show Society":MAILTO:roma.show.society@bigpond.com
END:VEVENT
BEGIN:VEVENT
DTSTART;TZID=Australia/Brisbane:20240915T120000
DTEND;TZID=Australia/Brisbane:20240915T143000
DTSTAMP:20260426T105748
CREATED:20240816T014506Z
LAST-MODIFIED:20240828T003209Z
UID:3819-1726401600-1726410600@romarevealed.com.au
SUMMARY:Queens Arms Kids Painting
DESCRIPTION:Join us for the ultimate creative kids experience with a fun painting session.\n\nA fun group painting session that provides the opportunity for parents to relax with a delicious lunch while we guide the kids through an artistic adventure painting a masterpiece- regardless of their ability or skill. Their expert teacher guides them step-by-step.\n\n**5 years and over is ideal. But we do cater for real littlies.
URL:https://romarevealed.com.au/event/3819/
LOCATION:Queens Arms Hotel Roma\, McDowall Street\, Roma\, QLD\, 4455
CATEGORIES:Arts & Culture,Community & Family
ATTACH;FMTTYPE=image/png:https://romarevealed.com.au/wp-content/uploads/2024/08/Kids-Painting.png
END:VEVENT
BEGIN:VEVENT
DTSTART;VALUE=DATE:20240916
DTEND;VALUE=DATE:20240920
DTSTAMP:20260426T105748
CREATED:20240913T030347Z
LAST-MODIFIED:20240913T034830Z
UID:3924-1726444800-1726790399@romarevealed.com.au
SUMMARY:Queensland Ballet Maranoa Community Classes
DESCRIPTION:Discover the joy of dance with Queensland Ballet’s Maranoa Community Classes. \nThese fun and engaging holiday workshops guide participants through a ballet class to warm up before teaching a piece of Queensland Ballet Company Repertoire. Workshops are available for age groups 6-9 years and 10-15 years\, in Roma\, Injune\, Mitchell and Surat. \nFor more details\, visit www.queenslandballet.com.au/events/maranoa-community-classes.
URL:https://romarevealed.com.au/event/queensland-ballet-maranoa-community-classes/
LOCATION:Various locations
CATEGORIES:Arts & Culture,Business & Educational,Community & Family,Performing Arts
ATTACH;FMTTYPE=image/png:https://romarevealed.com.au/wp-content/uploads/2024/09/Ballet.png
ORGANIZER;CN="Queensland Ballet":MAILTO:mail@queenslandballet.com.au
END:VEVENT
BEGIN:VEVENT
DTSTART;TZID=Australia/Brisbane:20240921T093000
DTEND;TZID=Australia/Brisbane:20240921T093000
DTSTAMP:20260426T105748
CREATED:20240912T231241Z
LAST-MODIFIED:20240912T231241Z
UID:3872-1726911000-1726911000@romarevealed.com.au
SUMMARY:Springhill Country Craft Retreat's 10th Birthday
DESCRIPTION:Celebrating 10 years of Springhill Country Craft Retreat!
URL:https://romarevealed.com.au/event/springhill-country-craft-retreats-10th-birthday/
LOCATION:Springhill Country Craft Retreat\, Amby\, Amby\, Queensland\, 4462\, Australia
CATEGORIES:Arts & Culture,Community & Family
ATTACH;FMTTYPE=image/png:https://romarevealed.com.au/wp-content/uploads/2024/09/Springhill-Country-Craft-Retreats-10th-Birthday.png
ORGANIZER;CN="Springhill Country Craft Retreat":MAILTO:gandgburey@bigpond.com
END:VEVENT
BEGIN:VEVENT
DTSTART;TZID=Australia/Brisbane:20240922T093000
DTEND;TZID=Australia/Brisbane:20240922T093000
DTSTAMP:20260426T105748
CREATED:20240912T231954Z
LAST-MODIFIED:20240912T232302Z
UID:3877-1726997400-1726997400@romarevealed.com.au
SUMMARY:'The Arthouse' Garden Day
DESCRIPTION:Come along to ‘The Arthouse’ Garden Day\, raising funds for Creative Injune to fit out ‘The Arthouse’. \n\nCooking demonstration followed by morning tea\nGarden talk – Lawns\, Q&A with Daisy May\nSip-n-Paint – register with Puddy\, $40pp\n\nThroughout the day there will also be a plant stall\, book stall\, bric-a-brac stall\, massages\, fortune telling\, raffle\, kids fence painting\, face painting\, refreshments\, and a sausage sizzle. Garden art and paintings in Silent Auction. \nFor more information contact Puddy Chandler at chandler.puddy@gmail.com or 0429 160 004.
URL:https://romarevealed.com.au/event/the-arthouse-garden-day/
LOCATION:Cobbadah\, 181 Ninderra Road\, Injune\, QLD\, 4454\, Australia
CATEGORIES:Arts & Culture,Community & Family
ATTACH;FMTTYPE=image/png:https://romarevealed.com.au/wp-content/uploads/2024/09/The-Arthouse-Garden-Day.png
END:VEVENT
BEGIN:VEVENT
DTSTART;TZID=Australia/Brisbane:20240928T070000
DTEND;TZID=Australia/Brisbane:20240928T160000
DTSTAMP:20260426T105748
CREATED:20240912T233451Z
LAST-MODIFIED:20240912T233658Z
UID:3887-1727506800-1727539200@romarevealed.com.au
SUMMARY:Beginner's Blacksmithing Workshop
DESCRIPTION:Learn the basics of Blacksmithing with these fun\, hands-on Blacksmithing Workshops for Beginners with qualified Blacksmith\, Mick Henricks at The Farmer’s Forge. \nYou’ll make a Fireplace Set to take home with you – including a Fire Poker\, Rake & Shovel (not to mention your flash new skills as a Smithy!). \nOnly 4 participants per workshop\, all materials supplied\, and you’ll have your own Forge\, Anvil and Tools to operate on the day. Morning Tea & Lunch also provided.
URL:https://romarevealed.com.au/event/beginners-blacksmithing-workshop-28-9/
LOCATION:The Farmer’s Forge\, 42 Tiffin Street\, Roma\, QLD\, 4455\, Australia
CATEGORIES:Arts & Culture,Business & Educational
ATTACH;FMTTYPE=image/png:https://romarevealed.com.au/wp-content/uploads/2024/09/Farmers-Forge-Beginners-Blacksmithing-Workshop.png
ORGANIZER;CN="The Farmer's Forge":MAILTO:gday@thefarmersforge.com.au
END:VEVENT
BEGIN:VEVENT
DTSTART;TZID=Australia/Brisbane:20240929T070000
DTEND;TZID=Australia/Brisbane:20240929T160000
DTSTAMP:20260426T105748
CREATED:20240912T233529Z
LAST-MODIFIED:20240912T233720Z
UID:3891-1727593200-1727625600@romarevealed.com.au
SUMMARY:Beginner's Blacksmithing Workshop
DESCRIPTION:Learn the basics of Blacksmithing with these fun\, hands-on Blacksmithing Workshops for Beginners with qualified Blacksmith\, Mick Henricks at The Farmer’s Forge. \nYou’ll make a Fireplace Set to take home with you – including a Fire Poker\, Rake & Shovel (not to mention your flash new skills as a Smithy!). \nOnly 4 participants per workshop\, all materials supplied\, and you’ll have your own Forge\, Anvil and Tools to operate on the day. Morning Tea & Lunch also provided.
URL:https://romarevealed.com.au/event/beginners-blacksmithing-workshop-29-9/
LOCATION:The Farmer’s Forge\, 42 Tiffin Street\, Roma\, QLD\, 4455\, Australia
CATEGORIES:Arts & Culture,Business & Educational
ATTACH;FMTTYPE=image/png:https://romarevealed.com.au/wp-content/uploads/2024/09/Farmers-Forge-Beginners-Blacksmithing-Workshop.png
ORGANIZER;CN="The Farmer's Forge":MAILTO:gday@thefarmersforge.com.au
END:VEVENT
END:VCALENDAR