BEGIN:VCALENDAR
VERSION:2.0
PRODID:-//Roma Revealed - ECPv6.15.20//NONSGML v1.0//EN
CALSCALE:GREGORIAN
METHOD:PUBLISH
X-WR-CALNAME:Roma Revealed
X-ORIGINAL-URL:https://romarevealed.com.au
X-WR-CALDESC:Events for Roma Revealed
REFRESH-INTERVAL;VALUE=DURATION:PT1H
X-Robots-Tag:noindex
X-PUBLISHED-TTL:PT1H
BEGIN:VTIMEZONE
TZID:Australia/Brisbane
BEGIN:STANDARD
TZOFFSETFROM:+1000
TZOFFSETTO:+1000
TZNAME:AEST
DTSTART:20230101T000000
END:STANDARD
END:VTIMEZONE
BEGIN:VEVENT
DTSTART;TZID=Australia/Brisbane:20241002T183000
DTEND;TZID=Australia/Brisbane:20241002T203000
DTSTAMP:20260426T093500
CREATED:20240814T023526Z
LAST-MODIFIED:20240814T023526Z
UID:3772-1727893800-1727901000@romarevealed.com.au
SUMMARY:Festival of Small Halls - Mitchell
DESCRIPTION:Woodfordia Inc presents SPRING TOUR 2024: OUTBACK QUEENSLAND  \nFestival of Small Halls is a series of tours that takes some of the best folk and contemporary acoustic artists and sends them on the road to halls in communities all over Australia. Each night on the tour is a beautiful occasion for original music\, and a chance to catch up with family and friends over cake and tea during a supper break. \nThe festival’s Outback Queensland Spring Tour 2024 features Canadian multi-award-winning singer-songwriter Kellie Loder\, and Van Dijk & Mcdonald from Meanjin/Brisbane. 
URL:https://romarevealed.com.au/event/festival-of-small-halls-mitchell/
LOCATION:Mitchell Shire Hall\, Cambridge Street\, Mitchell\, QLD
CATEGORIES:Arts & Culture,Community & Family,Music, Performance & Entertainment
ATTACH;FMTTYPE=image/png:https://romarevealed.com.au/wp-content/uploads/2024/08/2024_QSP_Spring_Banner-Image_1640x924-1024x577-1.png
ORGANIZER;CN="Festival of Small Halls":MAILTO:smallhalls@woodfordia.com
END:VEVENT
BEGIN:VEVENT
DTSTART;TZID=Australia/Brisbane:20241003T183000
DTEND;TZID=Australia/Brisbane:20241003T203000
DTSTAMP:20260426T093500
CREATED:20240814T023640Z
LAST-MODIFIED:20240814T023640Z
UID:3775-1727980200-1727987400@romarevealed.com.au
SUMMARY:Festival of Small Halls - Surat
DESCRIPTION:Woodfordia Inc presents SPRING TOUR 2024: OUTBACK QUEENSLAND  \nFestival of Small Halls is a series of tours that takes some of the best folk and contemporary acoustic artists and sends them on the road to halls in communities all over Australia. Each night on the tour is a beautiful occasion for original music\, and a chance to catch up with family and friends over cake and tea during a supper break. \nThe festival’s Outback Queensland Spring Tour 2024 features Canadian multi-award-winning singer-songwriter Kellie Loder\, and Van Dijk & Mcdonald from Meanjin/Brisbane. 
URL:https://romarevealed.com.au/event/festival-of-small-halls-surat/
LOCATION:Surat Shire Hall\, 24 Cordelia Street\, Surat\, QLD\, 4417\, Australia
CATEGORIES:Arts & Culture,Community & Family,Music, Performance & Entertainment
ATTACH;FMTTYPE=image/png:https://romarevealed.com.au/wp-content/uploads/2024/08/2024_QSP_Spring_Banner-Image_1640x924-1024x577-1.png
ORGANIZER;CN="Festival of Small Halls":MAILTO:smallhalls@woodfordia.com
END:VEVENT
BEGIN:VEVENT
DTSTART;TZID=Australia/Brisbane:20241003T183000
DTEND;TZID=Australia/Brisbane:20241005T210000
DTSTAMP:20260426T093500
CREATED:20240918T010123Z
LAST-MODIFIED:20240918T010514Z
UID:3937-1727980200-1728162000@romarevealed.com.au
SUMMARY:Love Pizza
DESCRIPTION:Join us for ‘Love Pizza’\, the latest production from Roma Performing Arts. Don’t miss this delicious slice of community theatre! \nSeating will be at tables. During the night\, each table will receive complimentary pizza and garlic bread. A bar will also be available. \nDoors open at 6:30 pm\, show starts at 7:00 pm.
URL:https://romarevealed.com.au/event/love-pizza/
LOCATION:Roma Cultural Centre
CATEGORIES:Arts & Culture,Community & Family,Music, Performance & Entertainment
ATTACH;FMTTYPE=image/png:https://romarevealed.com.au/wp-content/uploads/2024/09/Love-Pizza.png
ORGANIZER;CN="Roma Performing Arts":MAILTO:romaperformingarts@gmail.com
END:VEVENT
BEGIN:VEVENT
DTSTART;TZID=Australia/Brisbane:20241006T100000
DTEND;TZID=Australia/Brisbane:20241006T140000
DTSTAMP:20260426T093500
CREATED:20240912T233828Z
LAST-MODIFIED:20240912T233828Z
UID:3894-1728208800-1728223200@romarevealed.com.au
SUMMARY:Roma Showground Markets
DESCRIPTION:The Roma Showground Markets offers a mix of local produce\, handcrafted goods\, unique artisan products\, and delicious food stalls. \nHeld on the first Sunday of every month\, the markets provide a perfect opportunity to support local vendors and discover what they have to offer.
URL:https://romarevealed.com.au/event/roma-showground-markets-8/
LOCATION:Bassett Park Showgrounds\, Northern Road\, Roma\, QLD\, 4455\, Australia
CATEGORIES:Arts & Culture,Community & Family,Food & Drink
ATTACH;FMTTYPE=image/png:https://romarevealed.com.au/wp-content/uploads/2024/08/Roma-Showground-Markets-1.png
END:VEVENT
BEGIN:VEVENT
DTSTART;TZID=Australia/Brisbane:20241007T170000
DTEND;TZID=Australia/Brisbane:20241007T193000
DTSTAMP:20260426T093500
CREATED:20240917T235221Z
LAST-MODIFIED:20240918T005513Z
UID:3935-1728320400-1728329400@romarevealed.com.au
SUMMARY:Songs at Twilight: Australian Girls Choir
DESCRIPTION:Join us for a magical evening at Moorelands Bush Nursery\, where the beauty of nature meets the inspiring voices of the Australian Girls Choir. As part of their 2024 National Tour\, 58 talented choristers from across Australia will grace us with a breathtaking performance in the tranquil garden setting. \nImmerse yourself in a captivating concert under the stars\, where music and nature come together to create an unforgettable night for all ages. Bring your family\, friends\, and love of music to experience this enchanting event. \nTickets are only $5 and can be booked through our TryBooking link\, with proceeds supporting the Roma & District Eisteddfod Music Workshops. Additionally\, Cheese Box Platters will be available for $15\, and refreshments can be purchased on-site.
URL:https://romarevealed.com.au/event/songs-at-twilight-australian-girls-choir/
LOCATION:Moorelands Bush Nursery\, Dargal Road\, Bungeworgorai\, QLD\, 4455\, Australia
CATEGORIES:Arts & Culture,Community & Family,Music, Performance & Entertainment
ATTACH;FMTTYPE=image/png:https://romarevealed.com.au/wp-content/uploads/2024/09/Songs-at-Twilight.png
ORGANIZER;CN="Moorelands Bush Nursery":MAILTO:juliemurray105@hotmail.com
END:VEVENT
BEGIN:VEVENT
DTSTART;TZID=Australia/Brisbane:20241011T173000
DTEND;TZID=Australia/Brisbane:20241011T203000
DTSTAMP:20260426T093500
CREATED:20240813T221841Z
LAST-MODIFIED:20240813T224120Z
UID:3767-1728667800-1728678600@romarevealed.com.au
SUMMARY:Tom Curtain's Good Life Tour Mitchell
DESCRIPTION:To celebrate the release of his fifth album\, multiple Golden Guitar winner and horseman extraordinaire Tom Curtain\, has again hit the road with his award-winning Outback Show Katherine Outback Experience as part of his Good Life Tour. \nThe show is entertaining\, engaging\, interactive and family-friendly\, and consists of: \n\n1 hour Katherine Outback Experience Show of real horse training and working dog demonstrations including plenty of hands-on fun for the kids!\n2 hours of live music by Tom Curtain\, Laura Frank and Chris Matthews\n\n 
URL:https://romarevealed.com.au/event/tom-curtains-good-life-tour-mitchell/
LOCATION:Mitchell Showgrounds\, Mary St\, Mitchell\, Queensland\, 4465\, Australia
CATEGORIES:Arts & Culture,Community & Family,Music, Performance & Entertainment
ATTACH;FMTTYPE=image/jpeg:https://romarevealed.com.au/wp-content/uploads/2024/08/Tom-Curtain-Good-Life-Tour-image.jpg
ORGANIZER;CN="Outback Productions":MAILTO:admin@tomcurtain.com.au
END:VEVENT
BEGIN:VEVENT
DTSTART;TZID=Australia/Brisbane:20241012T140000
DTEND;TZID=Australia/Brisbane:20241012T190000
DTSTAMP:20260426T093500
CREATED:20240912T234536Z
LAST-MODIFIED:20240912T234536Z
UID:3897-1728741600-1728759600@romarevealed.com.au
SUMMARY:Chord n Colour Music & Art Festival
DESCRIPTION:Embrace Roma’s music and art scene! \nFind new hobbies\, support local markets\, and enjoy some of the best live music that Southwest Queensland has to offer.
URL:https://romarevealed.com.au/event/chord-n-colour-music-art-festival/
LOCATION:Roma Skate Park\, Corner of McDowall Street and Cottell Street\, Roma\, QLD\, 4455\, Australia
CATEGORIES:Arts & Culture,Community & Family,Music, Performance & Entertainment,Performing Arts
ATTACH;FMTTYPE=image/jpeg:https://romarevealed.com.au/wp-content/uploads/2024/09/Chord-n-COlour-banner.jpg
ORGANIZER;CN="The Bloke with a Beard":MAILTO:admin@theblokewithabeard.com
END:VEVENT
BEGIN:VEVENT
DTSTART;TZID=Australia/Brisbane:20241012T173000
DTEND;TZID=Australia/Brisbane:20241012T203000
DTSTAMP:20260426T093500
CREATED:20240813T222055Z
LAST-MODIFIED:20240813T222149Z
UID:3770-1728754200-1728765000@romarevealed.com.au
SUMMARY:Tom Curtain's Good Life Tour Surat
DESCRIPTION:To celebrate the release of his fifth album\, multiple Golden Guitar winner and horseman extraordinaire Tom Curtain\, has again hit the road with his award-winning Outback Show Katherine Outback Experience as part of his Good Life Tour. \nThe show is entertaining\, engaging\, interactive and family-friendly\, and consists of: \n\n1 hour Katherine Outback Experience Show of real horse training and working dog demonstrations including plenty of hands-on fun for the kids!\n2 hours of live music by Tom Curtain\, Laura Frank and Chris Matthews\n\n 
URL:https://romarevealed.com.au/event/tom-curtains-good-life-tour-surat/
LOCATION:Surat Racecourse\, Surat Developmental Road Surat\, Surat\, QLD\, 4417\, Australia
CATEGORIES:Arts & Culture,Community & Family,Music, Performance & Entertainment
ATTACH;FMTTYPE=image/jpeg:https://romarevealed.com.au/wp-content/uploads/2024/08/Tom-Curtain-Good-Life-Tour-image.jpg
ORGANIZER;CN="Outback Productions":MAILTO:admin@tomcurtain.com.au
END:VEVENT
BEGIN:VEVENT
DTSTART;VALUE=DATE:20241017
DTEND;VALUE=DATE:20241118
DTSTAMP:20260426T093500
CREATED:20240912T235334Z
LAST-MODIFIED:20241016T064246Z
UID:3901-1729123200-1731887999@romarevealed.com.au
SUMMARY:Resin Jewellery Workshop
DESCRIPTION:Join us for a Resin Jewellery Workshop with Laura from Timber Heart Creations! Whether you’re a beginner or just looking to try something new\, this workshop is perfect for you. \nYou will learn how to mix and work with resin\, embellishments and pigments\, and take home four of your unique handmade pieces! \nThree sessions are available: \n\nThursday\, 17 October\, 5.00pm to 7.00pm\, Wallumbilla Memorial Hall.\nFriday\, 18 October\, 10.30am to 12.30pm\, Surat Library.\nFriday\, 18 October\, 5.30pm to 7.30pm\, Mitchell Shire Hall.\n\nLimited spots available\, so don’t miss out! \nLet your imagination run wild and create something truly special.
URL:https://romarevealed.com.au/event/resin-jewellery-workshop/
LOCATION:Various locations
CATEGORIES:Arts & Culture,Business & Educational
ATTACH;FMTTYPE=image/png:https://romarevealed.com.au/wp-content/uploads/2024/09/Resin-Jewellery-Workshop.png
ORGANIZER;CN="Maranoa Regional Council":MAILTO:council@maranoa.qld.gov.au
END:VEVENT
BEGIN:VEVENT
DTSTART;TZID=Australia/Brisbane:20241018T180000
DTEND;TZID=Australia/Brisbane:20241018T200000
DTSTAMP:20260426T093500
CREATED:20240913T005854Z
LAST-MODIFIED:20240913T005854Z
UID:3921-1729274400-1729281600@romarevealed.com.au
SUMMARY:Clay Highland Cows at the Muckadilla Pub
DESCRIPTION:Come and get creative during this hour and a half class\, using two different methods of sculpting air-dry clay with a highland cow. \nIncluded in your booking is: \n\nClay per person (enough to make one highland cow)\nStep by step instructions\nFiring\, glazing and postage of your masterpiece back to you once finished\n\nJust buy a drink at the bar and the rest is sorted for you!
URL:https://romarevealed.com.au/event/clay-highland-cows-at-the-muckadilla-pub/
LOCATION:Mucka Pub\, 49122 Warrego Highway\, Muckadilla\, QLD\, 4461\, Australia
CATEGORIES:Arts & Culture,Business & Educational
ATTACH;FMTTYPE=image/png:https://romarevealed.com.au/wp-content/uploads/2024/09/Clay-Cows.png
ORGANIZER;CN="The Collective - Hervey Bay":MAILTO:Thecollectiveherveybay@gmail.com
END:VEVENT
BEGIN:VEVENT
DTSTART;TZID=Australia/Brisbane:20241019T070000
DTEND;TZID=Australia/Brisbane:20241019T160000
DTSTAMP:20260426T093500
CREATED:20240912T233603Z
LAST-MODIFIED:20240912T233603Z
UID:3892-1729321200-1729353600@romarevealed.com.au
SUMMARY:Beginner's Blacksmithing Workshop
DESCRIPTION:Learn the basics of Blacksmithing with these fun\, hands-on Blacksmithing Workshops for Beginners with qualified Blacksmith\, Mick Henricks at The Farmer’s Forge. \nYou’ll make a Fireplace Set to take home with you – including a Fire Poker\, Rake & Shovel (not to mention your flash new skills as a Smithy!). \nOnly 4 participants per workshop\, all materials supplied\, and you’ll have your own Forge\, Anvil and Tools to operate on the day. Morning Tea & Lunch also provided.
URL:https://romarevealed.com.au/event/beginners-blacksmithing-workshop-19-10/
LOCATION:The Farmer’s Forge\, 42 Tiffin Street\, Roma\, QLD\, 4455\, Australia
CATEGORIES:Arts & Culture,Business & Educational
ATTACH;FMTTYPE=image/png:https://romarevealed.com.au/wp-content/uploads/2024/09/Farmers-Forge-Beginners-Blacksmithing-Workshop.png
ORGANIZER;CN="The Farmer's Forge":MAILTO:gday@thefarmersforge.com.au
END:VEVENT
BEGIN:VEVENT
DTSTART;TZID=Australia/Brisbane:20241019T070000
DTEND;TZID=Australia/Brisbane:20241019T160000
DTSTAMP:20260426T093500
CREATED:20240912T233625Z
LAST-MODIFIED:20240912T233625Z
UID:3893-1729321200-1729353600@romarevealed.com.au
SUMMARY:Beginner's Blacksmithing Workshop
DESCRIPTION:Learn the basics of Blacksmithing with these fun\, hands-on Blacksmithing Workshops for Beginners with qualified Blacksmith\, Mick Henricks at The Farmer’s Forge. \nYou’ll make a Fireplace Set to take home with you – including a Fire Poker\, Rake & Shovel (not to mention your flash new skills as a Smithy!). \nOnly 4 participants per workshop\, all materials supplied\, and you’ll have your own Forge\, Anvil and Tools to operate on the day. Morning Tea & Lunch also provided.
URL:https://romarevealed.com.au/event/beginners-blacksmithing-workshop-20-10/
LOCATION:The Farmer’s Forge\, 42 Tiffin Street\, Roma\, QLD\, 4455\, Australia
CATEGORIES:Arts & Culture,Business & Educational
ATTACH;FMTTYPE=image/png:https://romarevealed.com.au/wp-content/uploads/2024/09/Farmers-Forge-Beginners-Blacksmithing-Workshop.png
ORGANIZER;CN="The Farmer's Forge":MAILTO:gday@thefarmersforge.com.au
END:VEVENT
BEGIN:VEVENT
DTSTART;TZID=Australia/Brisbane:20241022T113000
DTEND;TZID=Australia/Brisbane:20241022T113000
DTSTAMP:20260426T093500
CREATED:20240930T053826Z
LAST-MODIFIED:20240930T053844Z
UID:3955-1729596600-1729596600@romarevealed.com.au
SUMMARY:More Than Tea and Scones: Roma
DESCRIPTION:Honest. Heartfelt. Hilarious. \nReal stories from the women of the QCWA. It’s who they are. It’s what they’ve done. It’s what you don’t know. It’s women making a difference for other women\, for their communities. For this nation\, It’s over 100 years of effort. And it’s much more than tea and scones. \n 
URL:https://romarevealed.com.au/event/more-than-tea-and-scones-roma/
LOCATION:Roma RSL Hall\, 21 Quintin Street\, Roma\, QLD\, 4455\, Australia
CATEGORIES:Arts & Culture,Music, Performance & Entertainment,Performing Arts
ATTACH;FMTTYPE=image/png:https://romarevealed.com.au/wp-content/uploads/2024/09/More-than-tea-and-scones.png
END:VEVENT
BEGIN:VEVENT
DTSTART;TZID=Australia/Brisbane:20241023T103000
DTEND;TZID=Australia/Brisbane:20241023T103000
DTSTAMP:20260426T093500
CREATED:20240930T054055Z
LAST-MODIFIED:20240930T054055Z
UID:3957-1729679400-1729679400@romarevealed.com.au
SUMMARY:More Than Tea and Scones: Mitchell
DESCRIPTION:Honest. Heartfelt. Hilarious. \nReal stories from the women of the QCWA. It’s who they are. It’s what they’ve done. It’s what you don’t know. It’s women making a difference for other women\, for their communities. For this nation\, It’s over 100 years of effort. And it’s much more than tea and scones. \n 
URL:https://romarevealed.com.au/event/more-than-tea-and-scones-mitchell/
LOCATION:Mitchell CWA Hall\, 87 Cambridge Street\, Mitchell\, QLD\, 4465\, Australia
CATEGORIES:Arts & Culture,Music, Performance & Entertainment,Performing Arts
ATTACH;FMTTYPE=image/png:https://romarevealed.com.au/wp-content/uploads/2024/09/More-than-tea-and-scones.png
END:VEVENT
BEGIN:VEVENT
DTSTART;TZID=Australia/Brisbane:20241026T083000
DTEND;TZID=Australia/Brisbane:20241026T163000
DTSTAMP:20260426T093500
CREATED:20240917T233646Z
LAST-MODIFIED:20240917T233646Z
UID:3931-1729931400-1729960200@romarevealed.com.au
SUMMARY:Abstract Landscape Painting Workshop
DESCRIPTION:Roma on Bungil Gallery presents: Abstract Landscape Painting Workshop with Jenny Foxton \nBring an old shirt or apron\, lunch and a willingness to experiment! \nBook via email: jfoxton2@gmail.com \nLimited places available.
URL:https://romarevealed.com.au/event/abstract-landscape-painting-workshop/
LOCATION:Roma on Bungil Gallery\, 38-44 Hawthorne Street\, Roma\, QLD\, 4455\, Australia
CATEGORIES:Arts & Culture,Business & Educational
END:VEVENT
END:VCALENDAR