BEGIN:VCALENDAR
VERSION:2.0
PRODID:-//Roma Revealed - ECPv6.15.20//NONSGML v1.0//EN
CALSCALE:GREGORIAN
METHOD:PUBLISH
X-ORIGINAL-URL:https://romarevealed.com.au
X-WR-CALDESC:Events for Roma Revealed
REFRESH-INTERVAL;VALUE=DURATION:PT1H
X-Robots-Tag:noindex
X-PUBLISHED-TTL:PT1H
BEGIN:VTIMEZONE
TZID:Australia/Brisbane
BEGIN:STANDARD
TZOFFSETFROM:+1000
TZOFFSETTO:+1000
TZNAME:AEST
DTSTART:20230101T000000
END:STANDARD
END:VTIMEZONE
BEGIN:VEVENT
DTSTART;TZID=Australia/Brisbane:20241201T100000
DTEND;TZID=Australia/Brisbane:20241201T140000
DTSTAMP:20260426T065441
CREATED:20240912T233925Z
LAST-MODIFIED:20240912T233925Z
UID:3896-1733047200-1733061600@romarevealed.com.au
SUMMARY:Roma Showground Markets
DESCRIPTION:The Roma Showground Markets offers a mix of local produce\, handcrafted goods\, unique artisan products\, and delicious food stalls. \nHeld on the first Sunday of every month\, the markets provide a perfect opportunity to support local vendors and discover what they have to offer.
URL:https://romarevealed.com.au/event/roma-showground-markets-10/
LOCATION:Bassett Park Showgrounds\, Northern Road\, Roma\, QLD\, 4455\, Australia
CATEGORIES:Arts & Culture,Community & Family,Food & Drink
ATTACH;FMTTYPE=image/png:https://romarevealed.com.au/wp-content/uploads/2024/08/Roma-Showground-Markets-1.png
END:VEVENT
BEGIN:VEVENT
DTSTART;TZID=Australia/Brisbane:20241201T160000
DTEND;TZID=Australia/Brisbane:20241201T193000
DTSTAMP:20260426T065441
CREATED:20241126T035204Z
LAST-MODIFIED:20241126T035204Z
UID:4044-1733068800-1733081400@romarevealed.com.au
SUMMARY:DIY Christmas Olive Leaf Wreath Workshop
DESCRIPTION:Come join us for a fun and festive workshop where you’ll learn how to create your very own Christmas olive leaf wreath! \nThis in-person event will take place at 76 Cambridge St. \nGet into the holiday spirit and add a personal touch to your decor this season. No experience necessary – our instructors will guide you every step of the way. Don’t miss out on this opportunity to get crafty and spread some Christmas cheer!
URL:https://romarevealed.com.au/event/diy-christmas-olive-leaf-wreath-workshop/
LOCATION:Maple Sutton Designs & Co\, 76a Cambridge Street\, Mitchell\, Queensland\, 4465\, Australia
CATEGORIES:Arts & Culture
ATTACH;FMTTYPE=image/png:https://romarevealed.com.au/wp-content/uploads/2024/11/Christmas-Wreath.png
ORGANIZER;CN="Maple Sutton Designs & Co":MAILTO:Maplesuttondesigns@gmail.com
END:VEVENT
BEGIN:VEVENT
DTSTART;TZID=Australia/Brisbane:20241208T170000
DTEND;TZID=Australia/Brisbane:20241208T200000
DTSTAMP:20260426T065441
CREATED:20241126T035811Z
LAST-MODIFIED:20241126T035841Z
UID:4048-1733677200-1733688000@romarevealed.com.au
SUMMARY:Muckadilla Christmas Market
DESCRIPTION:The 2nd Annual Christmas Market is on at the Mucka Pub! \nStalls open from 5 pm\, pub meals from 6 pm – 8 pm. \n 
URL:https://romarevealed.com.au/event/muckadilla-christmas-market/
LOCATION:The Mucka Pub\, Warrego Highway\, Muckadilla\, QLD\, 4455
CATEGORIES:Arts & Culture,Community & Family,Food & Drink,Music, Performance & Entertainment
ATTACH;FMTTYPE=image/png:https://romarevealed.com.au/wp-content/uploads/2024/11/Mucka-Pub-Christmas-Market.png
ORGANIZER;CN="The Mucka Pub":MAILTO:themuckapub@outlook.com
END:VEVENT
BEGIN:VEVENT
DTSTART;TZID=Australia/Brisbane:20241214T080000
DTEND;TZID=Australia/Brisbane:20241214T100000
DTSTAMP:20260426T065441
CREATED:20241211T222451Z
LAST-MODIFIED:20241211T222451Z
UID:4073-1734163200-1734170400@romarevealed.com.au
SUMMARY:Forge in a Flash: Cheese Knife
DESCRIPTION:This fun\, hands on\, 2-hour workshop is a great introduction into the wonderful world of Blacksmithing.\nIf you’ve been keen to have a go\, but don’t think you’re ready for our full day classes\, then this is the workshop for you! You’ll make a basic forged Cheese Knife to take home with you.
URL:https://romarevealed.com.au/event/forge-in-a-flash-cheese-knife-3/
LOCATION:The Farmer’s Forge\, 42 Tiffin Street\, Roma\, QLD\, 4455\, Australia
CATEGORIES:Arts & Culture,Business & Educational
ATTACH;FMTTYPE=image/png:https://romarevealed.com.au/wp-content/uploads/2024/11/Forge-in-a-Flash.png
ORGANIZER;CN="The Farmer's Forge":MAILTO:gday@thefarmersforge.com.au
END:VEVENT
BEGIN:VEVENT
DTSTART;TZID=Australia/Brisbane:20241217T173000
DTEND;TZID=Australia/Brisbane:20241217T173000
DTSTAMP:20260426T065441
CREATED:20241115T014307Z
LAST-MODIFIED:20241115T014331Z
UID:4029-1734456600-1734456600@romarevealed.com.au
SUMMARY:Trivia Night
DESCRIPTION:Whether you grew up sending chain mail in the post\, email or internet chat-rooms\, we were all (or still are) teenagers. \nSo if you know something about MTV\, MSN\, MySpace\, Vines\, Threads or TikTok\, this is the night for you to win prizes for your random\, specific knowledge of stuff! \nCome dressed in your fave teen accessory: Oodies\, legwarmers\, etc. \nBook here: Trivia Night – Roma Library – 17 December – 5:30pm
URL:https://romarevealed.com.au/event/trivia-night/
LOCATION:Roma Library\, 38-44 Hawthorne Street\, Roma\, QLD\, 4455\, Australia
CATEGORIES:Arts & Culture,Community & Family
ATTACH;FMTTYPE=image/png:https://romarevealed.com.au/wp-content/uploads/2024/11/Trivia-Night.png
ORGANIZER;CN="Roma Library":MAILTO:roma.library@maranoa.qld.gov.au
END:VEVENT
BEGIN:VEVENT
DTSTART;TZID=Australia/Brisbane:20241221T080000
DTEND;TZID=Australia/Brisbane:20241221T100000
DTSTAMP:20260426T065441
CREATED:20241211T222525Z
LAST-MODIFIED:20241211T222525Z
UID:4074-1734768000-1734775200@romarevealed.com.au
SUMMARY:Forge in a Flash: Cheese Knife
DESCRIPTION:This fun\, hands on\, 2-hour workshop is a great introduction into the wonderful world of Blacksmithing.\nIf you’ve been keen to have a go\, but don’t think you’re ready for our full day classes\, then this is the workshop for you! You’ll make a basic forged Cheese Knife to take home with you.
URL:https://romarevealed.com.au/event/forge-in-a-flash-cheese-knife-4/
LOCATION:The Farmer’s Forge\, 42 Tiffin Street\, Roma\, QLD\, 4455\, Australia
CATEGORIES:Arts & Culture,Business & Educational
ATTACH;FMTTYPE=image/png:https://romarevealed.com.au/wp-content/uploads/2024/11/Forge-in-a-Flash.png
ORGANIZER;CN="The Farmer's Forge":MAILTO:gday@thefarmersforge.com.au
END:VEVENT
BEGIN:VEVENT
DTSTART;TZID=Australia/Brisbane:20241222T173000
DTEND;TZID=Australia/Brisbane:20241222T173000
DTSTAMP:20260426T065441
CREATED:20241211T222318Z
LAST-MODIFIED:20241211T222318Z
UID:4070-1734888600-1734888600@romarevealed.com.au
SUMMARY:O Holy Night: Carols and Service
DESCRIPTION:St Paul’s Anglican Church in Roma invites you out for a night of carols\, a Christmas service and a shared meal.Join your community in the festive spirit as the event begins at 5.30pm on Sunday\, 22 December 2024.For any questions or enquiries\, contact the Church via phone 0417 764 134 or by emailing roma@anglicanchurchsq.org.au.
URL:https://romarevealed.com.au/event/o-holy-night-carols-and-service/
LOCATION:St Pauls Anglican Church\, 41/47 Bungil Street\, Roma\, QLD\, 4455\, Australia
CATEGORIES:Arts & Culture,Community & Family
ATTACH;FMTTYPE=image/png:https://romarevealed.com.au/wp-content/uploads/2024/12/O-Holy-Night.png
ORGANIZER;CN="St Pauls Anglican Church":MAILTO:roma@anglicanchurchsq.org.au
END:VEVENT
BEGIN:VEVENT
DTSTART;TZID=Australia/Brisbane:20241228T080000
DTEND;TZID=Australia/Brisbane:20241228T100000
DTSTAMP:20260426T065441
CREATED:20241211T222644Z
LAST-MODIFIED:20241211T222644Z
UID:4075-1735372800-1735380000@romarevealed.com.au
SUMMARY:Forge in a Flash: Steak Flipper
DESCRIPTION:These fun\, hands on\, 2 hour workshops are a great introduction into the wonderful world of Blacksmithing with qualified ‘Smithy\, Mick Henricks. If you’ve been keen to have a go\, but don’t think you’re ready for our full day classes\, then this is the workshop for you!  You’ll make a steak flipper to use at your next BBQ.
URL:https://romarevealed.com.au/event/forge-in-a-flash-steak-flipper/
LOCATION:The Farmer’s Forge\, 42 Tiffin Street\, Roma\, QLD\, 4455\, Australia
CATEGORIES:Arts & Culture,Business & Educational
ATTACH;FMTTYPE=image/png:https://romarevealed.com.au/wp-content/uploads/2024/11/Forge-in-a-Flash.png
ORGANIZER;CN="The Farmer's Forge":MAILTO:gday@thefarmersforge.com.au
END:VEVENT
END:VCALENDAR