BEGIN:VCALENDAR
VERSION:2.0
PRODID:-//Roma Revealed - ECPv6.15.20//NONSGML v1.0//EN
CALSCALE:GREGORIAN
METHOD:PUBLISH
X-WR-CALNAME:Roma Revealed
X-ORIGINAL-URL:https://romarevealed.com.au
X-WR-CALDESC:Events for Roma Revealed
REFRESH-INTERVAL;VALUE=DURATION:PT1H
X-Robots-Tag:noindex
X-PUBLISHED-TTL:PT1H
BEGIN:VTIMEZONE
TZID:Australia/Brisbane
BEGIN:STANDARD
TZOFFSETFROM:+1000
TZOFFSETTO:+1000
TZNAME:AEST
DTSTART:20240101T000000
END:STANDARD
END:VTIMEZONE
BEGIN:VEVENT
DTSTART;TZID=Australia/Brisbane:20250111T080000
DTEND;TZID=Australia/Brisbane:20250111T100000
DTSTAMP:20260426T052735
CREATED:20241211T223056Z
LAST-MODIFIED:20241211T223056Z
UID:4077-1736582400-1736589600@romarevealed.com.au
SUMMARY:Forge in a Flash: Steak Flipper
DESCRIPTION:These fun\, hands on\, 2 hour workshops are a great introduction into the wonderful world of Blacksmithing with qualified ‘Smithy\, Mick Henricks. If you’ve been keen to have a go\, but don’t think you’re ready for our full day classes\, then this is the workshop for you!  You’ll make a steak flipper to use at your next BBQ.
URL:https://romarevealed.com.au/event/forge-in-a-flash-steak-flipper-3/
LOCATION:The Farmer’s Forge\, 42 Tiffin Street\, Roma\, QLD\, 4455\, Australia
CATEGORIES:Arts & Culture,Business & Educational
ATTACH;FMTTYPE=image/png:https://romarevealed.com.au/wp-content/uploads/2024/11/Forge-in-a-Flash.png
ORGANIZER;CN="The Farmer's Forge":MAILTO:gday@thefarmersforge.com.au
END:VEVENT
BEGIN:VEVENT
DTSTART;TZID=Australia/Brisbane:20250118T180000
DTEND;TZID=Australia/Brisbane:20250118T180000
DTSTAMP:20260426T052735
CREATED:20250106T225039Z
LAST-MODIFIED:20250106T225039Z
UID:4120-1737223200-1737223200@romarevealed.com.au
SUMMARY:Gunggari Dhandigu Exhibition Opening
DESCRIPTION:Celebrate the vibrant culture and creativity of Gunggari artists at the official Gunggari Dhandigu Exhibition opening. This special event will showcase stunning artworks inspired by and celebrating Gunggari Country.\n\nExperience a unique collection of paintings\, sculptures\, and more\, all honouring the rich traditions and stories of Gunggari heritage. Don’t miss this opportunity to immerse yourself in the vibrant world of Gunggari art and culture.
URL:https://romarevealed.com.au/event/gunggari-dhandigu-exhibition-opening/
LOCATION:Mitchell on Maranoa Gallery\, 33 Cambridge Street\, Mitchell\, QLD\, 4465
CATEGORIES:Arts & Culture
ATTACH;FMTTYPE=image/png:https://romarevealed.com.au/wp-content/uploads/2025/01/Gunggari-Dhandigu.png
ORGANIZER;CN="Mitchell on Maranoa Gallery":MAILTO:mitchell.library@maranoa.qld.gov.au
END:VEVENT
BEGIN:VEVENT
DTSTART;VALUE=DATE:20250124
DTEND;VALUE=DATE:20250127
DTSTAMP:20260426T052735
CREATED:20250120T043748Z
LAST-MODIFIED:20250120T043832Z
UID:4179-1737676800-1737935999@romarevealed.com.au
SUMMARY:Long Weekend at the Comm
DESCRIPTION:Get ready for a 𝐦𝐚𝐬𝐬𝐢𝐯𝐞 𝐥𝐨𝐧𝐠 𝐰𝐞𝐞𝐤𝐞𝐧𝐝 packed with fun\, laughs\, and good vibes at the Comm! \n𝐅𝐑𝐈𝐃𝐀𝐘 𝐍𝐈𝐆𝐇𝐓: 𝐉𝐚𝐠 𝐭𝐡𝐞 𝐉𝐨𝐤𝐞𝐫\nKick off the long weekend with a bang at The Comm’s 𝐂𝐨𝐬𝐭𝐮𝐦𝐞 𝐏𝐚𝐫𝐭𝐲. Dress up as your favourite icon or legend and get ready for a night of fun! Prizes for the 𝐁𝐞𝐬𝐭 𝐃𝐫𝐞𝐬𝐬𝐞𝐝 𝐈𝐜𝐨𝐧. DJ Michael will be spinning the tunes LIVE from 9pm. \n𝐒𝐀𝐓𝐔𝐑𝐃𝐀𝐘: 𝐓𝐫𝐢𝐩𝐥𝐞 𝐉 𝐇𝐨𝐭𝐭𝐞𝐬𝐭 𝟏𝟎𝟎\nTune in as we countdown the 𝐓𝐫𝐢𝐩𝐥𝐞 𝐉 𝐇𝐨𝐭𝐭𝐞𝐬𝐭 𝟏𝟎𝟎 from 12pm! Let’s see if your favourite track makes it to #1! \n𝐒𝐔𝐍𝐃𝐀𝐘: 𝐅𝐚𝐦𝐢𝐥𝐲 𝐅𝐮𝐧 𝐃𝐚𝐲\n𝐌𝐚𝐬𝐬𝐢𝐯𝐞 𝐋𝐮𝐧𝐜𝐡 (Don’t miss out on delicious eats all day!)\n𝐊𝐢𝐝 𝐚𝐜𝐭𝐢𝐯𝐢𝐭𝐢𝐞𝐬 including LEGO Building\, Colouring Competition and Face Painting\n𝐃𝐉 𝐁𝐚𝐫𝐧𝐞𝐲 𝐁 will be live from 12pm to 3pm spinning the beats for the whole family!\n𝐅𝐨𝐫 𝐭𝐡𝐞 𝐀𝐝𝐮𝐥𝐭𝐬: 𝐓𝐡𝐨𝐧𝐠𝐬 𝐓𝐡𝐫𝐨𝐰𝐢𝐧𝐠 𝐂𝐨𝐦𝐩𝐞𝐭𝐢𝐭𝐢𝐨𝐧\, 𝐑𝐢𝐧𝐠 𝐭𝐨𝐬𝐬 \, 𝐇𝐨𝐨𝐥𝐚 𝐡𝐨𝐨𝐩𝐢𝐧𝐠 \nGet the crew together\, come dressed to impress\, and let’s make this long weekend one to remember!
URL:https://romarevealed.com.au/event/4179/
LOCATION:The Commonwealth Hotel Roma\, 75 Wyndham Street\, Roma\, Queensland\, 4455\, Australia
CATEGORIES:Arts & Culture,Food & Drink,Music, Performance & Entertainment
ATTACH;FMTTYPE=image/png:https://romarevealed.com.au/wp-content/uploads/2025/01/Long-Weekend-at-the-Comm.png
ORGANIZER;CN="The Commonwealth Hotel Roma":MAILTO:admin.roma@ausvenueco.com.au
END:VEVENT
BEGIN:VEVENT
DTSTART;TZID=Australia/Brisbane:20250125T080000
DTEND;TZID=Australia/Brisbane:20250125T100000
DTSTAMP:20260426T052735
CREATED:20241211T222713Z
LAST-MODIFIED:20241211T223022Z
UID:4076-1737792000-1737799200@romarevealed.com.au
SUMMARY:Forge in a Flash: Steak Flipper
DESCRIPTION:These fun\, hands on\, 2 hour workshops are a great introduction into the wonderful world of Blacksmithing with qualified ‘Smithy\, Mick Henricks. If you’ve been keen to have a go\, but don’t think you’re ready for our full day classes\, then this is the workshop for you!  You’ll make a steak flipper to use at your next BBQ.
URL:https://romarevealed.com.au/event/forge-in-a-flash-steak-flipper-2/
LOCATION:The Farmer’s Forge\, 42 Tiffin Street\, Roma\, QLD\, 4455\, Australia
CATEGORIES:Arts & Culture,Business & Educational
ATTACH;FMTTYPE=image/png:https://romarevealed.com.au/wp-content/uploads/2024/11/Forge-in-a-Flash.png
ORGANIZER;CN="The Farmer's Forge":MAILTO:gday@thefarmersforge.com.au
END:VEVENT
BEGIN:VEVENT
DTSTART;TZID=Australia/Brisbane:20250125T180000
DTEND;TZID=Australia/Brisbane:20250125T180000
DTSTAMP:20260426T052735
CREATED:20250120T043132Z
LAST-MODIFIED:20250120T043132Z
UID:4177-1737828000-1737828000@romarevealed.com.au
SUMMARY:Australia Day Eve at the Mucka Pub
DESCRIPTION:Kick off the Australia Day Long Weekend at the Mucka Pub! \nThe Roma Historic Car Club will be displaying their little beauties from 11am\, and the first ever Mucka Pub Pig Races from 6pm. \nAll proceeds going to the Royal Flying Doctor Service.
URL:https://romarevealed.com.au/event/australia-day-eve-at-the-mucka-pub/
LOCATION:The Mucka Pub\, Warrego Highway\, Muckadilla\, QLD\, 4455
CATEGORIES:Arts & Culture,Community & Family,Food & Drink,Music, Performance & Entertainment
ATTACH;FMTTYPE=image/png:https://romarevealed.com.au/wp-content/uploads/2025/01/Australia-Day-Eve-at-the-Mucka.png
ORGANIZER;CN="The Mucka Pub":MAILTO:themuckapub@outlook.com
END:VEVENT
BEGIN:VEVENT
DTSTART;VALUE=DATE:20250126
DTEND;VALUE=DATE:20250127
DTSTAMP:20260426T052735
CREATED:20250106T223845Z
LAST-MODIFIED:20250106T223845Z
UID:4118-1737849600-1737935999@romarevealed.com.au
SUMMARY:Australia Day Events
DESCRIPTION:Celebrate Australia Day across the Maranoa with morning ceremonies\, including award presentations\, morning teas and cake cutting\, followed by afternoon fun with waterslides\, live music\, pools and BBQs! \nThere are Australia Day celebrations in towns across the region. Go to www.maranoa.qld.gov.au/australia-day for more details.
URL:https://romarevealed.com.au/event/australia-day-events/
LOCATION:QLD
CATEGORIES:Arts & Culture,Community & Family,Food & Drink,Music, Performance & Entertainment
ATTACH;FMTTYPE=image/png:https://romarevealed.com.au/wp-content/uploads/2025/01/Australia-Day.png
ORGANIZER;CN="Maranoa Regional Council":MAILTO:council@maranoa.qld.gov.au
END:VEVENT
BEGIN:VEVENT
DTSTART;TZID=Australia/Brisbane:20250126T100000
DTEND;TZID=Australia/Brisbane:20250126T233000
DTSTAMP:20260426T052735
CREATED:20250121T060409Z
LAST-MODIFIED:20250121T060409Z
UID:4183-1737885600-1737934200@romarevealed.com.au
SUMMARY:Australia Day at the Queens Arms Hotel
DESCRIPTION:Australia Day at the Queens Arms Hotel \n\n$15/$20 Lunch Specials\n$35 Pizza Deal Dinner Special\nPromos & Giveaways\nLive Music by Jake Kajewski\nMeat Tray Raffles & Members Draws
URL:https://romarevealed.com.au/event/australia-day-at-the-queens-arms-hotel/
LOCATION:Queens Arms Hotel Roma\, McDowall Street\, Roma\, QLD\, 4455
CATEGORIES:Arts & Culture,Community & Family,Food & Drink
ATTACH;FMTTYPE=image/png:https://romarevealed.com.au/wp-content/uploads/2025/01/The-Queens-Arms-Hotel.png
ORGANIZER;CN="Queens Arms Hotel Roma":MAILTO:info@thequeensarms.com.au
END:VEVENT
BEGIN:VEVENT
DTSTART;TZID=Australia/Brisbane:20250126T110000
DTEND;TZID=Australia/Brisbane:20250126T233000
DTSTAMP:20260426T052735
CREATED:20250120T042826Z
LAST-MODIFIED:20250120T042826Z
UID:4176-1737889200-1737934200@romarevealed.com.au
SUMMARY:Australia Day at the Mucka Pub
DESCRIPTION:Head to the Mucka Pub to celebrate Australia Day! \n\nKids activities and prizes\nNovelty Iron Man Challenge\nLive music from Cathy Drummond\nA whole lot of lamb and cold beer
URL:https://romarevealed.com.au/event/australia-day-at-the-mucka-pub/
LOCATION:The Mucka Pub\, Warrego Highway\, Muckadilla\, QLD\, 4455
CATEGORIES:Arts & Culture,Food & Drink,Music, Performance & Entertainment
ORGANIZER;CN="The Mucka Pub":MAILTO:themuckapub@outlook.com
END:VEVENT
END:VCALENDAR