BEGIN:VCALENDAR
VERSION:2.0
PRODID:-//Roma Revealed - ECPv6.15.20//NONSGML v1.0//EN
CALSCALE:GREGORIAN
METHOD:PUBLISH
X-WR-CALNAME:Roma Revealed
X-ORIGINAL-URL:https://romarevealed.com.au
X-WR-CALDESC:Events for Roma Revealed
REFRESH-INTERVAL;VALUE=DURATION:PT1H
X-Robots-Tag:noindex
X-PUBLISHED-TTL:PT1H
BEGIN:VTIMEZONE
TZID:Australia/Brisbane
BEGIN:STANDARD
TZOFFSETFROM:+1000
TZOFFSETTO:+1000
TZNAME:AEST
DTSTART:20240101T000000
END:STANDARD
END:VTIMEZONE
BEGIN:VEVENT
DTSTART;VALUE=DATE:20250301
DTEND;VALUE=DATE:20250413
DTSTAMP:20260426T004248
CREATED:20250115T052009Z
LAST-MODIFIED:20250115T052009Z
UID:4168-1740787200-1744502399@romarevealed.com.au
SUMMARY:The Time is Now Exhibition
DESCRIPTION:On display at Mitchell on Maranoa Gallery: The Time is Now\, a collection of artworks\, photographs and poetry by Chloe Watego.
URL:https://romarevealed.com.au/event/the-time-is-now-exhibition/
LOCATION:Mitchell on Maranoa Gallery\, 33 Cambridge Street\, Mitchell\, QLD\, 4465
CATEGORIES:Arts & Culture
ATTACH;FMTTYPE=image/png:https://romarevealed.com.au/wp-content/uploads/2025/01/The-Time-is-Now.png
ORGANIZER;CN="Mitchell on Maranoa Gallery":MAILTO:mitchell.library@maranoa.qld.gov.au
END:VEVENT
BEGIN:VEVENT
DTSTART;VALUE=DATE:20250404
DTEND;VALUE=DATE:20250407
DTSTAMP:20260426T004248
CREATED:20250318T231111Z
LAST-MODIFIED:20250318T231111Z
UID:4325-1743724800-1743983999@romarevealed.com.au
SUMMARY:Watercolour Unlocked: Fundamentals and Beyond
DESCRIPTION:Unleash your creativity and immerse yourself in the beauty of watercolour painting at this Three-Day Watercolour Workshop with Annette Raff. \nCome along and learn from experienced tutor Annette Raff\, who has been teaching workshops in painting and drawing for the past 27 years. Beginners welcome! \nRegistrations required. RSVP by Thursday 27 March to Debbie at debbieduff@y7mail.com or 0447 125 115.
URL:https://romarevealed.com.au/event/watercolour-unlocked-fundamentals-and-beyond/
LOCATION:Injune Memorial Hall
CATEGORIES:Arts & Culture,Business & Educational
ATTACH;FMTTYPE=image/png:https://romarevealed.com.au/wp-content/uploads/2025/03/Watercolour-Painting.png
END:VEVENT
BEGIN:VEVENT
DTSTART;TZID=Australia/Brisbane:20250406T100000
DTEND;TZID=Australia/Brisbane:20250406T140000
DTSTAMP:20260426T004248
CREATED:20250106T011837Z
LAST-MODIFIED:20250106T011837Z
UID:4092-1743933600-1743948000@romarevealed.com.au
SUMMARY:Roma Showground Markets
DESCRIPTION:The Roma Showground Markets offers a mix of local produce\, handcrafted goods\, unique artisan products\, and delicious food stalls. \nHeld on the first Sunday of every month\, the markets provide a perfect opportunity to support local vendors and discover what they have to offer.
URL:https://romarevealed.com.au/event/roma-showground-markets-13/
LOCATION:Bassett Park Showgrounds\, Northern Road\, Roma\, QLD\, 4455\, Australia
CATEGORIES:Arts & Culture,Community & Family,Food & Drink
ATTACH;FMTTYPE=image/png:https://romarevealed.com.au/wp-content/uploads/2024/08/Roma-Showground-Markets-1.png
END:VEVENT
BEGIN:VEVENT
DTSTART;TZID=Australia/Brisbane:20250411T160000
DTEND;TZID=Australia/Brisbane:20250411T180000
DTSTAMP:20260426T004248
CREATED:20250316T225252Z
LAST-MODIFIED:20250316T225432Z
UID:4321-1744387200-1744394400@romarevealed.com.au
SUMMARY:Paint & Sip: Booringa Festival
DESCRIPTION:The Mitchell on Maranoa Gallery is bringing you a Booringa Festival Paint & Sip! \nGet ready for a fun-filled night of creativity\, drinks\, and laughter! Whether you’re an experienced artist or just keen to give it a go\, this is your chance to unleash your inner artist in a relaxed and welcoming atmosphere. \nNo paintbrush? No worries! Our talented and enthusiastic instructor\, Brenda Whip\, will guide you through a unique painting experience—without a single brush in sight! This artwork is all about thinking outside the box and having a blast while doing it. \n$65 per person – includes a delicious grazing box & a complimentary drink! \nBookings required. Book your ticket here: Booringa Festival Paint & Sip Tickets\, Fri\, Apr 11\, 2025 at 4:00 PM | Eventbrite
URL:https://romarevealed.com.au/event/paint-sip-booringa-festival/
LOCATION:Mitchell on Maranoa Gallery\, 33 Cambridge Street\, Mitchell\, QLD\, 4465
CATEGORIES:Arts & Culture,Food & Drink
ATTACH;FMTTYPE=image/png:https://romarevealed.com.au/wp-content/uploads/2025/03/Paint-and-Sip.png
ORGANIZER;CN="Mitchell on Maranoa Gallery":MAILTO:mitchell.library@maranoa.qld.gov.au
END:VEVENT
BEGIN:VEVENT
DTSTART;TZID=Australia/Brisbane:20250416T183000
DTEND;TZID=Australia/Brisbane:20250416T183000
DTSTAMP:20260426T004248
CREATED:20250326T224523Z
LAST-MODIFIED:20250326T224523Z
UID:4335-1744828200-1744828200@romarevealed.com.au
SUMMARY:Easter Art Show 2025 Opening
DESCRIPTION:Celebrate Easter with a beautiful display of local artwork at the opening of the Maranoa Artists Inc. Easter Art Show. \nFeaturing works of many different formats including acrylics\, oil\, and mixed media. \nFree entry\, no bookings required.
URL:https://romarevealed.com.au/event/easter-art-show-2025-opening/
LOCATION:Roma on Bungil Gallery\, 38-44 Hawthorne Street\, Roma\, QLD\, 4455\, Australia
CATEGORIES:Arts & Culture
ATTACH;FMTTYPE=image/png:https://romarevealed.com.au/wp-content/uploads/2025/03/Easter-Art-Show.png
ORGANIZER;CN="Maranoa Artists Inc.":MAILTO:maranoaartists@outlook.com
END:VEVENT
BEGIN:VEVENT
DTSTART;TZID=Australia/Brisbane:20250418T063000
DTEND;TZID=Australia/Brisbane:20250418T130000
DTSTAMP:20260426T004248
CREATED:20240827T233716Z
LAST-MODIFIED:20250120T042610Z
UID:3843-1744957800-1744981200@romarevealed.com.au
SUMMARY:Roma Bush Gardens 25th Anniversary
DESCRIPTION:Celebrate 25 years of the Roma Bush Gardens and the amazing voluntary work of Roma’s community. \nAll are invited\, including the Roma community\, visitors\, and those who have participated in the development of the Roma Bush Gardens over the past 25 years and contributed to its success. \n\nFood & beverages\nGuided walks\nRoma Combined Churches ecumenical service\nCommemorative tree planting\nBush poetry & musical entertainment\nScavenger hunt & swaggie relay
URL:https://romarevealed.com.au/event/roma-bush-gardens-25th-anniversary/
LOCATION:Roma Bush Gardens\, Duke St\, Roma\, QLD\, 4455\, Australia
CATEGORIES:Arts & Culture,Community & Family
END:VEVENT
BEGIN:VEVENT
DTSTART;TZID=Australia/Brisbane:20250420T170000
DTEND;TZID=Australia/Brisbane:20250420T183000
DTSTAMP:20260426T004248
CREATED:20250411T012311Z
LAST-MODIFIED:20250411T012311Z
UID:4362-1745168400-1745173800@romarevealed.com.au
SUMMARY:Easter Sunday Sunset Organ and Violin Recital
DESCRIPTION:St Paul’s Anglican Church Roma’s historic organ will be played by talented Cathedral organist and music director Anthony Hahn. \\n\nAnthony will be joined by the talented violinist Vincent Kwan and flautist Annie McArthur for a wonderful musical experience whilst surrounded by the beautiful stained glass windows of St Paul’s Anglican Church.\n\nEnjoy a complimentary drink and nibbles on entry from 5pm\, performance 5.30-6.30.\n\nBookings required. To book\, visit: St Paul’s Easter Sunday Sunset Organ and Violin Recital Tickets\, St Paul’s Anglican Church\, ROMA | TryBooking Australia
URL:https://romarevealed.com.au/event/easter-sunday-sunset-organ-and-violin-recital/
LOCATION:St Pauls Anglican Church\, 41/47 Bungil Street\, Roma\, QLD\, 4455\, Australia
CATEGORIES:Arts & Culture,Music, Performance & Entertainment
ATTACH;FMTTYPE=image/png:https://romarevealed.com.au/wp-content/uploads/2025/04/St-Pauls-Cathedral.png
ORGANIZER;CN="St Pauls Anglican Church":MAILTO:roma@anglicanchurchsq.org.au
END:VEVENT
BEGIN:VEVENT
DTSTART;VALUE=DATE:20250425
DTEND;VALUE=DATE:20250426
DTSTAMP:20260426T004248
CREATED:20250326T225212Z
LAST-MODIFIED:20250326T225212Z
UID:4338-1745539200-1745625599@romarevealed.com.au
SUMMARY:ANZAC Day
DESCRIPTION:Every year\, Maranoa Regional Council joins with the community to commemorate Anzac Day at services across the region. \nJoin us as we come together to honour the courage\, sacrifice\, and resilience of the men and women who have served our nation. \nFor details of each ANZAC Day service across the region\, visit: Anzac Day – Maranoa Regional Council \nFor more information\, please contact Maranoa Regional Council’s Local Development Officers on 1300 007 662 or your local RSL sub-branch.
URL:https://romarevealed.com.au/event/anzac-day-2025/
LOCATION:Various locations
CATEGORIES:Arts & Culture,Community & Family
ATTACH;FMTTYPE=image/png:https://romarevealed.com.au/wp-content/uploads/2025/03/ANZAC-Day.png
ORGANIZER;CN="Maranoa Regional Council":MAILTO:council@maranoa.qld.gov.au
END:VEVENT
END:VCALENDAR