BEGIN:VCALENDAR
VERSION:2.0
PRODID:-//Roma Revealed - ECPv6.15.20//NONSGML v1.0//EN
CALSCALE:GREGORIAN
METHOD:PUBLISH
X-WR-CALNAME:Roma Revealed
X-ORIGINAL-URL:https://romarevealed.com.au
X-WR-CALDESC:Events for Roma Revealed
REFRESH-INTERVAL;VALUE=DURATION:PT1H
X-Robots-Tag:noindex
X-PUBLISHED-TTL:PT1H
BEGIN:VTIMEZONE
TZID:Australia/Brisbane
BEGIN:STANDARD
TZOFFSETFROM:+1000
TZOFFSETTO:+1000
TZNAME:AEST
DTSTART:20240101T000000
END:STANDARD
END:VTIMEZONE
BEGIN:VEVENT
DTSTART;TZID=Australia/Brisbane:20250601T100000
DTEND;TZID=Australia/Brisbane:20250601T140000
DTSTAMP:20260425T212857
CREATED:20250106T011913Z
LAST-MODIFIED:20250106T011913Z
UID:4094-1748772000-1748786400@romarevealed.com.au
SUMMARY:Roma Showground Markets
DESCRIPTION:The Roma Showground Markets offers a mix of local produce\, handcrafted goods\, unique artisan products\, and delicious food stalls. \nHeld on the first Sunday of every month\, the markets provide a perfect opportunity to support local vendors and discover what they have to offer.
URL:https://romarevealed.com.au/event/roma-showground-markets-15/
LOCATION:Bassett Park Showgrounds\, Northern Road\, Roma\, QLD\, 4455\, Australia
CATEGORIES:Arts & Culture,Community & Family,Food & Drink
ATTACH;FMTTYPE=image/png:https://romarevealed.com.au/wp-content/uploads/2024/08/Roma-Showground-Markets-1.png
END:VEVENT
BEGIN:VEVENT
DTSTART;TZID=Australia/Brisbane:20250607T070000
DTEND;TZID=Australia/Brisbane:20250607T090000
DTSTAMP:20260425T212857
CREATED:20250606T004533Z
LAST-MODIFIED:20250606T004648Z
UID:4420-1749279600-1749286800@romarevealed.com.au
SUMMARY:Forge in a Flash: Steak Flipper
DESCRIPTION:These fun\, hands on\, 2 hour workshops are a great introduction into the wonderful world of Blacksmithing with qualified ‘Smithy\, Mick Henricks. If you’ve been keen to have a go\, but don’t think you’re ready for our full day classes\, then this is the workshop for you!  You’ll make a steak flipper to use at your next BBQ.
URL:https://romarevealed.com.au/event/forge-in-a-flash-steak-flipper-4/
LOCATION:The Farmer’s Forge\, 42 Tiffin Street\, Roma\, QLD\, 4455\, Australia
CATEGORIES:Arts & Culture,Business & Educational
ATTACH;FMTTYPE=image/png:https://romarevealed.com.au/wp-content/uploads/2024/11/Forge-in-a-Flash.png
ORGANIZER;CN="The Farmer's Forge":MAILTO:gday@thefarmersforge.com.au
END:VEVENT
BEGIN:VEVENT
DTSTART;TZID=Australia/Brisbane:20250607T100000
DTEND;TZID=Australia/Brisbane:20250607T120000
DTSTAMP:20260425T212857
CREATED:20250606T004619Z
LAST-MODIFIED:20250606T004619Z
UID:4421-1749290400-1749297600@romarevealed.com.au
SUMMARY:Forge in a Flash: Cheese Knife
DESCRIPTION:This fun\, hands on\, 2-hour workshop is a great introduction into the wonderful world of Blacksmithing.\nIf you’ve been keen to have a go\, but don’t think you’re ready for our full day classes\, then this is the workshop for you! You’ll make a basic forged Cheese Knife to take home with you.
URL:https://romarevealed.com.au/event/forge-in-a-flash-cheese-knife-5/
LOCATION:The Farmer’s Forge\, 42 Tiffin Street\, Roma\, QLD\, 4455\, Australia
CATEGORIES:Arts & Culture,Business & Educational
ATTACH;FMTTYPE=image/png:https://romarevealed.com.au/wp-content/uploads/2024/11/Forge-in-a-Flash.png
ORGANIZER;CN="The Farmer's Forge":MAILTO:gday@thefarmersforge.com.au
END:VEVENT
BEGIN:VEVENT
DTSTART;TZID=Australia/Brisbane:20250608T070000
DTEND;TZID=Australia/Brisbane:20250608T160000
DTSTAMP:20260425T212857
CREATED:20250606T004753Z
LAST-MODIFIED:20250606T004753Z
UID:4422-1749366000-1749398400@romarevealed.com.au
SUMMARY:Beginner's Blacksmithing Workshop
DESCRIPTION:Learn the basics of Blacksmithing with these fun\, hands-on Blacksmithing Workshops for Beginners with qualified Blacksmith\, Mick Henricks at The Farmer’s Forge. \nYou’ll make a Fire Tool Set to take home with you – including a Fire Poker\, Rake & Shovel (not to mention your flash new skills as a Smithy!). \nOnly 4 participants per workshop\, all materials supplied\, and you’ll have your own Forge\, Anvil and Tools to operate on the day. Morning Tea & Lunch also provided.
URL:https://romarevealed.com.au/event/beginners-blacksmithing-workshop/
LOCATION:The Farmer’s Forge\, 42 Tiffin Street\, Roma\, QLD\, 4455\, Australia
CATEGORIES:Arts & Culture,Business & Educational
ATTACH;FMTTYPE=image/png:https://romarevealed.com.au/wp-content/uploads/2024/09/Farmers-Forge-Beginners-Blacksmithing-Workshop.png
ORGANIZER;CN="The Farmer's Forge":MAILTO:gday@thefarmersforge.com.au
END:VEVENT
BEGIN:VEVENT
DTSTART;TZID=Australia/Brisbane:20250613T180000
DTEND;TZID=Australia/Brisbane:20250613T180000
DTSTAMP:20260425T212857
CREATED:20250515T045540Z
LAST-MODIFIED:20250515T045540Z
UID:4409-1749837600-1749837600@romarevealed.com.au
SUMMARY:FREE Screening: Swan Lake by Ballet Preljocaj
DESCRIPTION:You are invited to a very special free screening on Friday\, 13 June of Swan Lake by France’s leading contemporary ballet company\, Ballet Preljocaj\, with music performed by the Queensland Symphony Orchestra. \nCelebrated for pushing the boundaries of dance\, Ballet Preljocaj reimagines Tchaikovsky’s iconic tale of love and betrayal as a bold\, modern-day tragedy. Under the visionary direction of acclaimed choreographer Angelin Preljocaj\, this performance offers a powerful new take on a beloved classic. \nThis broadcast is suitable for all ages. Bring your own snacks and drinks. \nBook your spot here: FREE Screening Swan Lake by Ballet Preljocaj Tickets\, Fri\, Jun 13\, 2025 at 6:00 PM | Eventbrite
URL:https://romarevealed.com.au/event/free-screening-swan-lake-by-ballet-preljocaj/
LOCATION:Roma Cultural Centre
CATEGORIES:Arts & Culture,Community & Family,Music, Performance & Entertainment
ATTACH;FMTTYPE=image/png:https://romarevealed.com.au/wp-content/uploads/2025/05/Ballet-Preljocaj.png
ORGANIZER;CN="Maranoa Regional Council":MAILTO:council@maranoa.qld.gov.au
END:VEVENT
BEGIN:VEVENT
DTSTART;TZID=Australia/Brisbane:20250613T180000
DTEND;TZID=Australia/Brisbane:20250613T180000
DTSTAMP:20260425T212857
CREATED:20250606T005626Z
LAST-MODIFIED:20250606T005626Z
UID:4424-1749837600-1749837600@romarevealed.com.au
SUMMARY:Small Sculptures Exhibition Opening
DESCRIPTION:Discover the artistry and creativity of local sculptors at the Roma on Bungil Gallery Small Sculptures Exhibition\, on display until 16 August 2025. \nAll are invited to the Exhibition Opening on Friday 13 June. \nRSVP to secretary@romaonbungil.com.au. Refreshments available for gold coin donation.
URL:https://romarevealed.com.au/event/small-sculptures-exhibition-opening/
LOCATION:Roma on Bungil Gallery\, 38-44 Hawthorne Street\, Roma\, QLD\, 4455\, Australia
CATEGORIES:Arts & Culture
ATTACH;FMTTYPE=image/png:https://romarevealed.com.au/wp-content/uploads/2025/06/Small-Sculpture.png
ORGANIZER;CN="Roma on Bungil Gallery":MAILTO:secretary@romaonbungil.com.au
END:VEVENT
BEGIN:VEVENT
DTSTART;VALUE=DATE:20250614
DTEND;VALUE=DATE:20250930
DTSTAMP:20260425T212857
CREATED:20241104T033317Z
LAST-MODIFIED:20241104T033317Z
UID:4001-1749859200-1759190399@romarevealed.com.au
SUMMARY:Sculptures Out Back
DESCRIPTION:Sculptures Out Back is Roma’s annual outdoor sculpture exhibition\, celebrating local history\, cultural heritage\, community\, and the environment and captivating visitors from June to September each year. \nArtists from around Australia display their unique\, handcrafted pieces on the bank of Roma’s Bungil Creek\, standing proudly at the eastern entrance of Roma\, between the iconic Big Rig and the Explorer’s Inn. \nWith nearly $40\,000 in prize money up for grabs\, this exhibition is not only a showcase of artistic brilliance but also an opportunity for sculptures to become part of the region’s public art collection. Sculptures are scored on first impression\, creativity\, originality\, finish\, composition and texture. \nImmerse yourself in a world of creativity as you stroll amidst these awe-inspiring sculptures\, getting an up-close view of the artists’ work and a real feel for the Roma region.
URL:https://romarevealed.com.au/event/sculptures-out-back/
LOCATION:Warrego Highway\, Roma
CATEGORIES:Arts & Culture
ATTACH;FMTTYPE=image/png:https://romarevealed.com.au/wp-content/uploads/2024/11/Sculptures-Out-Back.png
ORGANIZER;CN="Roma on Bungil Gallery":MAILTO:secretary@romaonbungil.com.au
END:VEVENT
BEGIN:VEVENT
DTSTART;TZID=Australia/Brisbane:20250614T070000
DTEND;TZID=Australia/Brisbane:20250614T160000
DTSTAMP:20260425T212857
CREATED:20250606T004945Z
LAST-MODIFIED:20250606T004945Z
UID:4423-1749884400-1749916800@romarevealed.com.au
SUMMARY:Beginner's Blacksmithing Workshop
DESCRIPTION:Step into the world of traditional blacksmithing with this fun\, hands-on beginner workshop\, where you’ll learn to forge your very own knife from raw steel. \nUnder the guidance of an experienced blacksmith\, you’ll discover the fundamentals of heat\, hammer and steel while working at the anvil. \nThis class is perfect for beginners with no prior experience. You’ll leave with a functional\, handcrafted knife and a newfound appreciation for the art of blacksmithing. \nOnly 4 participants per workshop\, all materials supplied\, and you’ll have your own Forge\, Anvil and Tools to operate on the day. Morning Tea & Lunch also provided.
URL:https://romarevealed.com.au/event/beginners-blacksmithing-workshop-2/
LOCATION:The Farmer’s Forge\, 42 Tiffin Street\, Roma\, QLD\, 4455\, Australia
CATEGORIES:Arts & Culture,Business & Educational
ATTACH;FMTTYPE=image/png:https://romarevealed.com.au/wp-content/uploads/2024/09/Farmers-Forge-Beginners-Blacksmithing-Workshop.png
ORGANIZER;CN="The Farmer's Forge":MAILTO:gday@thefarmersforge.com.au
END:VEVENT
BEGIN:VEVENT
DTSTART;TZID=Australia/Brisbane:20250615T070000
DTEND;TZID=Australia/Brisbane:20250615T160000
DTSTAMP:20260425T212857
CREATED:20250606T010458Z
LAST-MODIFIED:20250606T010458Z
UID:4430-1749970800-1750003200@romarevealed.com.au
SUMMARY:Beginner's Blacksmithing Workshop
DESCRIPTION:Step into the world of traditional blacksmithing with this fun\, hands-on beginner workshop\, where you’ll learn to forge your very own knife from raw steel. \nUnder the guidance of an experienced blacksmith\, you’ll discover the fundamentals of heat\, hammer and steel while working at the anvil. \nThis class is perfect for beginners with no prior experience. You’ll leave with your own fire tool set and a newfound appreciation for the art of blacksmithing. \nOnly 4 participants per workshop\, all materials supplied\, and you’ll have your own Forge\, Anvil and Tools to operate on the day. Morning Tea & Lunch also provided.
URL:https://romarevealed.com.au/event/beginners-blacksmithing-workshop-3/
LOCATION:The Farmer’s Forge\, 42 Tiffin Street\, Roma\, QLD\, 4455\, Australia
CATEGORIES:Arts & Culture,Business & Educational
ATTACH;FMTTYPE=image/png:https://romarevealed.com.au/wp-content/uploads/2024/09/Farmers-Forge-Beginners-Blacksmithing-Workshop.png
ORGANIZER;CN="The Farmer's Forge":MAILTO:gday@thefarmersforge.com.au
END:VEVENT
BEGIN:VEVENT
DTSTART;TZID=Australia/Brisbane:20250615T083000
DTEND;TZID=Australia/Brisbane:20250615T123000
DTSTAMP:20260425T212857
CREATED:20250606T011009Z
LAST-MODIFIED:20250606T011009Z
UID:4431-1749976200-1749990600@romarevealed.com.au
SUMMARY:Surat Markets
DESCRIPTION:Enjoy a relaxing morning by the river\, browsing stalls from talented local markets\, sipping on coffee\, and soaking up live music. \nTreat yourself to a sweet delight from Bessie’s Ice Cream Truck and a delicious lunch served by the Community Care Fund.
URL:https://romarevealed.com.au/event/surat-markets/
LOCATION:Surat Riverwalk Park\, Marcus Street\, Surat\, QLD\, 4417\, Australia
CATEGORIES:Arts & Culture,Community & Family,Food & Drink,Music, Performance & Entertainment
ATTACH;FMTTYPE=image/png:https://romarevealed.com.au/wp-content/uploads/2025/06/Surat-Markets.png
END:VEVENT
BEGIN:VEVENT
DTSTART;TZID=Australia/Brisbane:20250615T083000
DTEND;TZID=Australia/Brisbane:20250616T220000
DTSTAMP:20260425T212857
CREATED:20250106T020210Z
LAST-MODIFIED:20250106T020210Z
UID:4114-1749976200-1750111200@romarevealed.com.au
SUMMARY:Roma to Toowoomba Heritage Rail Tour
DESCRIPTION:The ‘Downs Explorer’ aims to provide a unique heritage railway experience on the Darling Downs and Granite Belt through the operation of their tourist railway. \nTravel from Roma to Toowoomba on this two-day heritage rail tour\, taking you from Roma to Toowoomba via Chinchilla and Dalby.
URL:https://romarevealed.com.au/event/roma-to-toowoomba-heritage-rail-tour/
LOCATION:Roma Railway Station\, 41 Station Street\, Roma\, QLD\, 4455\, Australia
CATEGORIES:Arts & Culture
ATTACH;FMTTYPE=image/png:https://romarevealed.com.au/wp-content/uploads/2025/01/Roma-to-Toowoomba-Heritage-Rail-Tour.png
ORGANIZER;CN="Downs Explorer":MAILTO:info@sdsr.com.au
END:VEVENT
BEGIN:VEVENT
DTSTART;TZID=Australia/Brisbane:20250622T090000
DTEND;TZID=Australia/Brisbane:20250622T130000
DTSTAMP:20260425T212857
CREATED:20250606T011233Z
LAST-MODIFIED:20250606T011233Z
UID:4434-1750582800-1750597200@romarevealed.com.au
SUMMARY:Roma Butter Factory Markets
DESCRIPTION:Big changes have been happening at the Butter Factory… pop on down to their markets and have a look! \n\nBBQ and Cold Drinks\nEntertainment\nHand-made Goods from Local Artisans\nPlant Stalls\nBric & Brac
URL:https://romarevealed.com.au/event/roma-butter-factory-markets-4/
LOCATION:Roma Butter Factory\, 18 Station Street\, Roma\, QLD\, 4455\, Australia
CATEGORIES:Arts & Culture,Community & Family,Food & Drink
ATTACH;FMTTYPE=image/png:https://romarevealed.com.au/wp-content/uploads/2024/08/Roma-Butter-Factory.png
END:VEVENT
END:VCALENDAR