BEGIN:VCALENDAR
VERSION:2.0
PRODID:-//Roma Revealed - ECPv6.15.20//NONSGML v1.0//EN
CALSCALE:GREGORIAN
METHOD:PUBLISH
X-ORIGINAL-URL:https://romarevealed.com.au
X-WR-CALDESC:Events for Roma Revealed
REFRESH-INTERVAL;VALUE=DURATION:PT1H
X-Robots-Tag:noindex
X-PUBLISHED-TTL:PT1H
BEGIN:VTIMEZONE
TZID:Australia/Brisbane
BEGIN:STANDARD
TZOFFSETFROM:+1000
TZOFFSETTO:+1000
TZNAME:AEST
DTSTART:20230101T000000
END:STANDARD
END:VTIMEZONE
BEGIN:VEVENT
DTSTART;TZID=Australia/Brisbane:20240908T090000
DTEND;TZID=Australia/Brisbane:20240908T130000
DTSTAMP:20260426T102115
CREATED:20240801T033124Z
LAST-MODIFIED:20240828T001042Z
UID:3725-1725786000-1725800400@romarevealed.com.au
SUMMARY:Roma Butter Factory Markets
DESCRIPTION:Head to the Roma Butter Factory Markets for lovely products from local artisans\, hand sewing\, wool spinning and leatherwork demonstrations as well as light entertainment. Food available to purchase!
URL:https://romarevealed.com.au/event/roma-butter-factory-markets-2/
LOCATION:Roma Butter Factory\, 18 Station Street\, Roma\, QLD\, 4455\, Australia
CATEGORIES:Arts & Culture,Community & Family,Food & Drink
ATTACH;FMTTYPE=image/png:https://romarevealed.com.au/wp-content/uploads/2024/08/Roma-Butter-Factory.png
END:VEVENT
BEGIN:VEVENT
DTSTART;TZID=Australia/Brisbane:20240901T100000
DTEND;TZID=Australia/Brisbane:20240901T140000
DTSTAMP:20260426T102115
CREATED:20240805T034224Z
LAST-MODIFIED:20240828T000555Z
UID:3731-1725184800-1725199200@romarevealed.com.au
SUMMARY:Roma Showground Markets
DESCRIPTION:The Roma Showground Markets offers a mix of local produce\, handcrafted goods\, unique artisan products\, and delicious food stalls. \nHeld on the first Sunday of every month\, the markets provide a perfect opportunity to support local vendors and discover what they have to offer.
URL:https://romarevealed.com.au/event/roma-showground-markets-7/
LOCATION:Bassett Park Showgrounds\, Northern Road\, Roma\, QLD\, 4455\, Australia
CATEGORIES:Arts & Culture,Community & Family,Food & Drink
ATTACH;FMTTYPE=image/png:https://romarevealed.com.au/wp-content/uploads/2024/08/Roma-Showground-Markets-1.png
END:VEVENT
BEGIN:VEVENT
DTSTART;VALUE=DATE:20240827
DTEND;VALUE=DATE:20240829
DTSTAMP:20260426T102115
CREATED:20240806T230017Z
LAST-MODIFIED:20240806T230017Z
UID:3750-1724716800-1724889599@romarevealed.com.au
SUMMARY:The Harrington Circus Show
DESCRIPTION:Come and see this 50-minute circus show featuring the fabulous Kano the Clown\, daring aerial act\, and human acrobats. Mini funfair open 1 hour before the show.
URL:https://romarevealed.com.au/event/the-harrington-circus-show-mitchell/
LOCATION:Mitchell RSL & Combined Sporting Complex\, Liverpool Street\, Mitchell\, QLD\, 4465\, Australia
CATEGORIES:Arts & Culture,Community & Family,Music, Performance & Entertainment
ATTACH;FMTTYPE=image/png:https://romarevealed.com.au/wp-content/uploads/2024/08/The-Harrington-Circus-Show.png
ORGANIZER;CN="The Harrington Circus Show":MAILTO:theharringtoncircusshow@yahoo.com
END:VEVENT
BEGIN:VEVENT
DTSTART;TZID=Australia/Brisbane:20240826T183000
DTEND;TZID=Australia/Brisbane:20240826T213000
DTSTAMP:20260426T102115
CREATED:20240815T233431Z
LAST-MODIFIED:20240815T233431Z
UID:3799-1724697000-1724707800@romarevealed.com.au
SUMMARY:Cobb & Co Mitchell Dinner
DESCRIPTION:Enjoy a delicious 2 course dinner as we celebrate the 100-year anniversary of the last Cobb & Co coach service in Australian History.
URL:https://romarevealed.com.au/event/cobb-co-mitchell-dinner/
LOCATION:Mitchell Shire Hall\, Cambridge Street\, Mitchell\, QLD
CATEGORIES:Arts & Culture,Food & Drink
ATTACH;FMTTYPE=image/jpeg:https://romarevealed.com.au/wp-content/uploads/2024/08/452226049_867224122097966_2772352092808732050_n.jpg
ORGANIZER;CN="Booringa Action Group":MAILTO:fireandwaterfestival@gmail.com
END:VEVENT
BEGIN:VEVENT
DTSTART;TZID=Australia/Brisbane:20240825T103000
DTEND;TZID=Australia/Brisbane:20240825T143000
DTSTAMP:20260426T102115
CREATED:20240815T233223Z
LAST-MODIFIED:20240815T233223Z
UID:3796-1724581800-1724596200@romarevealed.com.au
SUMMARY:Cobb & Co Steam Train Journey
DESCRIPTION:Cobb & Co are thrilled to announce a unique Steam Train experience on Sunday 25th August as part of the festival’s final day thanks to Queensland Rail and the Australia Railway Historical Society! For the first time in more than 10 years a Queensland Rail BB18¼ steam train will be running all the way out to Roma and there’s something for everyone in this trip! \nJoin us for a family friendly experience on Sunday 25 August as a we take a four hour round trip from Yuleba to Roma to and from the festival in time for the Cobb & Co horse drawn cart to meet the train and deliver the mail!   \nDon’t miss your chance to ride on this iconic steam train fondly known as Bety and ride in Queensland Rail 100-year-old heritage carriages. \nTickets: Adults $55\, Children $40\, Family $175 (two adults and two kids)\, Concession $50.
URL:https://romarevealed.com.au/event/cobb-co-steam-train-journey/
LOCATION:QLD
CATEGORIES:Arts & Culture,Community & Family
ATTACH;FMTTYPE=image/png:https://romarevealed.com.au/wp-content/uploads/2024/08/Bety-steam-train.png
ORGANIZER;CN="Sunshine Express":MAILTO:office@sunshineexpress.org.au
END:VEVENT
BEGIN:VEVENT
DTSTART;TZID=Australia/Brisbane:20240825T100000
DTEND;TZID=Australia/Brisbane:20240825T160000
DTSTAMP:20260426T102115
CREATED:20240815T232524Z
LAST-MODIFIED:20240815T232524Z
UID:3794-1724580000-1724601600@romarevealed.com.au
SUMMARY:Cobb & Co Festival Finale Fun Day
DESCRIPTION:Celebrate the last day of the Cobb & Co Festival with a day packed full of excitement! Welcome the historic Cobb & Co Coach delivering the mail and passengers into Yuleba.\n\n\n\n**Highlights include:**\n– Watch the AGL Draught Horse Team lead the procession of rugged riders and horse-drawn wagons and carriages.\n– Competitions for Best Period Costume & Best Bushranger.\n– Sing along to Josh Arnold’s performance of ‘Cobb & Co Country’!\n– Experience the thrill of Cobb & Co Coach Rides and Shell QGC Bullock Wagon Rides!\n– Enjoy the Origin APLNG Crack Up Sisters’ circus antics\, choreographed whip cracking\, knockabout acrobatics\, and gags!\n– Switch FM radio station live outside broadcast.\n– Enjoy parades\, markets\, live entertainment with APA Bush Poets\, Senex Balladeers & more!\n\n\n\nDon’t miss out on this unforgettable day of family fun and historical charm! See you there!
URL:https://romarevealed.com.au/event/cobb-co-festival-finale-fun-day/
LOCATION:Cobb & Co Park\, Perry Street\, Yuleba\, QLD\, 4427\, Australia
CATEGORIES:Arts & Culture,Community & Family,Food & Drink,Music, Performance & Entertainment
ORGANIZER;CN="Cobb & Co Festival":MAILTO:info@cobbandcofestival.com.au
END:VEVENT
BEGIN:VEVENT
DTSTART;TZID=Australia/Brisbane:20240825T080000
DTEND;TZID=Australia/Brisbane:20240825T140000
DTSTAMP:20260426T102115
CREATED:20240628T060158Z
LAST-MODIFIED:20240805T033544Z
UID:3679-1724572800-1724594400@romarevealed.com.au
SUMMARY:Mooreland's GardenFest in the West
DESCRIPTION:It all started with a beautiful\, determined woman who has a passion for plants which she nurtured in a little green house in the paddock\, from there she planted a dream that grew and grew\, with the support of family and great team members.\n\n\n\n10 years later we now have what Mooreland’s Bush Nursery is today and the 3rd annual GardenFest in the West. This year’s program includes:\n\nGuest speakers Claire Bickle\, Sheila Marshall\, and Bernadine Paesler\nGarden-themed market stalls\nDemonstrations and workshops\nFood and drink from the Feedshed Cafe\n\nFor more information\, visit the Mooreland’s Bush Nursery Facebook page\, call Kristie on 0429 807 523 or email juliemurray105@hotmail.com.
URL:https://romarevealed.com.au/event/moorelands-gardenfest-in-the-west/
LOCATION:Moorelands Bush Nursery\, Dargal Road\, Bungeworgorai\, QLD\, 4455\, Australia
CATEGORIES:Arts & Culture,Business & Educational,Community & Family
ATTACH;FMTTYPE=image/jpeg:https://romarevealed.com.au/wp-content/uploads/2024/06/Save-the-Date-Moorelands-GardenFest.jpg
ORGANIZER;CN="Moorelands Bush Nursery":MAILTO:juliemurray105@hotmail.com
END:VEVENT
BEGIN:VEVENT
DTSTART;TZID=Australia/Brisbane:20240824T173000
DTEND;TZID=Australia/Brisbane:20240824T210000
DTSTAMP:20260426T102115
CREATED:20240815T234143Z
LAST-MODIFIED:20240816T005638Z
UID:3801-1724520600-1724533200@romarevealed.com.au
SUMMARY:Cobb & Co Australian Show and Movie Night
DESCRIPTION:Be ready for a whip crackin’ good time! Great horsemanship\, whipcracking and working dog’s all-star in this family show from ‘Outback Jack’ followed by an Australian classic ‘The man from Snowy River’ on the big screen. Free event for all. \nGallop over to the bar and support the Surat State School P&C\, and order fish and chips from Surat Fish and Chip Community Group.
URL:https://romarevealed.com.au/event/cobb-co-australian-show-and-movie-night/
LOCATION:Surat Recreation Grounds\, Ivan Street\, Surat\, QLD\, Australia
CATEGORIES:Arts & Culture,Community & Family,Food & Drink,Music, Performance & Entertainment
ORGANIZER;CN="Cobb & Co Festival":MAILTO:info@cobbandcofestival.com.au
END:VEVENT
BEGIN:VEVENT
DTSTART;TZID=Australia/Brisbane:20240824T100000
DTEND;TZID=Australia/Brisbane:20240824T140000
DTSTAMP:20260426T102115
CREATED:20240815T235340Z
LAST-MODIFIED:20240815T235340Z
UID:3802-1724493600-1724508000@romarevealed.com.au
SUMMARY:RomaCon24
DESCRIPTION:The South West’s biggest celebration of Pop Culture and geekery!!! \nFeaturing workshops\, tabletop gaming\, activities\, loot\, and of course the annual cosplay competition. \nThis is a free event\, held at the Roma Library.
URL:https://romarevealed.com.au/event/romacon24/
LOCATION:Roma Library\, 38-44 Hawthorne Street\, Roma\, QLD\, 4455\, Australia
CATEGORIES:Arts & Culture,Community & Family
ATTACH;FMTTYPE=image/jpeg:https://romarevealed.com.au/wp-content/uploads/2024/08/429473065_732006245736880_5026894373664477064_n.jpg
ORGANIZER;CN="headspace Roma":MAILTO:headspace.roma@rhealth.com.au
END:VEVENT
BEGIN:VEVENT
DTSTART;VALUE=DATE:20240823
DTEND;VALUE=DATE:20240826
DTSTAMP:20260426T102115
CREATED:20240806T225722Z
LAST-MODIFIED:20240806T225734Z
UID:3746-1724371200-1724630399@romarevealed.com.au
SUMMARY:The Harrington Circus Show
DESCRIPTION:Come and see this 50-minute circus show featuring the fabulous Kano the Clown\, daring aerial act\, and human acrobats. Mini funfair open 1 hour before the show.
URL:https://romarevealed.com.au/event/the-harrington-circus-show-roma/
LOCATION:All Saints Church\, Corner of McDowall and Feather St.\, Roma\, QLD\, 4455\, Australia
CATEGORIES:Arts & Culture,Community & Family,Music, Performance & Entertainment
ATTACH;FMTTYPE=image/png:https://romarevealed.com.au/wp-content/uploads/2024/08/The-Harrington-Circus-Show.png
ORGANIZER;CN="The Harrington Circus Show":MAILTO:theharringtoncircusshow@yahoo.com
END:VEVENT
BEGIN:VEVENT
DTSTART;TZID=Australia/Brisbane:20240822T173000
DTEND;TZID=Australia/Brisbane:20240822T193000
DTSTAMP:20260426T102115
CREATED:20240815T231359Z
LAST-MODIFIED:20240815T231359Z
UID:3788-1724347800-1724355000@romarevealed.com.au
SUMMARY:‘In it for the long haul’ Exhibition Opening
DESCRIPTION:Join the Surat on Balonne Gallery at the opening of their upcoming exhibition by artist Kathy Ellem. \nExhibition on display from 23 August to 6 October. \nRSVP to the Surat on Balonne Gallery by Monday 19 August on 07 4646 5136 or surat.library@maranoa.qld.gov.au.
URL:https://romarevealed.com.au/event/in-it-for-the-long-haul-exhibition-opening/
LOCATION:Cobb & Co Changing Station\, Burrowes Street\, Surat\, QLD\, 4417\, Australia
CATEGORIES:Arts & Culture
ATTACH;FMTTYPE=image/png:https://romarevealed.com.au/wp-content/uploads/2024/08/Kathy-Ellem-In-it-for-the-long-haul.png
ORGANIZER;CN="Cobb & Co Festival":MAILTO:info@cobbandcofestival.com.au
END:VEVENT
BEGIN:VEVENT
DTSTART;TZID=Australia/Brisbane:20240821T113000
DTEND;TZID=Australia/Brisbane:20240821T140000
DTSTAMP:20260426T102115
CREATED:20240815T230720Z
LAST-MODIFIED:20240815T230720Z
UID:3786-1724239800-1724248800@romarevealed.com.au
SUMMARY:The Colonial Kelly Connection Lunch
DESCRIPTION:You are cordially invited to come break bread with us at the Barn on this day. There will be guest speakers who are nearly old enough to fill you in on the Kelly Gang Connection with the Wallumbilla community. \nBook online or by phone by calling Ree – 0428 634 933.
URL:https://romarevealed.com.au/event/the-colonial-kelly-connection-lunch/
LOCATION:The Barn @ Mt Hope\, 'Mount Hope\, Wallumbilla\, QLD\, 4428\, Australia
CATEGORIES:Arts & Culture,Community & Family,Food & Drink
ORGANIZER;CN="Cobb & Co Festival":MAILTO:info@cobbandcofestival.com.au
END:VEVENT
BEGIN:VEVENT
DTSTART;VALUE=DATE:20240819
DTEND;VALUE=DATE:20240825
DTSTAMP:20260426T102115
CREATED:20240710T042426Z
LAST-MODIFIED:20240729T235154Z
UID:3704-1724025600-1724543999@romarevealed.com.au
SUMMARY:Whalebone
DESCRIPTION:Dive into the ‘Depository’\, where tales come to life! \nWhen a rogue AI threatens our stories\, can whimsical inventions and quirky contraptions save the day? Join Jens Altheimer on this roller-coaster adventure\, blending humour\, magic\, machines and mesmerising visuals. Perfect for kids and adults who love suspense\, surprises\, and discovering what truly makes us human. \nWhalebone is a must-see spectacle full of emotion and wonder. This performance is recommended for children ages 6 to 12 years old. \nDates and Venues: \n\nMonday 19 August | 1:00 pm – 2:00 pm | Injune Memorial Hall\nWednesday 21 August | 6:00 pm – 7:00 pm | Surat Shire Hall\nFriday 23 August | 1:00 pm – 2:00 pm | Mitchell Hall\nSaturday 24 August | 2:30 pm – 3:30 pm | Roma Cultural Centre\n\nFREE COMMUNITY EVENT. RSVP at WHALEBONE – Can we save our stories when the Robots arrive? (office.com) \nFor more information call 1300 007 662 or email arts@maranoa.qld.gov.au. \n 
URL:https://romarevealed.com.au/event/whalebone/
LOCATION:QLD
CATEGORIES:Arts & Culture,Performing Arts
ATTACH;FMTTYPE=image/png:https://romarevealed.com.au/wp-content/uploads/2024/07/Whalebone.png
END:VEVENT
BEGIN:VEVENT
DTSTART;TZID=Australia/Brisbane:20240817T193000
DTEND;TZID=Australia/Brisbane:20240817T233000
DTSTAMP:20260426T102115
CREATED:20240815T225551Z
LAST-MODIFIED:20240815T225551Z
UID:3780-1723923000-1723937400@romarevealed.com.au
SUMMARY:Cobb & Co Festival Ball
DESCRIPTION:Come along in your best period costume\, your finest ballgown or your best suit to celebrate the Cobb and Co Festival in Yuleba. The band 2 Timing will provide Old Time/New Vogue\, upbeat Rock n Roll\, Country and modern dance music. The Belle\, Beau and Princess of the Ball will be announced on the night.  Supper and a complimentary drink are included in the entry price. Click here for further information.
URL:https://romarevealed.com.au/event/cobb-co-festival-ball/
LOCATION:Yuleba Memorial Hall\, Garden Street\, Yuleba\, QLD\, 4427\, Australia
CATEGORIES:Arts & Culture,Community & Family,Food & Drink,Music, Performance & Entertainment
ATTACH;FMTTYPE=image/png:https://romarevealed.com.au/wp-content/uploads/2024/08/Cobb-Co-Festival-Ball.png
ORGANIZER;CN="Cobb & Co Festival":MAILTO:info@cobbandcofestival.com.au
END:VEVENT
BEGIN:VEVENT
DTSTART;TZID=Australia/Brisbane:20240817T130000
DTEND;TZID=Australia/Brisbane:20240817T150000
DTSTAMP:20260426T102115
CREATED:20240813T030504Z
LAST-MODIFIED:20240813T030504Z
UID:3765-1723899600-1723906800@romarevealed.com.au
SUMMARY:Pas de Deux Exhibition Opening
DESCRIPTION:Roma on Bungil Gallery presents: Pas de Deux\, an exhibition of works by Carol Curran and Loretta Thomas. \nJoin us for the Exhibition Opening on Saturday 17 August from 1:00 pm. Refreshments available. \nRSVP via secretary@romaonbungil.com.au. \nExhibition on display until Saturday 19 October 2024.
URL:https://romarevealed.com.au/event/pas-de-deux-exhibition-opening/
LOCATION:Roma on Bungil Gallery\, 38-44 Hawthorne Street\, Roma\, QLD\, 4455\, Australia
CATEGORIES:Arts & Culture
ATTACH;FMTTYPE=image/png:https://romarevealed.com.au/wp-content/uploads/2024/08/Event-Calendar-Tiles.png
ORGANIZER;CN="Roma on Bungil Gallery":MAILTO:secretary@romaonbungil.com.au
END:VEVENT
BEGIN:VEVENT
DTSTART;VALUE=DATE:20240816
DTEND;VALUE=DATE:20240826
DTSTAMP:20260426T102115
CREATED:20230202T012454Z
LAST-MODIFIED:20240801T034919Z
UID:3023-1723766400-1724630399@romarevealed.com.au
SUMMARY:Cobb & Co Festival
DESCRIPTION:Step back in time and immerse yourself in the rich history of the Australian bush at the Cobb & Co Festival\, celebrating the anniversary of the last horse-drawn mail coach service in Australia. Every five years\, the Cobb & Co Festival retraces the final journey along the 76 kilometres of dusty track between the small country towns of Surat and Yuleba in the Roma region. \nThe Festival’s signature event begins by collecting the mail from the Surat Post Office\, before participants hit the dusty 76 kilometre track on horseback\, in buggies\, carriages and wagons. Over the ten days of the festival\, there are a variety of activities held around the area. From a long table dinner to a period dress clay target shoot\, bowls days\, markets\, theatre productions\, and plenty of live entertainment\, there’s something for everyone to enjoy. \nThis year’s Festival is not one to be missed\, as it celebrates the 100th anniversary of the last coach drawn mail service in Australia\, a significant historic milestone. \nWhere else can you rattle along in a horse-drawn carriage\, reliving an important chapter of Australia’s outback history? Just remember to keep an eye out for bushrangers — after all\, every adventure comes with its own thrilling surprises. \nLoad up the car (or coach) and get ready! Yeehaw!
URL:https://romarevealed.com.au/event/cobb-co-festival/
LOCATION:Surat\, Surat\, QLD\, Australia
CATEGORIES:Arts & Culture,Community & Family,Signature Event
ATTACH;FMTTYPE=image/jpeg:https://romarevealed.com.au/wp-content/uploads/2023/02/66496573_1662166013916730_3645401291171037184_n.jpg
ORGANIZER;CN="Cobb & Co Festival":MAILTO:info@cobbandcofestival.com.au
END:VEVENT
BEGIN:VEVENT
DTSTART;TZID=Australia/Brisbane:20240804T100000
DTEND;TZID=Australia/Brisbane:20240804T140000
DTSTAMP:20260426T102115
CREATED:20240628T060248Z
LAST-MODIFIED:20240805T033217Z
UID:3682-1722765600-1722780000@romarevealed.com.au
SUMMARY:Roma Showground Markets
DESCRIPTION:The Roma Showground Markets offers a mix of local produce\, handcrafted goods\, unique artisan products\, and delicious food stalls. \nHeld on the first Sunday of every month\, the markets provide a perfect opportunity to support local vendors and discover what they have to offer.
URL:https://romarevealed.com.au/event/roma-showground-markets-6/
LOCATION:Bassett Park Showgrounds\, Northern Road\, Roma\, QLD\, 4455\, Australia
CATEGORIES:Arts & Culture,Community & Family,Food & Drink
ATTACH;FMTTYPE=image/jpeg:https://romarevealed.com.au/wp-content/uploads/2022/08/Markets-e1666656539713.jpg
END:VEVENT
BEGIN:VEVENT
DTSTART;VALUE=DATE:20240722
DTEND;VALUE=DATE:20240726
DTSTAMP:20260426T102115
CREATED:20240708T230643Z
LAST-MODIFIED:20240716T051200Z
UID:3693-1721606400-1721951999@romarevealed.com.au
SUMMARY:Meet the Cast: The Sunshine Club
DESCRIPTION:Swing into The Sunshine Club\, where everyone is welcome and romances bloom!  \nThe talented cast of Queensland Theatre production\, The Sunshine Club will be performing free mini concerts across the Roma region with songs from the musical\, followed by a meet & greet. Don’t miss this opportunity to get a sneak peek of the vibrant and powerful story before the main performance on September 21. \n\nDates and Venues:\n\n\n• Monday\, 22 July | 10am | Surat Shire Hall\n• Monday\, 22 July | 4pm| Roma Cultural Centre\n• Tuesday\, 23 July | 10am | Mitchell Shire Hall\n\n\n\nDuration: Each event will last 1 hour. These events will not be ticketed\, so there is no need to register – simply turn up!\n\n\n\n\n\nFor more information\, contact Kate Mulcahy at 0450 054 174 or katemulcahy@hotmail.com.
URL:https://romarevealed.com.au/event/meet-the-cast-the-sunshine-club/
LOCATION:Various Locations – Roma\, Roma\, QLD\, Australia
CATEGORIES:Arts & Culture,Performing Arts
ATTACH;FMTTYPE=image/jpeg:https://romarevealed.com.au/wp-content/uploads/2024/07/Sunshine_Header_2400x1200.jpg
END:VEVENT
BEGIN:VEVENT
DTSTART;TZID=Australia/Brisbane:20240707T100000
DTEND;TZID=Australia/Brisbane:20240707T140000
DTSTAMP:20260426T102115
CREATED:20230828T062219Z
LAST-MODIFIED:20240628T054725Z
UID:3243-1720346400-1720360800@romarevealed.com.au
SUMMARY:Roma Showground Markets
DESCRIPTION:The Roma Showground Markets offers a mix of local produce\, handcrafted goods\, unique artisan products\, and delicious food stalls. \nHeld on the first Sunday of every month\, the markets provide a perfect opportunity to support local vendors and discover what they have to offer.
URL:https://romarevealed.com.au/event/roma-showground-markets-5/
LOCATION:Bassett Park Showgrounds\, Northern Road\, Roma\, QLD\, 4455\, Australia
CATEGORIES:Arts & Culture,Food & Drink
ATTACH;FMTTYPE=image/jpeg:https://romarevealed.com.au/wp-content/uploads/2022/08/Markets-e1666656539713.jpg
END:VEVENT
BEGIN:VEVENT
DTSTART;TZID=Australia/Brisbane:20240704T190000
DTEND;TZID=Australia/Brisbane:20240704T220000
DTSTAMP:20260426T102115
CREATED:20240408T233032Z
LAST-MODIFIED:20240617T035856Z
UID:3476-1720119600-1720130400@romarevealed.com.au
SUMMARY:Graeme Connors - My Lyrical Life 50 Years
DESCRIPTION:Master singer-songwriter Graeme Connors is opening his vast catalogue of songs and heading a little further north\, south\, east and west\, bringing his new book and concert ‘My Lyrical Life’ to Roma as part of celebrations for his half century in the music industry. \nGraeme and his musicians are looking forward to being on the road and visiting as many places as possible in 2024/2025 and Roma is on that list. Drawing together the 217 songs represented in My Lyrical Life has given Graeme the chance to rediscover many gems from the past alongside the fan favourites – so see you in Roma you just might recognise your town in a Graeme Connors song.
URL:https://romarevealed.com.au/event/graeme-connors-my-lyrical-life-50-years/
LOCATION:Roma Cultural Centre
CATEGORIES:Arts & Culture,Music, Performance & Entertainment,Performing Arts
ATTACH;FMTTYPE=image/jpeg:https://romarevealed.com.au/wp-content/uploads/2024/04/Connors.jpeg
END:VEVENT
END:VCALENDAR