BEGIN:VCALENDAR
VERSION:2.0
PRODID:-//Roma Revealed - ECPv6.15.20//NONSGML v1.0//EN
CALSCALE:GREGORIAN
METHOD:PUBLISH
X-WR-CALNAME:Roma Revealed
X-ORIGINAL-URL:https://romarevealed.com.au
X-WR-CALDESC:Events for Roma Revealed
REFRESH-INTERVAL;VALUE=DURATION:PT1H
X-Robots-Tag:noindex
X-PUBLISHED-TTL:PT1H
BEGIN:VTIMEZONE
TZID:Australia/Brisbane
BEGIN:STANDARD
TZOFFSETFROM:+1000
TZOFFSETTO:+1000
TZNAME:AEST
DTSTART:20250101T000000
END:STANDARD
END:VTIMEZONE
BEGIN:VEVENT
DTSTART;TZID=Australia/Brisbane:20260523T110000
DTEND;TZID=Australia/Brisbane:20260523T163000
DTSTAMP:20260425T212446
CREATED:20260415T060251Z
LAST-MODIFIED:20260415T060251Z
UID:4853-1779534000-1779553800@romarevealed.com.au
SUMMARY:Eskies & Opera 2026
DESCRIPTION:Eskies & Opera is a bespoke live music event held at the picturesque Moorelands Bush Nursery. Guests will enjoy a picnic luncheon accompanied by performances from four world-class opera singers and repetiteur/classical pianist\, as well as a conservatorium-qualified guitarist and a local vocalist\, all expertly mixed by a professional sound technician. \nUpon arrival\, attendees will be greeted and directed to place their esky\, followed by a complimentary beverage and appetisers\, providing an opportunity for socialising with fellow guests. The program features three musical sets encompassing classic opera\, music theatre/silver screen\, and contemporary/country genres. A curated picnic lunchbox will be served during the performance\, and afternoon tea with desserts will be offered during intermission prior to the final musical set. \nTickets are available at $125 per person\, which includes three hours of live entertainment\, reserved seating\, a complimentary drink and appetisers\, a picnic boxed lunch\, and afternoon tea with sweets\, all within a beautiful garden setting. All profits from this event are supporting the LifeFlight Foundation SW Base (Roma).
URL:https://romarevealed.com.au/event/eskies-opera-2026/
LOCATION:Moorelands Bush Nursery\, Dargal Road\, Bungeworgorai\, QLD\, 4455\, Australia
CATEGORIES:Arts & Culture,Music, Performance & Entertainment,Performing Arts
ATTACH;FMTTYPE=image/jpeg:https://romarevealed.com.au/wp-content/uploads/2026/04/53baa71d-108e-4053-a6ab-1b3f49190758-tempImageuEngE8.jpg
END:VEVENT
END:VCALENDAR