BEGIN:VCALENDAR
VERSION:2.0
PRODID:-//Roma Revealed - ECPv6.15.20//NONSGML v1.0//EN
CALSCALE:GREGORIAN
METHOD:PUBLISH
X-WR-CALNAME:Roma Revealed
X-ORIGINAL-URL:https://romarevealed.com.au
X-WR-CALDESC:Events for Roma Revealed
REFRESH-INTERVAL;VALUE=DURATION:PT1H
X-Robots-Tag:noindex
X-PUBLISHED-TTL:PT1H
BEGIN:VTIMEZONE
TZID:Australia/Brisbane
BEGIN:STANDARD
TZOFFSETFROM:+1000
TZOFFSETTO:+1000
TZNAME:AEST
DTSTART:20240101T000000
END:STANDARD
END:VTIMEZONE
BEGIN:VEVENT
DTSTART;TZID=Australia/Brisbane:20250222T090000
DTEND;TZID=Australia/Brisbane:20250222T110000
DTSTAMP:20260426T034650
CREATED:20250217T225559Z
LAST-MODIFIED:20250217T225559Z
UID:4222-1740214800-1740222000@romarevealed.com.au
SUMMARY:Meet & Greet Maranoa Marsupials
DESCRIPTION:Chat & pat some baby animals with the Maranoa Wildlife Carers during this special weekend session. \nJoin us to learn about: \n\nWhat exactly goes into caring for our Aussie wildlife?\nWhat to do if you find an injured animal.\nHow to identify our local wildlife\n\nBookings are recommended. To book\, call 0458 642 760 or email roma.library@maranoa.qld.gov.au.
URL:https://romarevealed.com.au/event/meet-greet-maranoa-marsupials/
LOCATION:Roma Library\, 38-44 Hawthorne Street\, Roma\, QLD\, 4455\, Australia
CATEGORIES:Business & Educational,Community & Family
ATTACH;FMTTYPE=image/png:https://romarevealed.com.au/wp-content/uploads/2025/02/Meet-Greet-Maranoa-Marsupials.png
ORGANIZER;CN="Roma Library":MAILTO:roma.library@maranoa.qld.gov.au
END:VEVENT
END:VCALENDAR