BEGIN:VCALENDAR
VERSION:2.0
PRODID:-//Roma Revealed - ECPv6.15.20//NONSGML v1.0//EN
CALSCALE:GREGORIAN
METHOD:PUBLISH
X-ORIGINAL-URL:https://romarevealed.com.au
X-WR-CALDESC:Events for Roma Revealed
REFRESH-INTERVAL;VALUE=DURATION:PT1H
X-Robots-Tag:noindex
X-PUBLISHED-TTL:PT1H
BEGIN:VTIMEZONE
TZID:Australia/Brisbane
BEGIN:STANDARD
TZOFFSETFROM:+1000
TZOFFSETTO:+1000
TZNAME:AEST
DTSTART:20240101T000000
END:STANDARD
END:VTIMEZONE
BEGIN:VEVENT
DTSTART;TZID=Australia/Brisbane:20250301T090000
DTEND;TZID=Australia/Brisbane:20250301T120000
DTSTAMP:20260426T021534
CREATED:20250217T235711Z
LAST-MODIFIED:20250217T235721Z
UID:4227-1740819600-1740830400@romarevealed.com.au
SUMMARY:Stitch in the Shade: Blackwork Bouquets
DESCRIPTION:Stitch in the Shade: Blackwork Bouquets \nYour ticket includes two blackwork embroideries and one frame. Beginners are welcome! \nFood and drink available from Moorelands Feed Shed. \nTickets required. Purchase your tickets at Blackwork Bouquets
URL:https://romarevealed.com.au/event/stitch-in-the-shade-5/
LOCATION:Moorelands Bush Nursery\, Dargal Road\, Bungeworgorai\, QLD\, 4455\, Australia
CATEGORIES:Arts & Culture,Business & Educational,Community & Family
ATTACH;FMTTYPE=image/png:https://romarevealed.com.au/wp-content/uploads/2025/02/Stitch-in-the-Shade.png
ORGANIZER;CN="Roma Patchwork & Crafters Inc":MAILTO:romapatchwork.craft@gmail.com
END:VEVENT
BEGIN:VEVENT
DTSTART;TZID=Australia/Brisbane:20250306T093000
DTEND;TZID=Australia/Brisbane:20250306T093000
DTSTAMP:20260426T021534
CREATED:20250219T020628Z
LAST-MODIFIED:20250224T003430Z
UID:4236-1741253400-1741253400@romarevealed.com.au
SUMMARY:International Women's Day in Jackson
DESCRIPTION:Celebrate International Women’s Day in Jackson with morning tea and guest speaker Tonya Carew. \nFrom solving crimes to shaping careers\, Tonya Carew shares how 38 years in law enforcement now fuel the success of Growth Huntr\, a game-changing social media marketing agency. \nFree entry\, bookings required. Please call Maranoa Regional Council in 1300 007 662 to register.
URL:https://romarevealed.com.au/event/international-womens-day-in-jackson/
LOCATION:Jackson CWA Hall\, 2 Queen Street\, Jackson\, Queensland\, 4426\, Australia
CATEGORIES:Business & Educational,Community & Family
ATTACH;FMTTYPE=image/png:https://romarevealed.com.au/wp-content/uploads/2025/02/IWD-Jackson.png
ORGANIZER;CN="Maranoa Regional Council":MAILTO:council@maranoa.qld.gov.au
END:VEVENT
BEGIN:VEVENT
DTSTART;TZID=Australia/Brisbane:20250314T120000
DTEND;TZID=Australia/Brisbane:20250314T150000
DTSTAMP:20260426T021534
CREATED:20250106T013745Z
LAST-MODIFIED:20250224T002613Z
UID:4106-1741953600-1741964400@romarevealed.com.au
SUMMARY:RCAT Ladies Lunch
DESCRIPTION:Join us for the 2025 RCAT Ladies Lunch\, where great food\, wonderful company\, and inspiring conversations come together. \nOur special guest speaker\, Natasha Johnston OAM\, founder of Farm Angels\, will share her incredible journey and insights. \nThis is the perfect opportunity to connect with new and familiar faces\, unwind\, and celebrate the strength of our community. (Oh and have some fun… we love to have fun!) \nBookings required. Book at RCAT Ladies Lunch – March 2025 Tickets\, The Club Hotel\, Roma | TryBooking Australia
URL:https://romarevealed.com.au/event/rcat-ladies-lunch/
LOCATION:The Club Hotel Roma\, 42 McDowall Street\, Roma\, QLD\, 4455\, Australia
CATEGORIES:Business & Educational,Community & Family,Food & Drink
ATTACH;FMTTYPE=image/png:https://romarevealed.com.au/wp-content/uploads/2025/01/RCAT-Ladies-Lunch.png
ORGANIZER;CN="Roma Commerce and Tourism":MAILTO:info@rcat.org.au
END:VEVENT
BEGIN:VEVENT
DTSTART;VALUE=DATE:20250320
DTEND;VALUE=DATE:20250322
DTSTAMP:20260426T021534
CREATED:20250115T014554Z
LAST-MODIFIED:20250115T014554Z
UID:4166-1742428800-1742601599@romarevealed.com.au
SUMMARY:Resin Jewellery Workshops
DESCRIPTION:Join Laura from Timber Heart Creations for a creative class in jewellery-making. Learn how to make your own accessories using resin\, moulds\, pigments\, dried flowers\, glitter\, gold leaf\, and more. \nAll tuition and materials are included\, and you will take home four of your own handmade unique pieces. There are hundreds of options to choose from: make simple stud earrings\, beautiful broaches\, elegant hairclips\, and much more. \nThree sessions are available: \n\nThursday\, 20 March 5.00pm – 7.00pm\, Wallumbilla Memorial Hall\nFriday\, 21 March 10.30am – 12.30pm\, Surat Library\nFriday\, 21 March 5.30pm – 7.30pm\, Mitchell Shire Hall\n\nBookings required. Get your tickets at: \nFor more details\, visit:
URL:https://romarevealed.com.au/event/resin-jewellery-workshops/
LOCATION:QLD
CATEGORIES:Arts & Culture,Business & Educational
ATTACH;FMTTYPE=image/png:https://romarevealed.com.au/wp-content/uploads/2025/01/Resin-Jewellery-Workshops.png
ORGANIZER;CN="Maranoa Regional Council":MAILTO:council@maranoa.qld.gov.au
END:VEVENT
BEGIN:VEVENT
DTSTART;TZID=Australia/Brisbane:20250322T160000
DTEND;TZID=Australia/Brisbane:20250322T160000
DTSTAMP:20260426T021534
CREATED:20250311T014432Z
LAST-MODIFIED:20250311T014432Z
UID:4304-1742659200-1742659200@romarevealed.com.au
SUMMARY:You Don't Need Wings to Fly
DESCRIPTION:Enjoy a social afternoon being captivated by Sam Bailey about the journey of his life. \nFrom a childhood growing up in the Australian bush to a car accident in the outback that turned his life upside down and its aftermath\, Sam tells his story in his own down-to-earth laconic style that captures the determination\, grit and humour that made it possible. \nFollowing Sam\, the bar will be open\, and you will be treated to a delicious meal thanks to “Batsey’s Smoke and Grill” of smoked meats and delicious salads. \nBookings required. RSVP by 18 March. Purchase tickets here: Sam Bailey at Begonia (Begonia) Tickets\, Begonia Golf & Sports Club \nIncludes two course meal.
URL:https://romarevealed.com.au/event/you-dont-need-wings-to-fly/
LOCATION:Begonia Sports Club\, Begonia\, QLD\, Australia
CATEGORIES:Business & Educational,Community & Family,Food & Drink
ATTACH;FMTTYPE=image/png:https://romarevealed.com.au/wp-content/uploads/2025/03/You-Dont-Need-Wings-to-Fly.png
ORGANIZER;CN="ConnectAg":MAILTO:rhonda@connectag.com.au
END:VEVENT
END:VCALENDAR