BEGIN:VCALENDAR
VERSION:2.0
PRODID:-//Roma Revealed - ECPv6.15.20//NONSGML v1.0//EN
CALSCALE:GREGORIAN
METHOD:PUBLISH
X-ORIGINAL-URL:https://romarevealed.com.au
X-WR-CALDESC:Events for Roma Revealed
REFRESH-INTERVAL;VALUE=DURATION:PT1H
X-Robots-Tag:noindex
X-PUBLISHED-TTL:PT1H
BEGIN:VTIMEZONE
TZID:Australia/Brisbane
BEGIN:STANDARD
TZOFFSETFROM:+1000
TZOFFSETTO:+1000
TZNAME:AEST
DTSTART:20240101T000000
END:STANDARD
END:VTIMEZONE
BEGIN:VEVENT
DTSTART;TZID=Australia/Brisbane:20250607T070000
DTEND;TZID=Australia/Brisbane:20250607T090000
DTSTAMP:20260425T211354
CREATED:20250606T004533Z
LAST-MODIFIED:20250606T004648Z
UID:4420-1749279600-1749286800@romarevealed.com.au
SUMMARY:Forge in a Flash: Steak Flipper
DESCRIPTION:These fun\, hands on\, 2 hour workshops are a great introduction into the wonderful world of Blacksmithing with qualified ‘Smithy\, Mick Henricks. If you’ve been keen to have a go\, but don’t think you’re ready for our full day classes\, then this is the workshop for you!  You’ll make a steak flipper to use at your next BBQ.
URL:https://romarevealed.com.au/event/forge-in-a-flash-steak-flipper-4/
LOCATION:The Farmer’s Forge\, 42 Tiffin Street\, Roma\, QLD\, 4455\, Australia
CATEGORIES:Arts & Culture,Business & Educational
ATTACH;FMTTYPE=image/png:https://romarevealed.com.au/wp-content/uploads/2024/11/Forge-in-a-Flash.png
ORGANIZER;CN="The Farmer's Forge":MAILTO:gday@thefarmersforge.com.au
END:VEVENT
BEGIN:VEVENT
DTSTART;TZID=Australia/Brisbane:20250607T100000
DTEND;TZID=Australia/Brisbane:20250607T120000
DTSTAMP:20260425T211354
CREATED:20250606T004619Z
LAST-MODIFIED:20250606T004619Z
UID:4421-1749290400-1749297600@romarevealed.com.au
SUMMARY:Forge in a Flash: Cheese Knife
DESCRIPTION:This fun\, hands on\, 2-hour workshop is a great introduction into the wonderful world of Blacksmithing.\nIf you’ve been keen to have a go\, but don’t think you’re ready for our full day classes\, then this is the workshop for you! You’ll make a basic forged Cheese Knife to take home with you.
URL:https://romarevealed.com.au/event/forge-in-a-flash-cheese-knife-5/
LOCATION:The Farmer’s Forge\, 42 Tiffin Street\, Roma\, QLD\, 4455\, Australia
CATEGORIES:Arts & Culture,Business & Educational
ATTACH;FMTTYPE=image/png:https://romarevealed.com.au/wp-content/uploads/2024/11/Forge-in-a-Flash.png
ORGANIZER;CN="The Farmer's Forge":MAILTO:gday@thefarmersforge.com.au
END:VEVENT
BEGIN:VEVENT
DTSTART;TZID=Australia/Brisbane:20250608T070000
DTEND;TZID=Australia/Brisbane:20250608T160000
DTSTAMP:20260425T211354
CREATED:20250606T004753Z
LAST-MODIFIED:20250606T004753Z
UID:4422-1749366000-1749398400@romarevealed.com.au
SUMMARY:Beginner's Blacksmithing Workshop
DESCRIPTION:Learn the basics of Blacksmithing with these fun\, hands-on Blacksmithing Workshops for Beginners with qualified Blacksmith\, Mick Henricks at The Farmer’s Forge. \nYou’ll make a Fire Tool Set to take home with you – including a Fire Poker\, Rake & Shovel (not to mention your flash new skills as a Smithy!). \nOnly 4 participants per workshop\, all materials supplied\, and you’ll have your own Forge\, Anvil and Tools to operate on the day. Morning Tea & Lunch also provided.
URL:https://romarevealed.com.au/event/beginners-blacksmithing-workshop/
LOCATION:The Farmer’s Forge\, 42 Tiffin Street\, Roma\, QLD\, 4455\, Australia
CATEGORIES:Arts & Culture,Business & Educational
ATTACH;FMTTYPE=image/png:https://romarevealed.com.au/wp-content/uploads/2024/09/Farmers-Forge-Beginners-Blacksmithing-Workshop.png
ORGANIZER;CN="The Farmer's Forge":MAILTO:gday@thefarmersforge.com.au
END:VEVENT
BEGIN:VEVENT
DTSTART;TZID=Australia/Brisbane:20250614T070000
DTEND;TZID=Australia/Brisbane:20250614T160000
DTSTAMP:20260425T211354
CREATED:20250606T004945Z
LAST-MODIFIED:20250606T004945Z
UID:4423-1749884400-1749916800@romarevealed.com.au
SUMMARY:Beginner's Blacksmithing Workshop
DESCRIPTION:Step into the world of traditional blacksmithing with this fun\, hands-on beginner workshop\, where you’ll learn to forge your very own knife from raw steel. \nUnder the guidance of an experienced blacksmith\, you’ll discover the fundamentals of heat\, hammer and steel while working at the anvil. \nThis class is perfect for beginners with no prior experience. You’ll leave with a functional\, handcrafted knife and a newfound appreciation for the art of blacksmithing. \nOnly 4 participants per workshop\, all materials supplied\, and you’ll have your own Forge\, Anvil and Tools to operate on the day. Morning Tea & Lunch also provided.
URL:https://romarevealed.com.au/event/beginners-blacksmithing-workshop-2/
LOCATION:The Farmer’s Forge\, 42 Tiffin Street\, Roma\, QLD\, 4455\, Australia
CATEGORIES:Arts & Culture,Business & Educational
ATTACH;FMTTYPE=image/png:https://romarevealed.com.au/wp-content/uploads/2024/09/Farmers-Forge-Beginners-Blacksmithing-Workshop.png
ORGANIZER;CN="The Farmer's Forge":MAILTO:gday@thefarmersforge.com.au
END:VEVENT
BEGIN:VEVENT
DTSTART;TZID=Australia/Brisbane:20250615T070000
DTEND;TZID=Australia/Brisbane:20250615T160000
DTSTAMP:20260425T211354
CREATED:20250606T010458Z
LAST-MODIFIED:20250606T010458Z
UID:4430-1749970800-1750003200@romarevealed.com.au
SUMMARY:Beginner's Blacksmithing Workshop
DESCRIPTION:Step into the world of traditional blacksmithing with this fun\, hands-on beginner workshop\, where you’ll learn to forge your very own knife from raw steel. \nUnder the guidance of an experienced blacksmith\, you’ll discover the fundamentals of heat\, hammer and steel while working at the anvil. \nThis class is perfect for beginners with no prior experience. You’ll leave with your own fire tool set and a newfound appreciation for the art of blacksmithing. \nOnly 4 participants per workshop\, all materials supplied\, and you’ll have your own Forge\, Anvil and Tools to operate on the day. Morning Tea & Lunch also provided.
URL:https://romarevealed.com.au/event/beginners-blacksmithing-workshop-3/
LOCATION:The Farmer’s Forge\, 42 Tiffin Street\, Roma\, QLD\, 4455\, Australia
CATEGORIES:Arts & Culture,Business & Educational
ATTACH;FMTTYPE=image/png:https://romarevealed.com.au/wp-content/uploads/2024/09/Farmers-Forge-Beginners-Blacksmithing-Workshop.png
ORGANIZER;CN="The Farmer's Forge":MAILTO:gday@thefarmersforge.com.au
END:VEVENT
END:VCALENDAR