BEGIN:VCALENDAR
VERSION:2.0
PRODID:-//Roma Revealed - ECPv6.15.20//NONSGML v1.0//EN
CALSCALE:GREGORIAN
METHOD:PUBLISH
X-WR-CALNAME:Roma Revealed
X-ORIGINAL-URL:https://romarevealed.com.au
X-WR-CALDESC:Events for Roma Revealed
REFRESH-INTERVAL;VALUE=DURATION:PT1H
X-Robots-Tag:noindex
X-PUBLISHED-TTL:PT1H
BEGIN:VTIMEZONE
TZID:Australia/Brisbane
BEGIN:STANDARD
TZOFFSETFROM:+1000
TZOFFSETTO:+1000
TZNAME:AEST
DTSTART:20240101T000000
END:STANDARD
END:VTIMEZONE
BEGIN:VEVENT
DTSTART;TZID=Australia/Brisbane:20251130T100000
DTEND;TZID=Australia/Brisbane:20251130T120000
DTSTAMP:20260425T131936
CREATED:20251124T024832Z
LAST-MODIFIED:20251124T024841Z
UID:4741-1764496800-1764504000@romarevealed.com.au
SUMMARY:Christmas Wreath Workshop
DESCRIPTION:Step into the festive season with a touch of creativity and outback charm.\n\nOn Sunday\, 30 November 2025 at 10am\, join Mulga Belt Living for an immersive Christmas Wreath Workshop hosted in collaboration with talented farmer–florist Allie Hill of Dunkerry Flora\, Nindigully.\n\nAllie brings her passion for sustainable\, locally grown flowers and her background as a qualified teacher to guide you through the art of wreath making. With her relaxed and encouraging style\, you’ll learn step-by-step how to craft a stunning\, one-of-a-kind wreath to adorn your home this Christmas.\n\nBookings required. Get your ticket: Christmas Wreath Workshop Tickets\, Mulga Belt Living \, MITCHELL | TryBooking Australia
URL:https://romarevealed.com.au/event/christmas-wreath-workshop/
LOCATION:Mulga Belt Living\, Mulga Belt\, Mitchell\, QLD\, 4465\, Australia
CATEGORIES:Arts & Culture,Business & Educational
ATTACH;FMTTYPE=image/jpeg:https://romarevealed.com.au/wp-content/uploads/2025/11/Christmas-Wreath-Workshop.jpg
ORGANIZER;CN="Mulga Belt Living":MAILTO:mulgabeltliving@gmail.com
END:VEVENT
END:VCALENDAR