BEGIN:VCALENDAR
VERSION:2.0
PRODID:-//Roma Revealed - ECPv6.15.20//NONSGML v1.0//EN
CALSCALE:GREGORIAN
METHOD:PUBLISH
X-ORIGINAL-URL:https://romarevealed.com.au
X-WR-CALDESC:Events for Roma Revealed
REFRESH-INTERVAL;VALUE=DURATION:PT1H
X-Robots-Tag:noindex
X-PUBLISHED-TTL:PT1H
BEGIN:VTIMEZONE
TZID:Australia/Brisbane
BEGIN:STANDARD
TZOFFSETFROM:+1000
TZOFFSETTO:+1000
TZNAME:AEST
DTSTART:20250101T000000
END:STANDARD
END:VTIMEZONE
BEGIN:VEVENT
DTSTART;TZID=Australia/Brisbane:20260306T063000
DTEND;TZID=Australia/Brisbane:20260306T083000
DTSTAMP:20260425T071524
CREATED:20250131T004746Z
LAST-MODIFIED:20260209T054213Z
UID:4211-1772778600-1772785800@romarevealed.com.au
SUMMARY:Zonta Club of Roma's International Womens Day Breakfast
DESCRIPTION:Join us for a delicious breakfast as you start your day. To be held on Friday 6th March\, 6.30 am at the new venue\, The Roma Gun Club. Our guest speaker this year will be Detective Senior Constable Nat Bennett\, member of the QPS and also proprietor of Nat Benn Photography. Nat has led an interesting life so far and will be sharing some of those tales with us over breakfast! Proceeds of the morning will assist the Maranoa Netball Association in their bid to represent the region at this years U18 State Netball Carnival in Townsville. \nBookings essential. Book here: Zonta Club of Roma IWD Breakfast 2026 Tickets\, Roma Gun Club\, Roma | TryBooking Australia
URL:https://romarevealed.com.au/event/zonta-club-of-romas-international-womens-day-breakfast/
LOCATION:Roma Gun Club\, 155 Geoghegan Road\, Roma\, QLD\, 4455\, Australia
CATEGORIES:Business & Educational,Community & Family
ATTACH;FMTTYPE=image/png:https://romarevealed.com.au/wp-content/uploads/2025/01/Roma-Zonta-IWD-.png
ORGANIZER;CN="Zonta Club of Roma":MAILTO:roma@zontadistrict22.org
END:VEVENT
BEGIN:VEVENT
DTSTART;TZID=Australia/Brisbane:20260308T090000
DTEND;TZID=Australia/Brisbane:20260308T120000
DTSTAMP:20260425T071524
CREATED:20250226T060236Z
LAST-MODIFIED:20260209T055507Z
UID:4247-1772960400-1772971200@romarevealed.com.au
SUMMARY:Mitchell on Maranoa Photo Rally
DESCRIPTION:PHOTO RALLY IS BACK!  Join us for a fun-filled morning of discovery\, creativity\, and community as teams race around town capturing 15 unique objects through their lens.\n\n\n\nGrab a friend\, grab a camera (yes—phones count! )\, and explore Mitchell in a whole new way. Race the clock\, hunt down mystery objects\, and snap your most creative shots for a chance to win prizes.\n\nRegister here: Photo Rally 2026
URL:https://romarevealed.com.au/event/mitchell-on-maranoa-photo-rally/
LOCATION:Mitchell on Maranoa Gallery\, 33 Cambridge Street\, Mitchell\, QLD\, 4465
CATEGORIES:Arts & Culture,Business & Educational
ATTACH;FMTTYPE=image/png:https://romarevealed.com.au/wp-content/uploads/2025/02/Photo-Rally-1.png
ORGANIZER;CN="Mitchell on Maranoa Gallery":MAILTO:mitchell.library@maranoa.qld.gov.au
END:VEVENT
END:VCALENDAR