BEGIN:VCALENDAR
VERSION:2.0
PRODID:-//Roma Revealed - ECPv6.15.20//NONSGML v1.0//EN
CALSCALE:GREGORIAN
METHOD:PUBLISH
X-ORIGINAL-URL:https://romarevealed.com.au
X-WR-CALDESC:Events for Roma Revealed
REFRESH-INTERVAL;VALUE=DURATION:PT1H
X-Robots-Tag:noindex
X-PUBLISHED-TTL:PT1H
BEGIN:VTIMEZONE
TZID:Australia/Brisbane
BEGIN:STANDARD
TZOFFSETFROM:+1000
TZOFFSETTO:+1000
TZNAME:AEST
DTSTART:20240101T000000
END:STANDARD
END:VTIMEZONE
BEGIN:VEVENT
DTSTART;VALUE=DATE:20250724
DTEND;VALUE=DATE:20250726
DTSTAMP:20260426T022030
CREATED:20250707T004801Z
LAST-MODIFIED:20250707T004801Z
UID:4516-1753315200-1753487999@romarevealed.com.au
SUMMARY:Resin Jewellery Workshops
DESCRIPTION:Join Laura from Timber Heart Creations for a creative class in jewellery-making. Learn how to make your own accessories using resin\, moulds\, pigments\, dried flowers\, glitter\, gold leaf\, and more. \nAll tuition and materials are included\, and you will take home four of your own handmade unique pieces. There are hundreds of options to choose from: make simple stud earrings\, beautiful broaches\, elegant hairclips\, and much more. \nTwo sessions are available: \n\nThursday 24 July at 5.30pm\nFriday 25 July at 9.30am\n\nBookings required. Book your spot by calling 0459 954 019 or mpsa.inc@gmail.com.
URL:https://romarevealed.com.au/event/resin-jewellery-workshops-2/
LOCATION:Mungallala Memorial Hall\, Redford Street\, Mungallala\, QLD
CATEGORIES:Arts & Culture,Business & Educational
ATTACH;FMTTYPE=image/png:https://romarevealed.com.au/wp-content/uploads/2025/07/Resin-Workshop.png
END:VEVENT
BEGIN:VEVENT
DTSTART;TZID=Australia/Brisbane:20250801T120000
DTEND;TZID=Australia/Brisbane:20250801T153000
DTSTAMP:20260426T022030
CREATED:20250606T013210Z
LAST-MODIFIED:20250606T013210Z
UID:4441-1754049600-1754062200@romarevealed.com.au
SUMMARY:Ladies Who Long Lunch
DESCRIPTION:Women in business\, entrepreneurs\, professionals\, aspiring business leaders\, business owners and more from around the Maranoa Region in Queensland and beyond are set to gather for an empowering and inspiring event designed to foster and form new friendships and connections\, whilst promoting and encouraging the importance of taking time out away from the business landscape. \nLadies Who Long Lunch events feature a panel of remarkable women known as the Empowerment Panel. This year’s Regional Long Lunch Empowerment Panel will highlight and cover conversations with these amazing women and their stories.You’ll want to stop and take time out for this afternoon event in Roma\, Queensland. \nBookings required: Ladies Who Long Lunch Roma 2025
URL:https://romarevealed.com.au/event/ladies-who-long-lunch/
LOCATION:Western Queensland Spirit\, 50 Bungewogari Lane\, Roma\, QLD\, 4455
CATEGORIES:Business & Educational,Food & Drink
ATTACH;FMTTYPE=image/jpeg:https://romarevealed.com.au/wp-content/uploads/2025/06/Ladies-Who-Long-Lunch.jpg
ORGANIZER;CN="Ladies Who Long Lunch":MAILTO:info@socialocean.com.au
END:VEVENT
BEGIN:VEVENT
DTSTART;TZID=Australia/Brisbane:20250803T100000
DTEND;TZID=Australia/Brisbane:20250803T160000
DTSTAMP:20260426T022030
CREATED:20250706T235651Z
LAST-MODIFIED:20250706T235712Z
UID:4509-1754215200-1754236800@romarevealed.com.au
SUMMARY:Write Out West Workshop
DESCRIPTION:A day of inspiration\, learning\, sharing and having fun with published authors Maureene Anne Fries\, Shelley Dark and Bernadette Condren. \nThis is a wonderful opportunity for rural women writers to hone their writing skills during this one-day workshop presented by experienced writers\, all members of The Society of Women Writers Qld. \nBookings required. For tickets and more information\, visit Write Out West Workshop Tour.
URL:https://romarevealed.com.au/event/write-out-west-workshop/
LOCATION:Roma Library\, 38-44 Hawthorne Street\, Roma\, QLD\, 4455\, Australia
CATEGORIES:Arts & Culture,Business & Educational
ATTACH;FMTTYPE=image/jpeg:https://romarevealed.com.au/wp-content/uploads/2025/07/Write-Out-West.jpg
ORGANIZER;CN="The Society of Women Writers Qld Inc":MAILTO:secretary@womenwritersqld.org.au
END:VEVENT
BEGIN:VEVENT
DTSTART;VALUE=DATE:20250821
DTEND;VALUE=DATE:20250825
DTSTAMP:20260426T022030
CREATED:20250811T032623Z
LAST-MODIFIED:20250811T032623Z
UID:4537-1755734400-1756079999@romarevealed.com.au
SUMMARY:Millinery Workshops
DESCRIPTION:Discover the art of millinery in this hands-on workshop\, led by experienced milliner\, Brenda Treasure from B-Unique Millinery. You will learn fundamental techniques to design and create your own unique hat. Perfect for beginners and those looking to try something new. \nOption 1: Full-Day Straw Hat Making Workshop \nA full-day immersive experience into the traditional craft of straw hat creation! \nThursday 21 August\, 9am – 3pm\nFriday 22 August\, 9am – 3pm\n$80 per person. \nOption 2: Fedora Wool Felt Hat Workshop \nDelve into the world of wool felts! \nSaturday 23 August\, 9am – 12noon & Sunday 24 August\, 9am – 12noon\nSaturday 23 August\, 1pm – 4.30 pm & Sunday 24 August\, 1pm – 4.30 pm\n$80 per person
URL:https://romarevealed.com.au/event/millinery-workshops/
LOCATION:Roma Patchworker and Crafters Group Studio\, 6/38-44 Hawthorne Street\, Roma\, QLD\, 4455\, Australia
CATEGORIES:Arts & Culture,Business & Educational
ATTACH;FMTTYPE=image/png:https://romarevealed.com.au/wp-content/uploads/2025/08/Millinery-Workshops.png
ORGANIZER;CN="Maranoa Regional Council":MAILTO:council@maranoa.qld.gov.au
END:VEVENT
BEGIN:VEVENT
DTSTART;TZID=Australia/Brisbane:20250830T081500
DTEND;TZID=Australia/Brisbane:20250830T213000
DTSTAMP:20260426T022030
CREATED:20250217T232115Z
LAST-MODIFIED:20250819T063115Z
UID:4224-1756541700-1756589400@romarevealed.com.au
SUMMARY:Blokes at the Barn
DESCRIPTION:Blokes at the Barn event aims to provide men with the tools\, resources\, and camaraderie to recharge and refocus – shoulder to shoulder with other men. \nThis is more than a day out. Join former rugby league star Darius Boyd and other guest speakers\, and learn valuable skills in leather making\, butchering demonstrations\, meat smoking\, welding\, lawn care and more. \nThis event is an excellent way to step outside the usual routine and develop new skills while meeting others who share similar interests. Whether you’re looking to refine your skills or simply looking for something new\, this day is one you won’t want to miss. \nBookings required. Get your tickets here: Blokes at the Barn (August) Tickets\, The Barn at Mt Hope\, Wallumbilla | TryBooking Australia
URL:https://romarevealed.com.au/event/blokes-at-the-barn/
LOCATION:The Barn @ Mt Hope\, 'Mount Hope\, Wallumbilla\, QLD\, 4428\, Australia
CATEGORIES:Arts & Culture,Business & Educational,Community & Family
ATTACH;FMTTYPE=image/png:https://romarevealed.com.au/wp-content/uploads/2025/02/Blokes-at-the-Barn-1.png
ORGANIZER;CN="ConnectAg":MAILTO:rhonda@connectag.com.au
END:VEVENT
BEGIN:VEVENT
DTSTART;TZID=Australia/Brisbane:20250831T080000
DTEND;TZID=Australia/Brisbane:20250831T140000
DTSTAMP:20260426T022030
CREATED:20250606T013627Z
LAST-MODIFIED:20250606T013627Z
UID:4444-1756627200-1756648800@romarevealed.com.au
SUMMARY:GardenFest in the West
DESCRIPTION:Get ready for a down-to-earth day of gardening inspiration\, hands-on learning\, and local goodness at GardenFest in the West.\n\nGuest speakers sharing expert garden tips and sustainable living ideas\nInteractive workshops and demonstrations for all ages\nUnique garden-themed market stalls\nDelicious food and drinks from The Feed Shed Café\, served up by the Murray’s of Moorelands\n\nBring your friends\, your family\, and your curiosity. Gold coin entry.\n\nIt’s a relaxed\, community-focused event — come for the knowledge\, stay for the atmosphere.
URL:https://romarevealed.com.au/event/gardenfest-in-the-west-2/
LOCATION:Moorelands Bush Nursery\, Dargal Road\, Bungeworgorai\, QLD\, 4455\, Australia
CATEGORIES:Business & Educational,Community & Family
ATTACH;FMTTYPE=image/jpeg:https://romarevealed.com.au/wp-content/uploads/2025/06/GardenFest-in-the-West.jpg
ORGANIZER;CN="Moorelands Bush Nursery":MAILTO:juliemurray105@hotmail.com
END:VEVENT
BEGIN:VEVENT
DTSTART;TZID=Australia/Brisbane:20250907T080000
DTEND;TZID=Australia/Brisbane:20250907T110000
DTSTAMP:20260426T022030
CREATED:20250819T065119Z
LAST-MODIFIED:20250819T065119Z
UID:4575-1757232000-1757242800@romarevealed.com.au
SUMMARY:Father’s Day Blacksmithing Workshop BBQ Tongs
DESCRIPTION:Give Dad a gift that’s a bit more metal than socks and undies. \nThis Father’s Day\, we’re firing up the forge for a 3-hour blacksmithing workshop where you and / or Dad will hand-forge a set of BBQ tongs worthy of any backyard legend. \nYou’ll get hands-on at the anvil\, learn the basics of shaping hot steel\, and take home your own handmade BBQ tongs – ready to flip snags with serious style at your Father’s Day barbey. \nSpots are limited\, so book in quick… or Dad might grill you about it later….classic dad joke right there: Father’s Day Workshop – BBQ Tongs – The Farmer’s Forge \nNo prior experience is necessary – this fun\, hands-on workshop is perfect for beginners and a great little intro into the wonderful world of blacksmithing!
URL:https://romarevealed.com.au/event/fathers-day-blacksmithing-workshop-bbq-tongs/
LOCATION:The Farmer’s Forge\, 42 Tiffin Street\, Roma\, QLD\, 4455\, Australia
CATEGORIES:Arts & Culture,Business & Educational
ATTACH;FMTTYPE=image/png:https://romarevealed.com.au/wp-content/uploads/2024/09/Farmers-Forge-Beginners-Blacksmithing-Workshop.png
ORGANIZER;CN="The Farmer's Forge":MAILTO:gday@thefarmersforge.com.au
END:VEVENT
BEGIN:VEVENT
DTSTART;TZID=Australia/Brisbane:20251011T180000
DTEND;TZID=Australia/Brisbane:20251011T230000
DTSTAMP:20260426T022030
CREATED:20241025T031054Z
LAST-MODIFIED:20250909T231513Z
UID:3978-1760205600-1760223600@romarevealed.com.au
SUMMARY:2025 Maranoa Business Awards
DESCRIPTION:The 12th Annual Maranoa Business Awards is to be held on Saturday\, 11th October 2025 at the Explorer’s Inn Function Centre\, Roma. \nThe Business Excellence Awards will showcase the talents and achievements of our regional businesses and reinforce the opportunities and benefits of supporting local means. \nAs the region’s only comprehensive and prestigious awards scheme\, the awards offer specific and meaningful benefits to the Maranoa business community and recognise achievements over a variety of categories. \nGet your friends and colleagues together for a great night out. \nTickets now available: 2025 Maranoa Business Awards Tickets\, Roma Explorers Inn\, ROMA | TryBooking Australia
URL:https://romarevealed.com.au/event/2025-maranoa-business-awards/
LOCATION:Roma Explorers Inn\, 44778 Warrego Highway\, Roma\, QLD\, 4455\, Australia
CATEGORIES:Business & Educational
ATTACH;FMTTYPE=image/png:https://romarevealed.com.au/wp-content/uploads/2024/10/Maranoa-Business-Awards.png
ORGANIZER;CN="Roma Commerce and Tourism":MAILTO:info@rcat.org.au
END:VEVENT
BEGIN:VEVENT
DTSTART;TZID=Australia/Brisbane:20251017T100000
DTEND;TZID=Australia/Brisbane:20251017T100000
DTSTAMP:20260426T022030
CREATED:20250107T052917Z
LAST-MODIFIED:20251003T020328Z
UID:4125-1760695200-1760695200@romarevealed.com.au
SUMMARY:Roma Droughtmaster Bull Sale 2025
DESCRIPTION:Step into the heart of Queensland’s cattle country and experience the Roma Droughtmaster Bull Sale.\nWitness the best of the best as top-quality Droughtmaster bulls\, renowned for their resilience and adaptability\, go under the hammer. \n 
URL:https://romarevealed.com.au/event/roma-droughtmaster-bull-sale-2025/
LOCATION:Roma Saleyards
CATEGORIES:Business & Educational
ATTACH;FMTTYPE=image/png:https://romarevealed.com.au/wp-content/uploads/2025/01/Roma-Droughtmaster-Bull-Sale.png
END:VEVENT
BEGIN:VEVENT
DTSTART;TZID=Australia/Brisbane:20251130T100000
DTEND;TZID=Australia/Brisbane:20251130T120000
DTSTAMP:20260426T022030
CREATED:20251124T024832Z
LAST-MODIFIED:20251124T024841Z
UID:4741-1764496800-1764504000@romarevealed.com.au
SUMMARY:Christmas Wreath Workshop
DESCRIPTION:Step into the festive season with a touch of creativity and outback charm.\n\nOn Sunday\, 30 November 2025 at 10am\, join Mulga Belt Living for an immersive Christmas Wreath Workshop hosted in collaboration with talented farmer–florist Allie Hill of Dunkerry Flora\, Nindigully.\n\nAllie brings her passion for sustainable\, locally grown flowers and her background as a qualified teacher to guide you through the art of wreath making. With her relaxed and encouraging style\, you’ll learn step-by-step how to craft a stunning\, one-of-a-kind wreath to adorn your home this Christmas.\n\nBookings required. Get your ticket: Christmas Wreath Workshop Tickets\, Mulga Belt Living \, MITCHELL | TryBooking Australia
URL:https://romarevealed.com.au/event/christmas-wreath-workshop/
LOCATION:Mulga Belt Living\, Mulga Belt\, Mitchell\, QLD\, 4465\, Australia
CATEGORIES:Arts & Culture,Business & Educational
ATTACH;FMTTYPE=image/jpeg:https://romarevealed.com.au/wp-content/uploads/2025/11/Christmas-Wreath-Workshop.jpg
ORGANIZER;CN="Mulga Belt Living":MAILTO:mulgabeltliving@gmail.com
END:VEVENT
BEGIN:VEVENT
DTSTART;TZID=Australia/Brisbane:20260306T063000
DTEND;TZID=Australia/Brisbane:20260306T083000
DTSTAMP:20260426T022030
CREATED:20250131T004746Z
LAST-MODIFIED:20260209T054213Z
UID:4211-1772778600-1772785800@romarevealed.com.au
SUMMARY:Zonta Club of Roma's International Womens Day Breakfast
DESCRIPTION:Join us for a delicious breakfast as you start your day. To be held on Friday 6th March\, 6.30 am at the new venue\, The Roma Gun Club. Our guest speaker this year will be Detective Senior Constable Nat Bennett\, member of the QPS and also proprietor of Nat Benn Photography. Nat has led an interesting life so far and will be sharing some of those tales with us over breakfast! Proceeds of the morning will assist the Maranoa Netball Association in their bid to represent the region at this years U18 State Netball Carnival in Townsville. \nBookings essential. Book here: Zonta Club of Roma IWD Breakfast 2026 Tickets\, Roma Gun Club\, Roma | TryBooking Australia
URL:https://romarevealed.com.au/event/zonta-club-of-romas-international-womens-day-breakfast/
LOCATION:Roma Gun Club\, 155 Geoghegan Road\, Roma\, QLD\, 4455\, Australia
CATEGORIES:Business & Educational,Community & Family
ATTACH;FMTTYPE=image/png:https://romarevealed.com.au/wp-content/uploads/2025/01/Roma-Zonta-IWD-.png
ORGANIZER;CN="Zonta Club of Roma":MAILTO:roma@zontadistrict22.org
END:VEVENT
BEGIN:VEVENT
DTSTART;TZID=Australia/Brisbane:20260308T090000
DTEND;TZID=Australia/Brisbane:20260308T120000
DTSTAMP:20260426T022030
CREATED:20250226T060236Z
LAST-MODIFIED:20260209T055507Z
UID:4247-1772960400-1772971200@romarevealed.com.au
SUMMARY:Mitchell on Maranoa Photo Rally
DESCRIPTION:PHOTO RALLY IS BACK!  Join us for a fun-filled morning of discovery\, creativity\, and community as teams race around town capturing 15 unique objects through their lens.\n\n\n\nGrab a friend\, grab a camera (yes—phones count! )\, and explore Mitchell in a whole new way. Race the clock\, hunt down mystery objects\, and snap your most creative shots for a chance to win prizes.\n\nRegister here: Photo Rally 2026
URL:https://romarevealed.com.au/event/mitchell-on-maranoa-photo-rally/
LOCATION:Mitchell on Maranoa Gallery\, 33 Cambridge Street\, Mitchell\, QLD\, 4465
CATEGORIES:Arts & Culture,Business & Educational
ATTACH;FMTTYPE=image/png:https://romarevealed.com.au/wp-content/uploads/2025/02/Photo-Rally-1.png
ORGANIZER;CN="Mitchell on Maranoa Gallery":MAILTO:mitchell.library@maranoa.qld.gov.au
END:VEVENT
BEGIN:VEVENT
DTSTART;TZID=Australia/Brisbane:20260410T080000
DTEND;TZID=Australia/Brisbane:20260413T140000
DTSTAMP:20260426T022030
CREATED:20260330T052626Z
LAST-MODIFIED:20260330T052626Z
UID:4834-1775808000-1776088800@romarevealed.com.au
SUMMARY:Wallumbilla Cattle Camp 2026
DESCRIPTION:Wallumbilla Cattle Camp is back on in 2026.\nGet your sharpies or highlighters out and mark the 10th to 13th April 2026 on your calendar or diary!!!!! \nNominations are open\nThere will be a cutoff date for nominations and unfortunately\, there will be a cap on the number of participants
URL:https://romarevealed.com.au/event/wallumbilla-cattle-camp-2026/
LOCATION:Wallumbilla Show Grounds\, 27 Burke Street\, Wallumbilla\, QLD\, 4428\, Australia
CATEGORIES:Business & Educational
ORGANIZER;CN="Wallumbilla Agricultural Pastoral Association":MAILTO:wallumbillashow@gmail.com
END:VEVENT
END:VCALENDAR