BEGIN:VCALENDAR
VERSION:2.0
PRODID:-//Roma Revealed - ECPv6.15.20//NONSGML v1.0//EN
CALSCALE:GREGORIAN
METHOD:PUBLISH
X-WR-CALNAME:Roma Revealed
X-ORIGINAL-URL:https://romarevealed.com.au
X-WR-CALDESC:Events for Roma Revealed
REFRESH-INTERVAL;VALUE=DURATION:PT1H
X-Robots-Tag:noindex
X-PUBLISHED-TTL:PT1H
BEGIN:VTIMEZONE
TZID:Australia/Brisbane
BEGIN:STANDARD
TZOFFSETFROM:+1000
TZOFFSETTO:+1000
TZNAME:AEST
DTSTART:20230101T000000
END:STANDARD
END:VTIMEZONE
BEGIN:VEVENT
DTSTART;TZID=Australia/Brisbane:20241116T080000
DTEND;TZID=Australia/Brisbane:20241116T100000
DTSTAMP:20260425T133107
CREATED:20241107T232619Z
LAST-MODIFIED:20241107T232619Z
UID:4010-1731744000-1731751200@romarevealed.com.au
SUMMARY:Forge in a Flash: Coat Hooks
DESCRIPTION:This fun\, hands on\, 2-hour workshop is a great introduction into the wonderful world of Blacksmithing.\nIf you’ve been keen to have a go\, but don’t think you’re ready for our full day classes\, then this is the workshop for you! You’ll make a set of Coat Hooks to take home with you.
URL:https://romarevealed.com.au/event/forge-in-a-flash-coat-hooks/
LOCATION:The Farmer’s Forge\, 42 Tiffin Street\, Roma\, QLD\, 4455\, Australia
CATEGORIES:Arts & Culture,Business & Educational
ATTACH;FMTTYPE=image/png:https://romarevealed.com.au/wp-content/uploads/2024/11/Forge-in-a-Flash.png
ORGANIZER;CN="The Farmer's Forge":MAILTO:gday@thefarmersforge.com.au
END:VEVENT
BEGIN:VEVENT
DTSTART;TZID=Australia/Brisbane:20241109T080000
DTEND;TZID=Australia/Brisbane:20241109T100000
DTSTAMP:20260425T133107
CREATED:20241107T232451Z
LAST-MODIFIED:20241107T232451Z
UID:4007-1731139200-1731146400@romarevealed.com.au
SUMMARY:Forge in a Flash: Cheese Knife
DESCRIPTION:This fun\, hands on\, 2-hour workshop is a great introduction into the wonderful world of Blacksmithing.\nIf you’ve been keen to have a go\, but don’t think you’re ready for our full day classes\, then this is the workshop for you! You’ll make a basic forged Cheese Knife to take home with you.
URL:https://romarevealed.com.au/event/forge-in-a-flash-cheese-knife/
LOCATION:The Farmer’s Forge\, 42 Tiffin Street\, Roma\, QLD\, 4455\, Australia
CATEGORIES:Arts & Culture,Business & Educational
ATTACH;FMTTYPE=image/png:https://romarevealed.com.au/wp-content/uploads/2024/11/Forge-in-a-Flash.png
ORGANIZER;CN="The Farmer's Forge":MAILTO:gday@thefarmersforge.com.au
END:VEVENT
BEGIN:VEVENT
DTSTART;TZID=Australia/Brisbane:20241102T100000
DTEND;TZID=Australia/Brisbane:20241102T120000
DTSTAMP:20260425T133107
CREATED:20241027T234336Z
LAST-MODIFIED:20241027T235625Z
UID:3989-1730541600-1730548800@romarevealed.com.au
SUMMARY:30 Years of the Roma & District Family History Society
DESCRIPTION:Celebrate Roma & District Family History Society’s 30th Year with an Open Day. \nHave you ever wondered what we ‘do’ at the Roma History Lodge? And what records we hold? Come along for a Cuppa\, Coffee & Cake and have a look through the History Lodge. \nVolunteers will give short talks about their current projects to give you some insight into what we collect and what we do with our resources. \nFree entry.
URL:https://romarevealed.com.au/event/30-years-of-the-roma-district-family-history-society/
LOCATION:Roma History Lodge\, 17 McDowall St\, Roma\, QLD\, 4455\, Australia
CATEGORIES:Business & Educational,Community & Family
ATTACH;FMTTYPE=image/png:https://romarevealed.com.au/wp-content/uploads/2024/10/Roma-History-Lodge.png
ORGANIZER;CN="Roma & District Family History Society Inc":MAILTO:romahistorysoc@hotmail.com
END:VEVENT
BEGIN:VEVENT
DTSTART;TZID=Australia/Brisbane:20241026T083000
DTEND;TZID=Australia/Brisbane:20241026T163000
DTSTAMP:20260425T133107
CREATED:20240917T233646Z
LAST-MODIFIED:20240917T233646Z
UID:3931-1729931400-1729960200@romarevealed.com.au
SUMMARY:Abstract Landscape Painting Workshop
DESCRIPTION:Roma on Bungil Gallery presents: Abstract Landscape Painting Workshop with Jenny Foxton \nBring an old shirt or apron\, lunch and a willingness to experiment! \nBook via email: jfoxton2@gmail.com \nLimited places available.
URL:https://romarevealed.com.au/event/abstract-landscape-painting-workshop/
LOCATION:Roma on Bungil Gallery\, 38-44 Hawthorne Street\, Roma\, QLD\, 4455\, Australia
CATEGORIES:Arts & Culture,Business & Educational
END:VEVENT
BEGIN:VEVENT
DTSTART;TZID=Australia/Brisbane:20241019T070000
DTEND;TZID=Australia/Brisbane:20241019T160000
DTSTAMP:20260425T133107
CREATED:20240912T233625Z
LAST-MODIFIED:20240912T233625Z
UID:3893-1729321200-1729353600@romarevealed.com.au
SUMMARY:Beginner's Blacksmithing Workshop
DESCRIPTION:Learn the basics of Blacksmithing with these fun\, hands-on Blacksmithing Workshops for Beginners with qualified Blacksmith\, Mick Henricks at The Farmer’s Forge. \nYou’ll make a Fireplace Set to take home with you – including a Fire Poker\, Rake & Shovel (not to mention your flash new skills as a Smithy!). \nOnly 4 participants per workshop\, all materials supplied\, and you’ll have your own Forge\, Anvil and Tools to operate on the day. Morning Tea & Lunch also provided.
URL:https://romarevealed.com.au/event/beginners-blacksmithing-workshop-20-10/
LOCATION:The Farmer’s Forge\, 42 Tiffin Street\, Roma\, QLD\, 4455\, Australia
CATEGORIES:Arts & Culture,Business & Educational
ATTACH;FMTTYPE=image/png:https://romarevealed.com.au/wp-content/uploads/2024/09/Farmers-Forge-Beginners-Blacksmithing-Workshop.png
ORGANIZER;CN="The Farmer's Forge":MAILTO:gday@thefarmersforge.com.au
END:VEVENT
BEGIN:VEVENT
DTSTART;TZID=Australia/Brisbane:20241019T070000
DTEND;TZID=Australia/Brisbane:20241019T160000
DTSTAMP:20260425T133107
CREATED:20240912T233603Z
LAST-MODIFIED:20240912T233603Z
UID:3892-1729321200-1729353600@romarevealed.com.au
SUMMARY:Beginner's Blacksmithing Workshop
DESCRIPTION:Learn the basics of Blacksmithing with these fun\, hands-on Blacksmithing Workshops for Beginners with qualified Blacksmith\, Mick Henricks at The Farmer’s Forge. \nYou’ll make a Fireplace Set to take home with you – including a Fire Poker\, Rake & Shovel (not to mention your flash new skills as a Smithy!). \nOnly 4 participants per workshop\, all materials supplied\, and you’ll have your own Forge\, Anvil and Tools to operate on the day. Morning Tea & Lunch also provided.
URL:https://romarevealed.com.au/event/beginners-blacksmithing-workshop-19-10/
LOCATION:The Farmer’s Forge\, 42 Tiffin Street\, Roma\, QLD\, 4455\, Australia
CATEGORIES:Arts & Culture,Business & Educational
ATTACH;FMTTYPE=image/png:https://romarevealed.com.au/wp-content/uploads/2024/09/Farmers-Forge-Beginners-Blacksmithing-Workshop.png
ORGANIZER;CN="The Farmer's Forge":MAILTO:gday@thefarmersforge.com.au
END:VEVENT
BEGIN:VEVENT
DTSTART;TZID=Australia/Brisbane:20241018T180000
DTEND;TZID=Australia/Brisbane:20241018T200000
DTSTAMP:20260425T133107
CREATED:20240913T005854Z
LAST-MODIFIED:20240913T005854Z
UID:3921-1729274400-1729281600@romarevealed.com.au
SUMMARY:Clay Highland Cows at the Muckadilla Pub
DESCRIPTION:Come and get creative during this hour and a half class\, using two different methods of sculpting air-dry clay with a highland cow. \nIncluded in your booking is: \n\nClay per person (enough to make one highland cow)\nStep by step instructions\nFiring\, glazing and postage of your masterpiece back to you once finished\n\nJust buy a drink at the bar and the rest is sorted for you!
URL:https://romarevealed.com.au/event/clay-highland-cows-at-the-muckadilla-pub/
LOCATION:Mucka Pub\, 49122 Warrego Highway\, Muckadilla\, QLD\, 4461\, Australia
CATEGORIES:Arts & Culture,Business & Educational
ATTACH;FMTTYPE=image/png:https://romarevealed.com.au/wp-content/uploads/2024/09/Clay-Cows.png
ORGANIZER;CN="The Collective - Hervey Bay":MAILTO:Thecollectiveherveybay@gmail.com
END:VEVENT
BEGIN:VEVENT
DTSTART;VALUE=DATE:20241018
DTEND;VALUE=DATE:20241019
DTSTAMP:20260425T133107
CREATED:20240202T004639Z
LAST-MODIFIED:20240805T033238Z
UID:3417-1729209600-1729295999@romarevealed.com.au
SUMMARY:Roma Droughtmaster Bull Sale
DESCRIPTION:Join us for a premier showcase of top-tier Droughtmaster genetics at the Roma Droughtmaster Bull Sale.
URL:https://romarevealed.com.au/event/roma-droughtmaster-bull-sale-2/
LOCATION:Roma Saleyards
CATEGORIES:Business & Educational,Community & Family
ATTACH;FMTTYPE=image/jpeg:https://romarevealed.com.au/wp-content/uploads/2024/02/2024-10-18-Roma-Droughtmaster-Bull-Sale.jpg
END:VEVENT
BEGIN:VEVENT
DTSTART;VALUE=DATE:20241017
DTEND;VALUE=DATE:20241118
DTSTAMP:20260425T133107
CREATED:20240912T235334Z
LAST-MODIFIED:20241016T064246Z
UID:3901-1729123200-1731887999@romarevealed.com.au
SUMMARY:Resin Jewellery Workshop
DESCRIPTION:Join us for a Resin Jewellery Workshop with Laura from Timber Heart Creations! Whether you’re a beginner or just looking to try something new\, this workshop is perfect for you. \nYou will learn how to mix and work with resin\, embellishments and pigments\, and take home four of your unique handmade pieces! \nThree sessions are available: \n\nThursday\, 17 October\, 5.00pm to 7.00pm\, Wallumbilla Memorial Hall.\nFriday\, 18 October\, 10.30am to 12.30pm\, Surat Library.\nFriday\, 18 October\, 5.30pm to 7.30pm\, Mitchell Shire Hall.\n\nLimited spots available\, so don’t miss out! \nLet your imagination run wild and create something truly special.
URL:https://romarevealed.com.au/event/resin-jewellery-workshop/
LOCATION:Various locations
CATEGORIES:Arts & Culture,Business & Educational
ATTACH;FMTTYPE=image/png:https://romarevealed.com.au/wp-content/uploads/2024/09/Resin-Jewellery-Workshop.png
ORGANIZER;CN="Maranoa Regional Council":MAILTO:council@maranoa.qld.gov.au
END:VEVENT
BEGIN:VEVENT
DTSTART;TZID=Australia/Brisbane:20240929T070000
DTEND;TZID=Australia/Brisbane:20240929T160000
DTSTAMP:20260425T133107
CREATED:20240912T233529Z
LAST-MODIFIED:20240912T233720Z
UID:3891-1727593200-1727625600@romarevealed.com.au
SUMMARY:Beginner's Blacksmithing Workshop
DESCRIPTION:Learn the basics of Blacksmithing with these fun\, hands-on Blacksmithing Workshops for Beginners with qualified Blacksmith\, Mick Henricks at The Farmer’s Forge. \nYou’ll make a Fireplace Set to take home with you – including a Fire Poker\, Rake & Shovel (not to mention your flash new skills as a Smithy!). \nOnly 4 participants per workshop\, all materials supplied\, and you’ll have your own Forge\, Anvil and Tools to operate on the day. Morning Tea & Lunch also provided.
URL:https://romarevealed.com.au/event/beginners-blacksmithing-workshop-29-9/
LOCATION:The Farmer’s Forge\, 42 Tiffin Street\, Roma\, QLD\, 4455\, Australia
CATEGORIES:Arts & Culture,Business & Educational
ATTACH;FMTTYPE=image/png:https://romarevealed.com.au/wp-content/uploads/2024/09/Farmers-Forge-Beginners-Blacksmithing-Workshop.png
ORGANIZER;CN="The Farmer's Forge":MAILTO:gday@thefarmersforge.com.au
END:VEVENT
BEGIN:VEVENT
DTSTART;TZID=Australia/Brisbane:20240928T070000
DTEND;TZID=Australia/Brisbane:20240928T160000
DTSTAMP:20260425T133107
CREATED:20240912T233451Z
LAST-MODIFIED:20240912T233658Z
UID:3887-1727506800-1727539200@romarevealed.com.au
SUMMARY:Beginner's Blacksmithing Workshop
DESCRIPTION:Learn the basics of Blacksmithing with these fun\, hands-on Blacksmithing Workshops for Beginners with qualified Blacksmith\, Mick Henricks at The Farmer’s Forge. \nYou’ll make a Fireplace Set to take home with you – including a Fire Poker\, Rake & Shovel (not to mention your flash new skills as a Smithy!). \nOnly 4 participants per workshop\, all materials supplied\, and you’ll have your own Forge\, Anvil and Tools to operate on the day. Morning Tea & Lunch also provided.
URL:https://romarevealed.com.au/event/beginners-blacksmithing-workshop-28-9/
LOCATION:The Farmer’s Forge\, 42 Tiffin Street\, Roma\, QLD\, 4455\, Australia
CATEGORIES:Arts & Culture,Business & Educational
ATTACH;FMTTYPE=image/png:https://romarevealed.com.au/wp-content/uploads/2024/09/Farmers-Forge-Beginners-Blacksmithing-Workshop.png
ORGANIZER;CN="The Farmer's Forge":MAILTO:gday@thefarmersforge.com.au
END:VEVENT
BEGIN:VEVENT
DTSTART;VALUE=DATE:20240916
DTEND;VALUE=DATE:20240920
DTSTAMP:20260425T133107
CREATED:20240913T030347Z
LAST-MODIFIED:20240913T034830Z
UID:3924-1726444800-1726790399@romarevealed.com.au
SUMMARY:Queensland Ballet Maranoa Community Classes
DESCRIPTION:Discover the joy of dance with Queensland Ballet’s Maranoa Community Classes. \nThese fun and engaging holiday workshops guide participants through a ballet class to warm up before teaching a piece of Queensland Ballet Company Repertoire. Workshops are available for age groups 6-9 years and 10-15 years\, in Roma\, Injune\, Mitchell and Surat. \nFor more details\, visit www.queenslandballet.com.au/events/maranoa-community-classes.
URL:https://romarevealed.com.au/event/queensland-ballet-maranoa-community-classes/
LOCATION:Various locations
CATEGORIES:Arts & Culture,Business & Educational,Community & Family,Performing Arts
ATTACH;FMTTYPE=image/png:https://romarevealed.com.au/wp-content/uploads/2024/09/Ballet.png
ORGANIZER;CN="Queensland Ballet":MAILTO:mail@queenslandballet.com.au
END:VEVENT
BEGIN:VEVENT
DTSTART;TZID=Australia/Brisbane:20240825T080000
DTEND;TZID=Australia/Brisbane:20240825T140000
DTSTAMP:20260425T133107
CREATED:20240628T060158Z
LAST-MODIFIED:20240805T033544Z
UID:3679-1724572800-1724594400@romarevealed.com.au
SUMMARY:Mooreland's GardenFest in the West
DESCRIPTION:It all started with a beautiful\, determined woman who has a passion for plants which she nurtured in a little green house in the paddock\, from there she planted a dream that grew and grew\, with the support of family and great team members.\n\n\n\n10 years later we now have what Mooreland’s Bush Nursery is today and the 3rd annual GardenFest in the West. This year’s program includes:\n\nGuest speakers Claire Bickle\, Sheila Marshall\, and Bernadine Paesler\nGarden-themed market stalls\nDemonstrations and workshops\nFood and drink from the Feedshed Cafe\n\nFor more information\, visit the Mooreland’s Bush Nursery Facebook page\, call Kristie on 0429 807 523 or email juliemurray105@hotmail.com.
URL:https://romarevealed.com.au/event/moorelands-gardenfest-in-the-west/
LOCATION:Moorelands Bush Nursery\, Dargal Road\, Bungeworgorai\, QLD\, 4455\, Australia
CATEGORIES:Arts & Culture,Business & Educational,Community & Family
ATTACH;FMTTYPE=image/jpeg:https://romarevealed.com.au/wp-content/uploads/2024/06/Save-the-Date-Moorelands-GardenFest.jpg
ORGANIZER;CN="Moorelands Bush Nursery":MAILTO:juliemurray105@hotmail.com
END:VEVENT
END:VCALENDAR