BEGIN:VCALENDAR
VERSION:2.0
PRODID:-//Roma Revealed - ECPv6.15.20//NONSGML v1.0//EN
CALSCALE:GREGORIAN
METHOD:PUBLISH
X-WR-CALNAME:Roma Revealed
X-ORIGINAL-URL:https://romarevealed.com.au
X-WR-CALDESC:Events for Roma Revealed
REFRESH-INTERVAL;VALUE=DURATION:PT1H
X-Robots-Tag:noindex
X-PUBLISHED-TTL:PT1H
BEGIN:VTIMEZONE
TZID:Australia/Brisbane
BEGIN:STANDARD
TZOFFSETFROM:+1000
TZOFFSETTO:+1000
TZNAME:AEST
DTSTART:20250101T000000
END:STANDARD
END:VTIMEZONE
BEGIN:VEVENT
DTSTART;VALUE=DATE:20260401
DTEND;VALUE=DATE:20260407
DTSTAMP:20260426T051053
CREATED:20201106T032905Z
LAST-MODIFIED:20260209T060415Z
UID:1697-1775001600-1775519999@romarevealed.com.au
SUMMARY:Easter in the Country 2026
DESCRIPTION:Roma’s famous\, five-day Easter in the Country festival is celebrating 50 years in 2026! \nRecognised as one of Queensland’s premier Easter events\, the festival offers a range of activities for the thrill-seeker\, the cultural and culinary buff\, those who like to take things a little more leisurely and without a doubt – 2026 once again will see Roma showcase some of the best entertainment you will experience over the Easter weekend. \nCheck out what’s on and get your tickets now: HOME – Welcome to Roma’s Easter in the Country
URL:https://romarevealed.com.au/event/easter-in-the-country/
LOCATION:Queensland
CATEGORIES:Signature Event
ATTACH;FMTTYPE=image/png:https://romarevealed.com.au/wp-content/uploads/2020/11/Easter-in-the-Country.png
ORGANIZER;CN="Easter in the Country":MAILTO:info@easterinthecountry.com.au
END:VEVENT
END:VCALENDAR