BEGIN:VCALENDAR
VERSION:2.0
PRODID:-//Roma Revealed - ECPv6.15.20//NONSGML v1.0//EN
CALSCALE:GREGORIAN
METHOD:PUBLISH
X-ORIGINAL-URL:https://romarevealed.com.au
X-WR-CALDESC:Events for Roma Revealed
REFRESH-INTERVAL;VALUE=DURATION:PT1H
X-Robots-Tag:noindex
X-PUBLISHED-TTL:PT1H
BEGIN:VTIMEZONE
TZID:Australia/Brisbane
BEGIN:STANDARD
TZOFFSETFROM:+1000
TZOFFSETTO:+1000
TZNAME:AEST
DTSTART:20250101T000000
END:STANDARD
END:VTIMEZONE
BEGIN:VEVENT
DTSTART;TZID=Australia/Brisbane:20260411T140000
DTEND;TZID=Australia/Brisbane:20260411T140000
DTSTAMP:20260422T211128
CREATED:20241118T010907Z
LAST-MODIFIED:20251124T041420Z
UID:4034-1775916000-1775916000@romarevealed.com.au
SUMMARY:Gil's Galavant Backyard Ultra
DESCRIPTION:Welcome to Gil’s Galavant. An outback Queensland backyard ultra located on a working cattle property of approximately 3000 acres. \nCome and enjoy an outback camping experience as you run 6.71km loops of the property. Run till you can’t!
URL:https://romarevealed.com.au/event/gils-galavant-backyard-ultra/
LOCATION:Treville Downs\, Wallumbilla\, 1887 Wallumbilla North Road\, Wallumbilla\, QLD\, 4428\, Australia
CATEGORIES:Sports & Recreation
ATTACH;FMTTYPE=image/png:https://romarevealed.com.au/wp-content/uploads/2024/11/Gils-Galavant-Backyard-Ultra.png
ORGANIZER;CN="Gil's Galavant":MAILTO:contact@gilsgalavant.com.au
END:VEVENT
BEGIN:VEVENT
DTSTART;TZID=Australia/Brisbane:20260410T080000
DTEND;TZID=Australia/Brisbane:20260413T140000
DTSTAMP:20260422T211128
CREATED:20260330T052626Z
LAST-MODIFIED:20260330T052626Z
UID:4834-1775808000-1776088800@romarevealed.com.au
SUMMARY:Wallumbilla Cattle Camp 2026
DESCRIPTION:Wallumbilla Cattle Camp is back on in 2026.\nGet your sharpies or highlighters out and mark the 10th to 13th April 2026 on your calendar or diary!!!!! \nNominations are open\nThere will be a cutoff date for nominations and unfortunately\, there will be a cap on the number of participants
URL:https://romarevealed.com.au/event/wallumbilla-cattle-camp-2026/
LOCATION:Wallumbilla Show Grounds\, 27 Burke Street\, Wallumbilla\, QLD\, 4428\, Australia
CATEGORIES:Business & Educational
ORGANIZER;CN="Wallumbilla Agricultural Pastoral Association":MAILTO:wallumbillashow@gmail.com
END:VEVENT
BEGIN:VEVENT
DTSTART;VALUE=DATE:20260410
DTEND;VALUE=DATE:20260413
DTSTAMP:20260422T211128
CREATED:20260330T053122Z
LAST-MODIFIED:20260330T053122Z
UID:4835-1775779200-1776038399@romarevealed.com.au
SUMMARY:Mitchell Campdraft 25th Anniversary 2026
DESCRIPTION:The annual Mitchell Campdraft is not to be missed! \nMore information to be posted at Mitchell Campdraft Association | Mitchell QLD | Facebook
URL:https://romarevealed.com.au/event/mitchell-campdraft-25th-anniversary-2026/
LOCATION:QLD
CATEGORIES:Sports & Recreation
ORGANIZER;CN="Mitchell Campdraft Association":MAILTO:mitchellcampdraft@gmail.com
END:VEVENT
BEGIN:VEVENT
DTSTART;TZID=Australia/Brisbane:20260405T170000
DTEND;TZID=Australia/Brisbane:20260405T193000
DTSTAMP:20260422T211128
CREATED:20260330T052924Z
LAST-MODIFIED:20260330T052959Z
UID:4841-1775408400-1775417400@romarevealed.com.au
SUMMARY:Easter Organ Recital
DESCRIPTION:Our historic organ will be played by the talented organist Anthony Hahn who regularly plays for the Sale Cathedral in Victoria. Patrons can enjoy the musical experience while surrounded by the renown and beautiful stained-glass windows of St Paul’s Anglican Church\, along with a complimentary drink and nibbles on entry. \nTrybookings for ticket purchases\, https://www.trybooking.com/events/landing/1527459 also available at door. \n  \n 
URL:https://romarevealed.com.au/event/easter-organ-recital/
LOCATION:St Pauls Anglican Church\, 41/47 Bungil Street\, Roma\, QLD\, 4455\, Australia
CATEGORIES:Music, Performance & Entertainment,Performing Arts
ATTACH;FMTTYPE=image/jpeg:https://romarevealed.com.au/wp-content/uploads/2026/03/651605038_1355602709935365_3883064149867426338_n.jpg
ORGANIZER;CN="St Pauls Anglican Church":MAILTO:roma@anglicanchurchsq.org.au
END:VEVENT
BEGIN:VEVENT
DTSTART;TZID=Australia/Brisbane:20260405T081500
DTEND;TZID=Australia/Brisbane:20260405T120000
DTSTAMP:20260422T211128
CREATED:20260330T052600Z
LAST-MODIFIED:20260330T052600Z
UID:4833-1775376900-1775390400@romarevealed.com.au
SUMMARY:PCYC Maranoa Colour Xplosion Fun Run
DESCRIPTION:Presented by Senex. Join us on Easter Sunday for a 5km charity fun run and walk. This is a key community event on the Roma calendar\, held as part of Easter in the Country celebrations. All ages and abilities welcome. Free packet of coloured powder and event bib for all participants. \nProceeds from this 100% charity event going towards PCYC Maranoa to deliver free youth development programs for the local community in Roma and surrounds.
URL:https://romarevealed.com.au/event/pcyc-maranoa-colour-xplosion-fun-run/
LOCATION:Bassett Park Showgrounds\, Northern Road\, Roma\, QLD\, 4455\, Australia
CATEGORIES:Community & Family
ORGANIZER;CN="PCYC Maranoa":MAILTO:maranoa@pcyc.org.au
END:VEVENT
BEGIN:VEVENT
DTSTART;TZID=Australia/Brisbane:20260404T110000
DTEND;TZID=Australia/Brisbane:20260404T233000
DTSTAMP:20260422T211128
CREATED:20251124T041309Z
LAST-MODIFIED:20251124T041309Z
UID:4762-1775300400-1775345400@romarevealed.com.au
SUMMARY:XXXX Easter Races
DESCRIPTION:Meet friends to enjoy an afternoon of racing with a five-race program and heaps of children’s entertainment – water slides\, face painting and ice-creams! \nEFTPOS facilities with bar\, canteen and food carts. Entertainment after the races.
URL:https://romarevealed.com.au/event/xxxx-easter-races/
LOCATION:Bassett Park Showgrounds\, Northern Road\, Roma\, QLD\, 4455\, Australia
CATEGORIES:Races
ATTACH;FMTTYPE=image/png:https://romarevealed.com.au/wp-content/uploads/2025/11/Easter-Races.png
ORGANIZER;CN="Roma Turf Club":MAILTO:info@romaturfclub.org.au
END:VEVENT
BEGIN:VEVENT
DTSTART;TZID=Australia/Brisbane:20260330T100000
DTEND;TZID=Australia/Brisbane:20260330T140000
DTSTAMP:20260422T211128
CREATED:20260330T054133Z
LAST-MODIFIED:20260330T054133Z
UID:4844-1774864800-1774879200@romarevealed.com.au
SUMMARY:Roma Butter Factory Live Demonstrations
DESCRIPTION:The Butter Factory is excited to announce that there will be live demonstrations on Good Friday morning starting at 10am with Cream Separating\, followed by Shearing and the Gold Roller machine. \nBBQ will be going with Bacon & Egg burgers\, Hamburgers\, and Sausages on bread.
URL:https://romarevealed.com.au/event/roma-butter-factory-live-demonstrations/
LOCATION:Roma Butter Factory\, 18 Station Street\, Roma\, QLD\, 4455\, Australia
CATEGORIES:Arts & Culture,Community & Family,Food & Drink
END:VEVENT
BEGIN:VEVENT
DTSTART;TZID=Australia/Brisbane:20260329T090000
DTEND;TZID=Australia/Brisbane:20260329T110000
DTSTAMP:20260422T211128
CREATED:20260330T053250Z
LAST-MODIFIED:20260330T053250Z
UID:4832-1774774800-1774782000@romarevealed.com.au
SUMMARY:Moorelands Bush Nursery Easter Egg Hunt
DESCRIPTION:Join the Easter Fun\n\n\n\n\nThe Easter Egg Hunt is back at Moorelands Bush Nursery! Bring the kids out for a morning of excitement as they search the grounds for hidden eggs.
URL:https://romarevealed.com.au/event/moorelands-bush-nursery-easter-egg-hunt/
LOCATION:Moorelands Bush Nursery\, Dargal Road\, Bungeworgorai\, QLD\, 4455\, Australia
CATEGORIES:Community & Family
END:VEVENT
BEGIN:VEVENT
DTSTART;TZID=Australia/Brisbane:20260328T150000
DTEND;TZID=Australia/Brisbane:20260329T010000
DTSTAMP:20260422T211128
CREATED:20260330T052319Z
LAST-MODIFIED:20260330T052327Z
UID:4829-1774710000-1774746000@romarevealed.com.au
SUMMARY:Noonga Backroads and Beats Mini Music Festival
DESCRIPTION:Live music festival at Jackson-Wandoan Road\, Jackson QLD 4426. get ready for a good night and good vibes!
URL:https://romarevealed.com.au/event/noonga-backroads-and-beats-mini-music-festial/
LOCATION:Noonga Hall & Recreation Grounds\, Lot 37 Jackson-Wandoan Rd\, Jackson North QLD 4426\, Noonga\, 4426\, Australia
CATEGORIES:Music, Performance & Entertainment
END:VEVENT
BEGIN:VEVENT
DTSTART;VALUE=DATE:20260327
DTEND;VALUE=DATE:20260329
DTSTAMP:20260422T211128
CREATED:20241118T010330Z
LAST-MODIFIED:20251124T033531Z
UID:4031-1774569600-1774742399@romarevealed.com.au
SUMMARY:Roma Picnics Black Tie Ball & Races
DESCRIPTION:join us for a weekend of 125 year celebrations of racing\, wining\, dining and dancing at the 2026 Picnic Races on March 27th & 28th. Our event has been running since 1901 and is fondly known as the locals’ favourite Roma race meeting. \nOur Black Tie Ball is a must attend affair that kicks off a wonderful weekend in style. \nBe sure to book in the date for 2026 for a weekend not to be missed!
URL:https://romarevealed.com.au/event/roma-picnics-black-tie-ball-races/
LOCATION:Bassett Park Showgrounds\, Northern Road\, Roma\, QLD\, 4455\, Australia
CATEGORIES:Races,Signature Event
ATTACH;FMTTYPE=image/png:https://romarevealed.com.au/wp-content/uploads/2024/11/Roma-Picnics-Black-Tie-Ball-Races.png
ORGANIZER;CN="Roma Picnic Race Club":MAILTO:admin@romapicnicraces.com.au
END:VEVENT
BEGIN:VEVENT
DTSTART;VALUE=DATE:20260313
DTEND;VALUE=DATE:20260316
DTSTAMP:20260422T211128
CREATED:20250113T020122Z
LAST-MODIFIED:20260209T055821Z
UID:4164-1773360000-1773619199@romarevealed.com.au
SUMMARY:Tooloombilla Rodeo & Campdraft
DESCRIPTION:Save the Date! The Tooloombilla Rodeo & Campdraft is back in 2026 and you won’t want to miss it!More details coming—stay tuned!
URL:https://romarevealed.com.au/event/tooloombilla-rodeo-campdraft/
LOCATION:Tooloombilla Rodeo\, Campdraft and Gymkhana
CATEGORIES:Sports & Recreation
ATTACH;FMTTYPE=image/png:https://romarevealed.com.au/wp-content/uploads/2025/01/Tooloombilla-Rodeo.png
END:VEVENT
BEGIN:VEVENT
DTSTART;TZID=Australia/Brisbane:20260308T090000
DTEND;TZID=Australia/Brisbane:20260308T120000
DTSTAMP:20260422T211128
CREATED:20250226T060236Z
LAST-MODIFIED:20260209T055507Z
UID:4247-1772960400-1772971200@romarevealed.com.au
SUMMARY:Mitchell on Maranoa Photo Rally
DESCRIPTION:PHOTO RALLY IS BACK!  Join us for a fun-filled morning of discovery\, creativity\, and community as teams race around town capturing 15 unique objects through their lens.\n\n\n\nGrab a friend\, grab a camera (yes—phones count! )\, and explore Mitchell in a whole new way. Race the clock\, hunt down mystery objects\, and snap your most creative shots for a chance to win prizes.\n\nRegister here: Photo Rally 2026
URL:https://romarevealed.com.au/event/mitchell-on-maranoa-photo-rally/
LOCATION:Mitchell on Maranoa Gallery\, 33 Cambridge Street\, Mitchell\, QLD\, 4465
CATEGORIES:Arts & Culture,Business & Educational
ATTACH;FMTTYPE=image/png:https://romarevealed.com.au/wp-content/uploads/2025/02/Photo-Rally-1.png
ORGANIZER;CN="Mitchell on Maranoa Gallery":MAILTO:mitchell.library@maranoa.qld.gov.au
END:VEVENT
BEGIN:VEVENT
DTSTART;VALUE=DATE:20260307
DTEND;VALUE=DATE:20260309
DTSTAMP:20260422T211128
CREATED:20260209T055248Z
LAST-MODIFIED:20260217T043230Z
UID:4802-1772841600-1773014399@romarevealed.com.au
SUMMARY:Roma Australian Enduro Championship 2026
DESCRIPTION:Round 1 & 2 of the Official Australian Enduro Championships are in Roma!\n\nAll proceeds from our round of the AEC will be donated to the Jake Williams Pump Track Project.
URL:https://romarevealed.com.au/event/roma-australian-enduro-championship-2026/
LOCATION:QLD
CATEGORIES:Sports & Recreation
ATTACH;FMTTYPE=image/png:https://romarevealed.com.au/wp-content/uploads/2026/02/Roma-Enduro.png
END:VEVENT
BEGIN:VEVENT
DTSTART;VALUE=DATE:20260307
DTEND;VALUE=DATE:20260308
DTSTAMP:20260422T211128
CREATED:20250218T001514Z
LAST-MODIFIED:20260209T053813Z
UID:4229-1772841600-1772927999@romarevealed.com.au
SUMMARY:Wallumbilla Rodeo
DESCRIPTION:The Wallumbilla Rodeo is riding into town on 7th March 2026\, and you won’t want to miss it!Get ready for big rides\, great atmosphere\, and a true country showdown. More details coming soon — so keep your eyes peeled and your calendars marked!
URL:https://romarevealed.com.au/event/wallumbilla-rodeo/
LOCATION:Wallumbilla Show Grounds\, 27 Burke Street\, Wallumbilla\, QLD\, 4428\, Australia
CATEGORIES:Community & Family,Music, Performance & Entertainment,Sports & Recreation
ATTACH;FMTTYPE=image/png:https://romarevealed.com.au/wp-content/uploads/2025/02/Stay-Tuned.png
ORGANIZER;CN="Wallumbilla Agricultural Pastoral Association":MAILTO:wallumbillashow@gmail.com
END:VEVENT
BEGIN:VEVENT
DTSTART;TZID=Australia/Brisbane:20260306T063000
DTEND;TZID=Australia/Brisbane:20260306T083000
DTSTAMP:20260422T211128
CREATED:20250131T004746Z
LAST-MODIFIED:20260209T054213Z
UID:4211-1772778600-1772785800@romarevealed.com.au
SUMMARY:Zonta Club of Roma's International Womens Day Breakfast
DESCRIPTION:Join us for a delicious breakfast as you start your day. To be held on Friday 6th March\, 6.30 am at the new venue\, The Roma Gun Club. Our guest speaker this year will be Detective Senior Constable Nat Bennett\, member of the QPS and also proprietor of Nat Benn Photography. Nat has led an interesting life so far and will be sharing some of those tales with us over breakfast! Proceeds of the morning will assist the Maranoa Netball Association in their bid to represent the region at this years U18 State Netball Carnival in Townsville. \nBookings essential. Book here: Zonta Club of Roma IWD Breakfast 2026 Tickets\, Roma Gun Club\, Roma | TryBooking Australia
URL:https://romarevealed.com.au/event/zonta-club-of-romas-international-womens-day-breakfast/
LOCATION:Roma Gun Club\, 155 Geoghegan Road\, Roma\, QLD\, 4455\, Australia
CATEGORIES:Business & Educational,Community & Family
ATTACH;FMTTYPE=image/png:https://romarevealed.com.au/wp-content/uploads/2025/01/Roma-Zonta-IWD-.png
ORGANIZER;CN="Zonta Club of Roma":MAILTO:roma@zontadistrict22.org
END:VEVENT
BEGIN:VEVENT
DTSTART;TZID=Australia/Brisbane:20260301T100000
DTEND;TZID=Australia/Brisbane:20260301T140000
DTSTAMP:20260422T211128
CREATED:20260108T035239Z
LAST-MODIFIED:20260209T053922Z
UID:4777-1772359200-1772373600@romarevealed.com.au
SUMMARY:Roma Showground Markets
DESCRIPTION:The Roma Showground Markets offers a mix of local produce\, handcrafted goods\, unique artisan products\, and delicious food stalls. \nHeld on the first Sunday of every month\, the markets provide a perfect opportunity to support local vendors and discover what they have to offer.
URL:https://romarevealed.com.au/event/roma-showground-markets-14/
LOCATION:Bassett Park Showgrounds\, Northern Road\, Roma\, QLD\, 4455\, Australia
CATEGORIES:Arts & Culture,Community & Family,Food & Drink
ATTACH;FMTTYPE=image/png:https://romarevealed.com.au/wp-content/uploads/2024/08/Roma-Showground-Markets-1.png
END:VEVENT
BEGIN:VEVENT
DTSTART;TZID=Australia/Brisbane:20260228T183000
DTEND;TZID=Australia/Brisbane:20260228T203000
DTSTAMP:20260422T211128
CREATED:20260108T042329Z
LAST-MODIFIED:20260108T042329Z
UID:4783-1772303400-1772310600@romarevealed.com.au
SUMMARY:Honky Tonk Queens
DESCRIPTION:Honky Tonk Queens is a dazzling tribute show led by the incredibly talented Amber Joy Poulton\, celebrating the legendary women who shaped the golden era of country music. \nWith her rich\, soulful voice and magnetic stage presence\, Amber Joy pays homage to the iconic queens of country\, including the unforgettable Patsy Cline\, the legendary Dolly Parton\, and the trailblazing Loretta Lynn. This heartfelt performance takes audiences on a nostalgic journey through the timeless classics that defined a generation and continue to inspire music lovers today. \nRefreshments will be available for purchase. \nTickets available online and at the door. Book here: Honky Tonk Queens- Injune Tickets\, Sat\, Feb 28\, 2026 at 6:30 PM | Eventbrite
URL:https://romarevealed.com.au/event/honky-tonk-queens/
LOCATION:Injune Memorial Hall
CATEGORIES:Arts & Culture,Music, Performance & Entertainment,Performing Arts
ATTACH;FMTTYPE=image/png:https://romarevealed.com.au/wp-content/uploads/2026/01/Honky-Tonk-Queens.png
ORGANIZER;CN="Cultural Heritage of Injune Preservation Society":MAILTO:chips.injune@gmail.com
END:VEVENT
BEGIN:VEVENT
DTSTART;TZID=Australia/Brisbane:20260228T120000
DTEND;TZID=Australia/Brisbane:20260228T210000
DTSTAMP:20260422T211128
CREATED:20260219T045924Z
LAST-MODIFIED:20260219T045924Z
UID:4812-1772280000-1772312400@romarevealed.com.au
SUMMARY:Wallumbilla Community Clinic turns 100
DESCRIPTION:Secure your free tickets now! The Wallumbilla Community Clinic is turning 100!! And we have some fantastic plans to mark the occasion.Join us on 28th February for our Official Ceremony at noon then celebrate from 3pm til late at our free ‘Love the Skin You’re In’ event featuring guest speaker\, the Lambassador himself\, Sam Kekovich! Free family friendly event Catering for purchase onsite by The Phat Wag Market stalls Raffles & Charity Auction Cooking Demo’s Free skin info packs available for the first 100 arrivals Bar & Live entrainmentPlus so much more!!Bookings essential for catering purposes. Book via the QR code or click on the link below 
URL:https://romarevealed.com.au/event/wallumbilla-community-clinic-turns-100/
LOCATION:Wallumbilla Show Grounds\, 27 Burke Street\, Wallumbilla\, QLD\, 4428\, Australia
CATEGORIES:Community & Family
ATTACH;FMTTYPE=image/png:https://romarevealed.com.au/wp-content/uploads/2026/02/Wallumbilla-Community-Clinic-100-Years.png
END:VEVENT
BEGIN:VEVENT
DTSTART;VALUE=DATE:20260228
DTEND;VALUE=DATE:20260302
DTSTAMP:20260422T211128
CREATED:20260128T034018Z
LAST-MODIFIED:20260128T034238Z
UID:4788-1772236800-1772409599@romarevealed.com.au
SUMMARY:Surat Clay Target Club Annual Two Day Carnival
DESCRIPTION:Surat Clay Target Club is hosting its Annual Two Day Carnival on Friday 28th February & Saturday 1st March at the Warroo Sporting Complex\, Surat. \n9am start on Day OneTwo full days of great competition\, including:• Point Score C/D• State Continental Championship• Double Barrel Championship• Handicap & Double Rise eventsFully cateredCamping & powered sites availableWhether you’re chasing titles or just a cracking weekend of shooting and camaraderie\, this is one you won’t want to miss.
URL:https://romarevealed.com.au/event/surat-clay-target-club-annual-two-day-carnival/
LOCATION:Warroo Sporting Complex\, Surat Developmental Road\, Surat\, QLD\, 4417\, Australia
CATEGORIES:Sports & Recreation
ATTACH;FMTTYPE=image/jpeg:https://romarevealed.com.au/wp-content/uploads/2026/01/Surat-Clay-Target-Shoot.jpg
ORGANIZER;CN="Surat Clay Target Club":MAILTO:suratclaytargetclub@bigpond.com
END:VEVENT
BEGIN:VEVENT
DTSTART;VALUE=DATE:20260222
DTEND;VALUE=DATE:20260223
DTSTAMP:20260422T211128
CREATED:20250107T034820Z
LAST-MODIFIED:20260219T043809Z
UID:4123-1771718400-1771804799@romarevealed.com.au
SUMMARY:Bendemere Cup
DESCRIPTION:It’s a fresh new year of racing with a cracker of a race meet to start with! \nThe annual Bendemere Cup is a special one\, acknowledging an important part of the region’s history dating back to when the Roma Turf Club was formed from the amalgamation of the district’s previous racing groups. \nJoin the locals at the track for a day full of racing fun!
URL:https://romarevealed.com.au/event/bendemere-cup/
LOCATION:Roma Turf Club\, Bassett Park\, Northern Road\, Roma\, Queensland\, 4455\, Australia
CATEGORIES:Races
ATTACH;FMTTYPE=image/png:https://romarevealed.com.au/wp-content/uploads/2025/01/Bendemere-Cup.png
ORGANIZER;CN="Roma Turf Club":MAILTO:info@romaturfclub.org.au
END:VEVENT
BEGIN:VEVENT
DTSTART;TZID=Australia/Brisbane:20260221T193000
DTEND;TZID=Australia/Brisbane:20260221T193000
DTSTAMP:20260422T211128
CREATED:20260219T045413Z
LAST-MODIFIED:20260219T045413Z
UID:4810-1771702200-1771702200@romarevealed.com.au
SUMMARY:Dad Joke Competition
DESCRIPTION:Whether you just want a funny night out of you want to put your joke skills to the test\, this family night out will showcase the top (and not so top  ) talent in Roma
URL:https://romarevealed.com.au/event/dad-joke-competition/
LOCATION:Royal on Ninety-Nine\, 99 McDowall Street\, Roma\, Queensland\, 4455\, Australia
CATEGORIES:Music, Performance & Entertainment
ATTACH;FMTTYPE=image/jpeg:https://romarevealed.com.au/wp-content/uploads/2026/02/631599656_770084869495255_1656825088054369249_n.jpg
ORGANIZER;CN="The Bloke with a Beard":MAILTO:admin@theblokewithabeard.com
END:VEVENT
BEGIN:VEVENT
DTSTART;TZID=Australia/Brisbane:20260217T170000
DTEND;TZID=Australia/Brisbane:20260217T170000
DTSTAMP:20260422T211128
CREATED:20260126T235054Z
LAST-MODIFIED:20260126T235054Z
UID:4785-1771347600-1771347600@romarevealed.com.au
SUMMARY:Roma Library Trivia Night
DESCRIPTION:Are you smarter than a librarian? Come along to Trivia Night and find out… \n📍Roma Library \n📆 Tuesday 17th February 2026 \n🕰️5pm for a 5:30pm start \nRSVP to roma.library@maranoa.qld.gov.au or call 4624 0301.
URL:https://romarevealed.com.au/event/roma-library-trivia-night/
LOCATION:Roma Library\, 38-44 Hawthorne Street\, Roma\, QLD\, 4455\, Australia
CATEGORIES:Arts & Culture,Community & Family
ATTACH;FMTTYPE=image/png:https://romarevealed.com.au/wp-content/uploads/2026/01/Library-Trivia.png
ORGANIZER;CN="Roma Library":MAILTO:roma.library@maranoa.qld.gov.au
END:VEVENT
BEGIN:VEVENT
DTSTART;TZID=Australia/Brisbane:20260215T093000
DTEND;TZID=Australia/Brisbane:20260215T103000
DTSTAMP:20260422T211128
CREATED:20251205T000129Z
LAST-MODIFIED:20260128T032835Z
UID:4764-1771147800-1771151400@romarevealed.com.au
SUMMARY:Sunday Sweat & Sip
DESCRIPTION:Join us for Roma’s favourite Pilates event — Sunday Sip & Sweat — a 50-minute Mat Pilates session on the distillery verandah at Western QLD Spirit Distillery\, followed by a refreshing post-session cocktail. \nWhat’s included in your $40 ticket: \n\n\n50-minute Mat Pilates session (all levels welcome) \n\n\nA post-class cocktail to sip and socialise \n\n\nOptional food add-ons available when booking \n\n\nMats provided \n\n\nOur last event sold out fast — don’t miss your chance this time around! \nBookings required. Purchase your ticket here: Studio M Pilates Roma – Boutique Reformer and Mat Pilates Studio \n 
URL:https://romarevealed.com.au/event/sunday-sweat-sip-3/
LOCATION:Western Queensland Spirit\, 50 Bungewogari Lane\, Roma\, QLD\, 4455
CATEGORIES:Food & Drink,Sports & Recreation
ATTACH;FMTTYPE=image/png:https://romarevealed.com.au/wp-content/uploads/2025/12/589735308_122156393342804700_2578005583827190690_n.png
ORGANIZER;CN="Studio M Pilates":MAILTO:maddie@studiompilates.com.au
END:VEVENT
BEGIN:VEVENT
DTSTART;VALUE=DATE:20260215
DTEND;VALUE=DATE:20260217
DTSTAMP:20260422T211128
CREATED:20260108T041424Z
LAST-MODIFIED:20260108T041424Z
UID:4781-1771113600-1771286399@romarevealed.com.au
SUMMARY:Daniel Butterworth Workshop
DESCRIPTION:An opportunity not to be missed! \nThis workshop is following the opening of The Wealth by Daniel Butterworth at the Roma on Bungil Gallery on Friday 13 February. \nRegister with Debbie Duff on 0447125115.
URL:https://romarevealed.com.au/event/daniel-butterworth-workshop/
LOCATION:Injune Memorial Hall
CATEGORIES:Arts & Culture
ATTACH;FMTTYPE=image/png:https://romarevealed.com.au/wp-content/uploads/2026/01/Daniel-Butterworth-Workshop.png
END:VEVENT
BEGIN:VEVENT
DTSTART;TZID=Australia/Brisbane:20260214T180000
DTEND;TZID=Australia/Brisbane:20260214T210000
DTSTAMP:20260422T211128
CREATED:20260209T053457Z
LAST-MODIFIED:20260209T053457Z
UID:4795-1771092000-1771102800@romarevealed.com.au
SUMMARY:Valentine's Date Night
DESCRIPTION:Book in for a romantic Valentine’s evening at Western Queensland Spirit and share a three-course dinner with someone special.\n\nBegin with a refreshing Lemoncello spritz on arrival before enjoying entrees of caprese salad and pumpkin arancini. For main\, indulge in a rich 6-hour lasagna with a rocket\, pinenut & parmesan salad. Finish the night on a sweet note with a decadent tiramisu featuring our Sticky Date Liqueur.\n\nBookings essential: Valentines Day Dinner Tickets | Western Queensland Spirit
URL:https://romarevealed.com.au/event/valentines-date-night/
LOCATION:Western Queensland Spirit\, 50 Bungewogari Lane\, Roma\, QLD\, 4455
CATEGORIES:Food & Drink
ATTACH;FMTTYPE=image/png:https://romarevealed.com.au/wp-content/uploads/2026/02/Date-Night.png
ORGANIZER;CN="Western Queensland Spirit":MAILTO:info@westernqldspirit.com
END:VEVENT
BEGIN:VEVENT
DTSTART;TZID=Australia/Brisbane:20260214T160000
DTEND;TZID=Australia/Brisbane:20260214T160000
DTSTAMP:20260422T211128
CREATED:20260209T053016Z
LAST-MODIFIED:20260209T053016Z
UID:4793-1771084800-1771084800@romarevealed.com.au
SUMMARY:Cocktail Class at Western Queensland Spirit
DESCRIPTION:Shake\, stir & muddle your way through the art of cocktail making in Western Queensland Spirit’s interactive cocktail class. \nGuided by our expert mixologists\, you’ll craft three cocktails across different styles while learning the techniques and secrets behind each method. Along the way\, you’ll explore flavour balancing\, presentation tips. Perfect for those looking to improve their home bartending game\, or for those looking for a fun & delicious afternoon activity. \nBookings required. Book your spot: Cocktail Class Tickets | Western Queensland Spirit
URL:https://romarevealed.com.au/event/cocktail-class-at-western-queensland-spirit/
LOCATION:Western Queensland Spirit\, 50 Bungewogari Lane\, Roma\, QLD\, 4455
CATEGORIES:Food & Drink
ATTACH;FMTTYPE=image/jpeg:https://romarevealed.com.au/wp-content/uploads/2026/02/Cocktail-Class.jpg
ORGANIZER;CN="Western Queensland Spirit":MAILTO:info@westernqldspirit.com
END:VEVENT
BEGIN:VEVENT
DTSTART;TZID=Australia/Brisbane:20260213T173000
DTEND;TZID=Australia/Brisbane:20260213T173000
DTSTAMP:20260422T211128
CREATED:20260108T040816Z
LAST-MODIFIED:20260108T040816Z
UID:4778-1771003800-1771003800@romarevealed.com.au
SUMMARY:The Wealth by Daniel Butterworth Exhibition Opening
DESCRIPTION:The Wealth will feature portraits of Maranoa locals painted by Archibald prize finalist Daniel Butterworth. \nThis project has been a joint initiative of Roma on Bungil Gallery and Creative Injune. \nRSVP to secretary@romaonbungil.com.au.
URL:https://romarevealed.com.au/event/the-wealth-by-daniel-butterworth-exhibition-opening/
LOCATION:Roma on Bungil Gallery\, 38-44 Hawthorne Street\, Roma\, QLD\, 4455\, Australia
CATEGORIES:Arts & Culture
ATTACH;FMTTYPE=image/png:https://romarevealed.com.au/wp-content/uploads/2026/01/Daniel-Butterworth.png
ORGANIZER;CN="Roma on Bungil Gallery":MAILTO:secretary@romaonbungil.com.au
END:VEVENT
BEGIN:VEVENT
DTSTART;TZID=Australia/Brisbane:20260207T080000
DTEND;TZID=Australia/Brisbane:20260207T233000
DTSTAMP:20260422T211128
CREATED:20251124T032952Z
LAST-MODIFIED:20251124T032952Z
UID:4757-1770451200-1770507000@romarevealed.com.au
SUMMARY:Santos Roma Rugby 7s
DESCRIPTION:QUEENSLAND’s TOUGHEST RUGBY 7’s\n\nCup\, Plate and Bowl\nMusic Canteen BarAfter party till late \nBudgy Smugglers FLASH Off\n\n Competitive Men’s Championship Social Men’s Championship Competitive Women’s Championship Social Women’s Championship\n Kick off Saturday 8:00AM
URL:https://romarevealed.com.au/event/santos-roma-rugby-7s-3/
LOCATION:Gallas Fox Park\, Gallas Fox Park\, Roma\, QLD\, 4455\, Australia
CATEGORIES:Sports & Recreation
ATTACH;FMTTYPE=image/jpeg:https://romarevealed.com.au/wp-content/uploads/2025/11/Roma-Rugby-7s.jpg
ORGANIZER;CN="Roma Echidnas":MAILTO:secretaryromarugby@gmail.com
END:VEVENT
BEGIN:VEVENT
DTSTART;VALUE=DATE:20260126
DTEND;VALUE=DATE:20260127
DTSTAMP:20260422T211128
CREATED:20260108T034708Z
LAST-MODIFIED:20260108T035020Z
UID:4772-1769385600-1769471999@romarevealed.com.au
SUMMARY:Australia Day Celebrations
DESCRIPTION:Celebrate Australia Day 2026!\n\n\nCelebrate Australia Day across the Maranoa with morning ceremonies\, including award presentations\, morning teas and cake cutting\, followed by afternoon fun with waterslides\, live music\, pools and BBQs! \nThere are Australia Day celebrations in towns across the region. Go to Australia Day | Maranoa Regional Council for more details
URL:https://romarevealed.com.au/event/australia-day-celebrations/
LOCATION:QLD
CATEGORIES:Community & Family
ATTACH;FMTTYPE=image/png:https://romarevealed.com.au/wp-content/uploads/2026/01/Australia-Day.png
ORGANIZER;CN="Maranoa Regional Council":MAILTO:council@maranoa.qld.gov.au
END:VEVENT
BEGIN:VEVENT
DTSTART;TZID=Australia/Brisbane:20260125T160000
DTEND;TZID=Australia/Brisbane:20260125T160000
DTSTAMP:20260422T211128
CREATED:20250106T011609Z
LAST-MODIFIED:20260108T034932Z
UID:4087-1769356800-1769356800@romarevealed.com.au
SUMMARY:Ironbark Raceway Australia Day Program
DESCRIPTION:Ironbark Raceway’s Australia Day program is filled with fun\, including Show & Shine\, drag racing\, billy cart racing\, and more. \n \n 
URL:https://romarevealed.com.au/event/ironbark-raceway-australia-day-program/
LOCATION:Ironbark Raceway Roma\, Ironbark Raceway Roma\, Roma\, QLD\, 4455\, Australia
CATEGORIES:Sports & Recreation
ATTACH;FMTTYPE=image/png:https://romarevealed.com.au/wp-content/uploads/2025/01/Ironbark-Raceway-Australia-Day-Program.png
ORGANIZER;CN="Ironbark Raceway Roma":MAILTO:president@ironbarkraceway.com.au
END:VEVENT
END:VCALENDAR