BEGIN:VCALENDAR
VERSION:2.0
PRODID:-//Roma Revealed - ECPv6.15.20//NONSGML v1.0//EN
CALSCALE:GREGORIAN
METHOD:PUBLISH
X-WR-CALNAME:Roma Revealed
X-ORIGINAL-URL:https://romarevealed.com.au
X-WR-CALDESC:Events for Roma Revealed
REFRESH-INTERVAL;VALUE=DURATION:PT1H
X-Robots-Tag:noindex
X-PUBLISHED-TTL:PT1H
BEGIN:VTIMEZONE
TZID:Australia/Brisbane
BEGIN:STANDARD
TZOFFSETFROM:+1000
TZOFFSETTO:+1000
TZNAME:AEST
DTSTART:20250101T000000
END:STANDARD
END:VTIMEZONE
BEGIN:VEVENT
DTSTART;TZID=Australia/Brisbane:20260428T170000
DTEND;TZID=Australia/Brisbane:20260428T170000
DTSTAMP:20260422T210741
CREATED:20260305T234406Z
LAST-MODIFIED:20260305T234406Z
UID:4819-1777395600-1777395600@romarevealed.com.au
SUMMARY:Aussie Trivia Night
DESCRIPTION:📍Roma Library \n📆 Tuesday 28th April 2026 \n🕰️5pm for a 5:30pm start \nℹ️ Tying in with ANZAC day\, this trivia night celebrates the indominable – and irreverent – Aussie spirit with questions about quirky characters\, comedies and classics that makes up this wonderful ‘Straya Culcha’ (Australian Culture).  No sports questions\, no political questions: we trivia like real nerds\, the way nature intended.
URL:https://romarevealed.com.au/event/aussie-trivia-night/
LOCATION:Roma Library\, 38-44 Hawthorne Street\, Roma\, QLD\, 4455\, Australia
CATEGORIES:Arts & Culture,Community & Family
ATTACH;FMTTYPE=image/png:https://romarevealed.com.au/wp-content/uploads/2026/03/Trivia.png
ORGANIZER;CN="Roma Library":MAILTO:roma.library@maranoa.qld.gov.au
END:VEVENT
END:VCALENDAR